BEGIN:VCALENDAR
VERSION:2.0
PRODID:-//AIA Austin Calendar - ECPv6.7.0//NONSGML v1.0//EN
CALSCALE:GREGORIAN
METHOD:PUBLISH
X-ORIGINAL-URL:https://calendar.aiaaustin.org
X-WR-CALDESC:Events for AIA Austin Calendar
REFRESH-INTERVAL;VALUE=DURATION:PT1H
X-Robots-Tag:noindex
X-PUBLISHED-TTL:PT1H
BEGIN:VTIMEZONE
TZID:America/Chicago
BEGIN:DAYLIGHT
TZOFFSETFROM:-0600
TZOFFSETTO:-0500
TZNAME:CDT
DTSTART:20250309T080000
END:DAYLIGHT
BEGIN:STANDARD
TZOFFSETFROM:-0500
TZOFFSETTO:-0600
TZNAME:CST
DTSTART:20251102T070000
END:STANDARD
END:VTIMEZONE
BEGIN:VEVENT
DTSTART;TZID=America/Chicago:20251112T183000
DTEND;TZID=America/Chicago:20251112T210000
DTSTAMP:20260424T063153
CREATED:20250821T195654Z
LAST-MODIFIED:20251106T181348Z
UID:10004235-1762972200-1762981200@calendar.aiaaustin.org
SUMMARY:Design Austin | Design Minded: “Helvetica” Screening
DESCRIPTION:Design Minded is a Design Austin series in partnership with The Contemporary Austin. Join us on their downtown Moody Rooftop for inspiring film screenings\, thought-provoking talks\, and to meet other design-minded creatives. The final event of 2025 is a screening of Helvetica! Use code DESIGNMINDEDGUEST for half-price admission. \nHelvetica (2007) is a cinematic exploration of urban spaces in major cities and the type that inhabits them\, and a fluid discussion with renowned designers about their work\, the creative process\, and the choices and aesthetics behind their use of type. Helvetica encompasses the worlds of design\, advertising\, psychology\, and communication\, and invites us to take a second look at the thousands of words we see every day. \nInterviewees in Helvetica include some of the most illustrious and innovative names in the design world\, including Erik Spiekermann\, Matthew Carter\, Massimo Vignelli\, Wim Crouwel\, Hermann Zapf\, Neville Brody\, Stefan Sagmeister\, Michael Bierut\, David Carson\, Paula Scher\, Jonathan Hoefler\, Tobias Frere-Jones\, Experimental Jetset\, Michael C. Place\, Norm\, Alfred Hoffmann\, Mike Parker\, Bruno Steinert\, Otmar Hoefer\, Leslie Savan\, Rick Poynor\, and Lars Müller. \nTickets include access to view the exhibitions on view\, complimentary drinks\, and admission to the rooftop event. Feel free to arrive early to view the galleries. \nThe museum and rooftop are wheelchair accessible and there will be a designated mobility assisted seating area in the front row. If you need additional accommodation requests\, please email salexander@thecontemporaryaustin.org. \n6:30P Rooftop seating & bar opens\n7P Remarks & Film\n9P Museum Closes
URL:https://calendar.aiaaustin.org/event/design-austin-design-minded-helvetica-screening/
LOCATION:The Contemporary Austin – Jones Center\, 700 Congress Avenue\, Austin\, 78701\, United States
CATEGORIES:DesignAustin
ATTACH;FMTTYPE=image/jpeg:https://calendar.aiaaustin.org/wp-content/uploads/2025/08/43965-helvetica-0-1000-0-1500-crop-e1755806200395.jpeg
END:VEVENT
BEGIN:VEVENT
DTSTART;TZID=America/Chicago:20251015T180000
DTEND;TZID=America/Chicago:20251015T210000
DTSTAMP:20260424T063153
CREATED:20250731T182619Z
LAST-MODIFIED:20251006T182613Z
UID:10003860-1760551200-1760562000@calendar.aiaaustin.org
SUMMARY:Design Austin | Design Minded: Joey Zeledón
DESCRIPTION:Design Austin is dedicated to celebrating the impact of design in our city and beyond through engaging events\, exhibitions\, and collaborations. Design Minded is an event series created in partnership with The Contemporary Austin. Join us on their downtown Moody Rooftop for inspiring film screenings\, thought-provoking talks\, and to meet other design-minded creatives. \nThis fall\, the series continues on Wednesday\, October 15 with a design talk by Joey Zeledón (he/they/she). They will explore the transformative nature of design through the lens of their personal experience as a trans designer. Drawing from nearly two decades as an industrial designer designing shoes\, furniture\, housewares\, tech and more\, Joey will examine how both design and trans identity involve iterative processes of expressing an authentic identity through visual and physical forms and challenge conventional boundaries\, creating new ways of engaging with the world. Joey will show how design is a universal language for navigating change and expressing our authentic selves through life and all its transitions. Design can help us make sense of ourselves\, no matter who we are or how we identify. \nThe AIA Austin LGTBQIA+ Alliance will join us for this event as our community partner and facilitate a Q&A following the talk. Meet the co-chairs Sarah Biesterveld and John Stenzel and learn about upcoming committee events. “Our mission is to preserve and celebrate queer space while supporting LGBTQIA+ designers in Austin and beyond. We aim to create a safe environment for conversation\, build community\, and foster diversity and inclusion within our profession and organization” \nSchedule for the evening: \n\n6:30P: Rooftop seating & bar opens\n7P: Design talk by Joey Zeledón\n7:30P-8:15P: Q&A facilitated by Sarah Biesterveld and John Stenzel\, co-chairs of AIA Austin LGTBQIA+ Alliance\n\nTickets include access to view the exhibitions on view\, complimentary drinks\, and admission to the rooftop event. Feel free to arrive early to view the galleries. \nThe museum and rooftop are wheelchair accessible and there will be a designated mobility assisted seating area in the front row. If you need additional accommodation requests\, please email salexander@thecontemporaryaustin.org.
URL:https://calendar.aiaaustin.org/event/design-austin-design-minded-joey-zeledon/
LOCATION:The Contemporary Austin – Jones Center\, 700 Congress Avenue\, Austin\, 78701\, United States
CATEGORIES:DesignAustin
ATTACH;FMTTYPE=image/jpeg:https://calendar.aiaaustin.org/wp-content/uploads/2025/07/25.10.15-WEB-DA-DM-Joey-Zeledon.jpg
END:VEVENT
BEGIN:VEVENT
DTSTART;TZID=America/Chicago:20250416T180000
DTEND;TZID=America/Chicago:20250416T203000
DTSTAMP:20260424T063153
CREATED:20250318T194118Z
LAST-MODIFIED:20250402T135054Z
UID:10003132-1744826400-1744835400@calendar.aiaaustin.org
SUMMARY:Design Austin | Design Minded: Design for All Discussion
DESCRIPTION:The second event in the Design Minded series brings together a panel of designers\, architects\, and urban planners to explore the concept of Design For All and how inclusivity\, accessibility\, and belonging are embedded in their practices. Moderated by Gerardo Gandy\, AIA\, Brand Experience Practice Leader at Gensler and project lead on Design Austin’s ATX Voices project\, confirmed panelists are: \n\nKate Canales\, Professor of Practice and founding leader of the School of Design and Creative Technologies (SDCT) at The University of Texas at Austin\nRaasin McIntosh\, Founder\, Raasin in the Sun; Vice President of Urban Activation at the Downtown Austin Alliance\nNatale Stephens\, AIA\, Certified Healthcare Architect\, Principal\, and Regional Healthcare Director at Page\nAaron Taylor\, AIA\, Associate\, McKinney York Architects
URL:https://calendar.aiaaustin.org/event/design-austin-design-minded-design-for-all-discussion/
LOCATION:The Contemporary Austin – Jones Center\, 700 Congress Avenue\, Austin\, 78701\, United States
CATEGORIES:DesignAustin
ATTACH;FMTTYPE=image/jpeg:https://calendar.aiaaustin.org/wp-content/uploads/2025/03/General-Image-DM-Event.jpg
END:VEVENT
BEGIN:VEVENT
DTSTART;TZID=America/Chicago:20250326T192000
DTEND;TZID=America/Chicago:20250326T220000
DTSTAMP:20260424T063153
CREATED:20250227T184221Z
LAST-MODIFIED:20250321T145336Z
UID:10003112-1743016800-1743026400@calendar.aiaaustin.org
SUMMARY:Design Austin | PechaKucha #39
DESCRIPTION:PechaKucha is an informal gathering where creative people get together and share their ideas\, works\, thoughts\, and just about anything. \nSOLD OUT: PECHAKUCHA AUSTIN #39\nMoody Rooftop at The Contemporary Austin Jones Center // 700 Congress Avenue\, 78701\nPechaKucha Austin #39 Lineup and Order\n1 sharon maidenberg—Director\, The Contemporary Austin\n2  Lope Gutierrez-Ruiz—Graphic Designer\n3 Jes Fraley—Interior Designer\n4 Michael O’Brien—Photographer\n5 Kelly Mickwee—Singer/Songwriter \nB R E A K \n6 Daniel Woodroffe—Landscape Architect\n7 Virginia L. Montgomery– Multimedia Artist\n8 John Kunz—Founder\, Waterloo Records\n9 Michael Ray Charles—Artist\n10 Candace Cooper—Film Producer
URL:https://calendar.aiaaustin.org/event/design-austin-pechakucha-39/
LOCATION:The Contemporary Austin – Jones Center\, 700 Congress Avenue\, Austin\, 78701\, United States
CATEGORIES:DesignAustin
ATTACH;FMTTYPE=image/jpeg:https://calendar.aiaaustin.org/wp-content/uploads/2024/09/PechaKucha-Event-Image.jpg
END:VEVENT
BEGIN:VEVENT
DTSTART;TZID=America/Chicago:20250305T180000
DTEND;TZID=America/Chicago:20250305T210000
DTSTAMP:20260424T063153
CREATED:20250204T194751Z
LAST-MODIFIED:20250204T194751Z
UID:10003094-1741197600-1741208400@calendar.aiaaustin.org
SUMMARY:Design Austin | Design Minded: PlayTime
DESCRIPTION:GET TICKETS\nStaged on the Moody Rooftop at The Contemporary Austin\, we are excited to host a film screening of PlayTime (1967) by Jacque Tati. The film is a gloriously choreographed\, nearly wordless comedy about confusion in an age of high technology and the alienation of modern architecture. The most ambitious of Tati’s films\, PlayTime had its 70mm debut in Paris in 1967\, after nearly three years of bank-breaking production. With every inch of its superwide frame crammed with hilarity and inventiveness\, PlayTime is a lasting record of a modern era tiptoeing on the edge of oblivion. \n\nDesign Minded is an event series created by Design Austin in partnership with The Contemporary Austin. Showcasing the talented work of architects\, designers\, and artists in Austin and beyond\, we hope you’ll join us for inspiring film screenings and thought-provoking talks and meet other design-minded creatives.
URL:https://calendar.aiaaustin.org/event/design-austin-design-minded-playtime/
LOCATION:The Contemporary Austin – Jones Center\, 700 Congress Avenue\, Austin\, 78701\, United States
CATEGORIES:DesignAustin
ATTACH;FMTTYPE=image/jpeg:https://calendar.aiaaustin.org/wp-content/uploads/2025/02/DM-Header.jpg
END:VEVENT
END:VCALENDAR