BEGIN:VCALENDAR
VERSION:2.0
PRODID:-//AIA Austin Calendar - ECPv6.7.0//NONSGML v1.0//EN
CALSCALE:GREGORIAN
METHOD:PUBLISH
X-WR-CALNAME:AIA Austin Calendar
X-ORIGINAL-URL:https://calendar.aiaaustin.org
X-WR-CALDESC:Events for AIA Austin Calendar
REFRESH-INTERVAL;VALUE=DURATION:PT1H
X-Robots-Tag:noindex
X-PUBLISHED-TTL:PT1H
BEGIN:VTIMEZONE
TZID:America/Chicago
BEGIN:DAYLIGHT
TZOFFSETFROM:-0600
TZOFFSETTO:-0500
TZNAME:CDT
DTSTART:20250309T080000
END:DAYLIGHT
BEGIN:STANDARD
TZOFFSETFROM:-0500
TZOFFSETTO:-0600
TZNAME:CST
DTSTART:20251102T070000
END:STANDARD
END:VTIMEZONE
BEGIN:VEVENT
DTSTART;TZID=America/Chicago:20250430T170000
DTEND;TZID=America/Chicago:20250430T190000
DTSTAMP:20260420T112159
CREATED:20250402T142806Z
LAST-MODIFIED:20250429T203710Z
UID:10003146-1746032400-1746039600@calendar.aiaaustin.org
SUMMARY:BEC: Austin + BS & Beer - Project Tour and Happy Hour
DESCRIPTION:Join us for a project tour and happy hour of Cosmic Saltillo in collaboration with Austin’s BS* and Beer group. George Wilcox will build off his presentation from last year’s BEC symposium explaining some of the innovative solutions to transform an old Texaco warehouse into Cosmic Saltillo Coffee + Beer Garden. \nThe tour will cover strategies for water management\, air sealing\, and insulating an existing building. Ticket purchase includes Happy Hour sponsored by Rockwool. \n*BS = Building Science. \nTHIS EVENT IS SOLD OUT
URL:https://calendar.aiaaustin.org/event/bec-austin-bs-beer-tour-and-happy-hour/
LOCATION:Cosmic Saltillo\, 1300 E 4th St\, Austin\, 78702\, United States
CATEGORIES:BEC: Austin Committee
ATTACH;FMTTYPE=image/jpeg:https://calendar.aiaaustin.org/wp-content/uploads/2025/04/Email-Graphic-4.30.jpg
ORGANIZER;CN="BEC%3A Austin":MAILTO:julia@aiaaustin.org
END:VEVENT
BEGIN:VEVENT
DTSTART;TZID=America/Chicago:20250424T080000
DTEND;TZID=America/Chicago:20250424T100000
DTSTAMP:20260420T112159
CREATED:20250130T185906Z
LAST-MODIFIED:20250422T183524Z
UID:10003091-1745481600-1745488800@calendar.aiaaustin.org
SUMMARY:WiA Coffee & Coworking
DESCRIPTION:Work remotely and looking to connect with others? Work in an office but would love to start your day off with some fantastic women? Come join us for coffee & coworking! This is one of our initiatives to connect with each other. Whether you’re looking to get out of your house\, or just hoping to mingle with our wonderful community\, we’d love to have coffee with you. \nThursday\, April 24\nMingling starts at 8:00 am and coworking starts at 9:00 am. \nNO REGISTRATION REQUIRED\nEvent is at Cosmic Saltillo (1300 E 4th St\, Austin\, 78702)
URL:https://calendar.aiaaustin.org/event/wia-coffee-coworking-2/
LOCATION:Cosmic Saltillo\, 1300 E 4th St\, Austin\, 78702\, United States
CATEGORIES:Women in Architecture Committee
ATTACH;FMTTYPE=image/png:https://calendar.aiaaustin.org/wp-content/uploads/2025/01/Coffee-and-Coworking-01-LinkedIn.png
END:VEVENT
BEGIN:VEVENT
DTSTART;TZID=America/Chicago:20250318T180000
DTEND;TZID=America/Chicago:20250318T190000
DTSTAMP:20260420T112159
CREATED:20250311T170541Z
LAST-MODIFIED:20250311T170811Z
UID:10003016-1742320800-1742324400@calendar.aiaaustin.org
SUMMARY:LGBTQIA+ Alliance Meeting
DESCRIPTION:We are gathering at a different location this month\, Cosmic Saltillo\, 1300 E 4th St\, Austin\, TX 78702. We’ll make our own zines while we talk through upcoming events and planning needs. Hope to see you there! \nMarch Meeting Agenda: \n\n\n6:00 pm – grab a drink and gossip about the week\n\n\n6:15 pm – committee content\n\n\nsecond annual Queer Austin Bike Tour – QABT2.0: register here (March 22)\n\n\nQTOPIA zine event: (April 24)\n\n\nexploratory zine activity – paper\, scissors\, and markers provided\n\n\n\n\nHill Country Ride for AIDS: join our team! HCRA (May 3)\n\n\n\n\n6:45 pm – final tea?\n\n\n7:00 pm – official meeting adjourned
URL:https://calendar.aiaaustin.org/event/lgbtqia-alliance-meeting-13/
LOCATION:Cosmic Saltillo\, 1300 E 4th St\, Austin\, 78702\, United States
CATEGORIES:LGBTQIA+ Alliance Committee
ATTACH;FMTTYPE=image/jpeg:https://calendar.aiaaustin.org/wp-content/uploads/2023/05/lgbtqia_alliance.jpg
END:VEVENT
END:VCALENDAR