BEGIN:VCALENDAR
VERSION:2.0
PRODID:-//AIA Austin Calendar - ECPv6.7.0//NONSGML v1.0//EN
CALSCALE:GREGORIAN
METHOD:PUBLISH
X-ORIGINAL-URL:https://calendar.aiaaustin.org
X-WR-CALDESC:Events for AIA Austin Calendar
REFRESH-INTERVAL;VALUE=DURATION:PT1H
X-Robots-Tag:noindex
X-PUBLISHED-TTL:PT1H
BEGIN:VTIMEZONE
TZID:America/Chicago
BEGIN:DAYLIGHT
TZOFFSETFROM:-0600
TZOFFSETTO:-0500
TZNAME:CDT
DTSTART:20230312T080000
END:DAYLIGHT
BEGIN:STANDARD
TZOFFSETFROM:-0500
TZOFFSETTO:-0600
TZNAME:CST
DTSTART:20231105T070000
END:STANDARD
END:VTIMEZONE
BEGIN:VEVENT
DTSTART;TZID=America/Chicago:20231005T120000
DTEND;TZID=America/Chicago:20231005T130000
DTSTAMP:20260424T145423
CREATED:20230921T190733Z
LAST-MODIFIED:20230921T190953Z
UID:10000911-1696507200-1696510800@calendar.aiaaustin.org
SUMMARY:CRAN Tour: CoXist
DESCRIPTION:Unicorn Lots – Addressing the Challenges of Building on Undeveloped Lots in Austin \nWith Austin’s growth\, it’s not often you find an acre of undeveloped land overlooking Lake Austin. Undeveloped lots come with their own issues: addressing the native environment; bringing in power\, water\, and waste management. There are a lot of layers to the planning and collaboration at the onset of the project. Lakeview Terrace is an Architect as Developer project: finding a lot in an area with growth potential was critical to site selection. The single-family home will be just under 7500 s.f. with garage.
URL:https://calendar.aiaaustin.org/event/cran-tour-coxist/
LOCATION:78730\, Address provided at registration\, TX\, 78730\, United States
CATEGORIES:Custom Residential Architects Network Committee
ATTACH;FMTTYPE=image/jpeg:https://calendar.aiaaustin.org/wp-content/uploads/2023/09/OCT-23-Lakeview-Terrace_Aerial-View.jpg
END:VEVENT
END:VCALENDAR