BEGIN:VCALENDAR
VERSION:2.0
PRODID:-//AIA Austin Calendar - ECPv6.7.0//NONSGML v1.0//EN
CALSCALE:GREGORIAN
METHOD:PUBLISH
X-WR-CALNAME:AIA Austin Calendar
X-ORIGINAL-URL:https://calendar.aiaaustin.org
X-WR-CALDESC:Events for AIA Austin Calendar
REFRESH-INTERVAL;VALUE=DURATION:PT1H
X-Robots-Tag:noindex
X-PUBLISHED-TTL:PT1H
BEGIN:VTIMEZONE
TZID:America/Chicago
BEGIN:DAYLIGHT
TZOFFSETFROM:-0600
TZOFFSETTO:-0500
TZNAME:CDT
DTSTART:20230312T080000
END:DAYLIGHT
BEGIN:STANDARD
TZOFFSETFROM:-0500
TZOFFSETTO:-0600
TZNAME:CST
DTSTART:20231105T070000
END:STANDARD
BEGIN:DAYLIGHT
TZOFFSETFROM:-0600
TZOFFSETTO:-0500
TZNAME:CDT
DTSTART:20240310T080000
END:DAYLIGHT
BEGIN:STANDARD
TZOFFSETFROM:-0500
TZOFFSETTO:-0600
TZNAME:CST
DTSTART:20241103T070000
END:STANDARD
BEGIN:DAYLIGHT
TZOFFSETFROM:-0600
TZOFFSETTO:-0500
TZNAME:CDT
DTSTART:20250309T080000
END:DAYLIGHT
BEGIN:STANDARD
TZOFFSETFROM:-0500
TZOFFSETTO:-0600
TZNAME:CST
DTSTART:20251102T070000
END:STANDARD
END:VTIMEZONE
BEGIN:VEVENT
DTSTART;TZID=America/Chicago:20251014T180000
DTEND;TZID=America/Chicago:20251014T193000
DTSTAMP:20260420T004500
CREATED:20250822T150152Z
LAST-MODIFIED:20250822T151520Z
UID:10004236-1760464800-1760470200@calendar.aiaaustin.org
SUMMARY:Leadership Collective: PARTI
DESCRIPTION:Join us for a happy hour and open house for past\, present\, and prospective members of AIA Austin’s Leadership Collective. \nRSVP HERE>>
URL:https://calendar.aiaaustin.org/event/leadership-collective-parti-2/
LOCATION:Alfred Williams\, 6310 North Lamar Blvd.\, Austin\, 78752\, United States
CATEGORIES:Leadership Collective Committee
END:VEVENT
BEGIN:VEVENT
DTSTART;TZID=America/Chicago:20241016T180000
DTEND;TZID=America/Chicago:20241016T200000
DTSTAMP:20260420T004500
CREATED:20241009T142520Z
LAST-MODIFIED:20241009T142608Z
UID:10002403-1729101600-1729108800@calendar.aiaaustin.org
SUMMARY:Leadership Collective: PARTI
DESCRIPTION:Join us for a happy hour and open house for past\, present\, and prospective members of AIA Austin’s Leadership Collective! \nPlease RSVP here.
URL:https://calendar.aiaaustin.org/event/leadership-collective-parti/
LOCATION:Texas Society of Architects\, 500 Chicon St\, Austin\, 78702\, United States
CATEGORIES:Leadership Collective Committee
ATTACH;FMTTYPE=image/jpeg:https://calendar.aiaaustin.org/wp-content/uploads/2024/10/Parti-flyer-e1728483957732.jpg
END:VEVENT
BEGIN:VEVENT
DTSTART;TZID=America/Chicago:20230921T180000
DTEND;TZID=America/Chicago:20230921T200000
DTSTAMP:20260420T004500
CREATED:20230912T212446Z
LAST-MODIFIED:20230912T212958Z
UID:10000902-1695319200-1695326400@calendar.aiaaustin.org
SUMMARY:PARTI 2023: AIA Austin Leadership Collective Open House and Happy Hour
DESCRIPTION:Current and aspiring leaders in architecture and related professions are invited to PARTI! Mix and mingle with AIA Austin Leadership Collective (LC) past alumni and the current cohort to preview this innovative program. We will introduce you to the program as we open applications for the LC class of 2024. All are welcome!
URL:https://calendar.aiaaustin.org/event/parti-2023-aia-austin-leadership-collective-open-house-and-happy-hour/
LOCATION:Texas Society of Architects\, 500 Chicon St\, Austin\, 78702\, United States
ATTACH;FMTTYPE=image/jpeg:https://calendar.aiaaustin.org/wp-content/uploads/2023/09/AIA-Austin-Leadership-Collective_Parti-flyer.jpg
END:VEVENT
END:VCALENDAR