BEGIN:VCALENDAR
VERSION:2.0
PRODID:-//AIA Austin Calendar - ECPv6.7.0//NONSGML v1.0//EN
CALSCALE:GREGORIAN
METHOD:PUBLISH
X-ORIGINAL-URL:https://calendar.aiaaustin.org
X-WR-CALDESC:Events for AIA Austin Calendar
REFRESH-INTERVAL;VALUE=DURATION:PT1H
X-Robots-Tag:noindex
X-PUBLISHED-TTL:PT1H
BEGIN:VTIMEZONE
TZID:America/Chicago
BEGIN:DAYLIGHT
TZOFFSETFROM:-0600
TZOFFSETTO:-0500
TZNAME:CDT
DTSTART:20300310T080000
END:DAYLIGHT
BEGIN:STANDARD
TZOFFSETFROM:-0500
TZOFFSETTO:-0600
TZNAME:CST
DTSTART:20301103T070000
END:STANDARD
BEGIN:DAYLIGHT
TZOFFSETFROM:-0600
TZOFFSETTO:-0500
TZNAME:CDT
DTSTART:20310309T080000
END:DAYLIGHT
BEGIN:STANDARD
TZOFFSETFROM:-0500
TZOFFSETTO:-0600
TZNAME:CST
DTSTART:20311102T070000
END:STANDARD
END:VTIMEZONE
BEGIN:VEVENT
DTSTART;TZID=America/Chicago:20300419T113000
DTEND;TZID=America/Chicago:20300419T123000
DTSTAMP:20260424T105926
CREATED:20260409T224842Z
LAST-MODIFIED:20260409T225218Z
UID:10006244-1902828600-1902832200@calendar.aiaaustin.org
SUMMARY:Commercial Architecture
DESCRIPTION:Coming Soon
URL:https://calendar.aiaaustin.org/event/commercial-architecture/2030-04-19/
LOCATION:AIA Austin\, 801 W 12th St\, Austin\, TX\, 78701
END:VEVENT
BEGIN:VEVENT
DTSTART;TZID=America/Chicago:20300517T113000
DTEND;TZID=America/Chicago:20300517T123000
DTSTAMP:20260424T105926
CREATED:20260409T224842Z
LAST-MODIFIED:20260409T225218Z
UID:10006245-1905247800-1905251400@calendar.aiaaustin.org
SUMMARY:Commercial Architecture
DESCRIPTION:Coming Soon
URL:https://calendar.aiaaustin.org/event/commercial-architecture/2030-05-17/
LOCATION:AIA Austin\, 801 W 12th St\, Austin\, TX\, 78701
END:VEVENT
BEGIN:VEVENT
DTSTART;TZID=America/Chicago:20300621T113000
DTEND;TZID=America/Chicago:20300621T123000
DTSTAMP:20260424T105926
CREATED:20260409T224842Z
LAST-MODIFIED:20260409T225218Z
UID:10006246-1908271800-1908275400@calendar.aiaaustin.org
SUMMARY:Commercial Architecture
DESCRIPTION:Coming Soon
URL:https://calendar.aiaaustin.org/event/commercial-architecture/2030-06-21/
LOCATION:AIA Austin\, 801 W 12th St\, Austin\, TX\, 78701
END:VEVENT
BEGIN:VEVENT
DTSTART;TZID=America/Chicago:20300719T113000
DTEND;TZID=America/Chicago:20300719T123000
DTSTAMP:20260424T105926
CREATED:20260409T224842Z
LAST-MODIFIED:20260409T225218Z
UID:10006247-1910691000-1910694600@calendar.aiaaustin.org
SUMMARY:Commercial Architecture
DESCRIPTION:Coming Soon
URL:https://calendar.aiaaustin.org/event/commercial-architecture/2030-07-19/
LOCATION:AIA Austin\, 801 W 12th St\, Austin\, TX\, 78701
END:VEVENT
BEGIN:VEVENT
DTSTART;TZID=America/Chicago:20300816T113000
DTEND;TZID=America/Chicago:20300816T123000
DTSTAMP:20260424T105926
CREATED:20260409T224842Z
LAST-MODIFIED:20260409T225218Z
UID:10006248-1913110200-1913113800@calendar.aiaaustin.org
SUMMARY:Commercial Architecture
DESCRIPTION:Coming Soon
URL:https://calendar.aiaaustin.org/event/commercial-architecture/2030-08-16/
LOCATION:AIA Austin\, 801 W 12th St\, Austin\, TX\, 78701
END:VEVENT
BEGIN:VEVENT
DTSTART;TZID=America/Chicago:20300920T113000
DTEND;TZID=America/Chicago:20300920T123000
DTSTAMP:20260424T105926
CREATED:20260409T224842Z
LAST-MODIFIED:20260409T225218Z
UID:10006249-1916134200-1916137800@calendar.aiaaustin.org
SUMMARY:Commercial Architecture
DESCRIPTION:Coming Soon
URL:https://calendar.aiaaustin.org/event/commercial-architecture/2030-09-20/
LOCATION:AIA Austin\, 801 W 12th St\, Austin\, TX\, 78701
END:VEVENT
BEGIN:VEVENT
DTSTART;TZID=America/Chicago:20301018T113000
DTEND;TZID=America/Chicago:20301018T123000
DTSTAMP:20260424T105926
CREATED:20260409T224842Z
LAST-MODIFIED:20260409T225218Z
UID:10006250-1918553400-1918557000@calendar.aiaaustin.org
SUMMARY:Commercial Architecture
DESCRIPTION:Coming Soon
URL:https://calendar.aiaaustin.org/event/commercial-architecture/2030-10-18/
LOCATION:AIA Austin\, 801 W 12th St\, Austin\, TX\, 78701
END:VEVENT
BEGIN:VEVENT
DTSTART;TZID=America/Chicago:20301115T113000
DTEND;TZID=America/Chicago:20301115T123000
DTSTAMP:20260424T105926
CREATED:20260409T224842Z
LAST-MODIFIED:20260409T225218Z
UID:10006251-1920972600-1920976200@calendar.aiaaustin.org
SUMMARY:Commercial Architecture
DESCRIPTION:Coming Soon
URL:https://calendar.aiaaustin.org/event/commercial-architecture/2030-11-15/
LOCATION:AIA Austin\, 801 W 12th St\, Austin\, TX\, 78701
END:VEVENT
BEGIN:VEVENT
DTSTART;TZID=America/Chicago:20301220T113000
DTEND;TZID=America/Chicago:20301220T123000
DTSTAMP:20260424T105926
CREATED:20260409T224842Z
LAST-MODIFIED:20260409T225218Z
UID:10006252-1923996600-1924000200@calendar.aiaaustin.org
SUMMARY:Commercial Architecture
DESCRIPTION:Coming Soon
URL:https://calendar.aiaaustin.org/event/commercial-architecture/2030-12-20/
LOCATION:AIA Austin\, 801 W 12th St\, Austin\, TX\, 78701
END:VEVENT
BEGIN:VEVENT
DTSTART;TZID=America/Chicago:20310117T113000
DTEND;TZID=America/Chicago:20310117T123000
DTSTAMP:20260424T105926
CREATED:20260409T224842Z
LAST-MODIFIED:20260409T225218Z
UID:10006253-1926415800-1926419400@calendar.aiaaustin.org
SUMMARY:Commercial Architecture
DESCRIPTION:Coming Soon
URL:https://calendar.aiaaustin.org/event/commercial-architecture/2031-01-17/
LOCATION:AIA Austin\, 801 W 12th St\, Austin\, TX\, 78701
END:VEVENT
BEGIN:VEVENT
DTSTART;TZID=America/Chicago:20310221T113000
DTEND;TZID=America/Chicago:20310221T123000
DTSTAMP:20260424T105926
CREATED:20260409T224842Z
LAST-MODIFIED:20260409T225218Z
UID:10006254-1929439800-1929443400@calendar.aiaaustin.org
SUMMARY:Commercial Architecture
DESCRIPTION:Coming Soon
URL:https://calendar.aiaaustin.org/event/commercial-architecture/2031-02-21/
LOCATION:AIA Austin\, 801 W 12th St\, Austin\, TX\, 78701
END:VEVENT
BEGIN:VEVENT
DTSTART;TZID=America/Chicago:20310321T113000
DTEND;TZID=America/Chicago:20310321T123000
DTSTAMP:20260424T105926
CREATED:20260409T224842Z
LAST-MODIFIED:20260409T225218Z
UID:10006255-1931859000-1931862600@calendar.aiaaustin.org
SUMMARY:Commercial Architecture
DESCRIPTION:Coming Soon
URL:https://calendar.aiaaustin.org/event/commercial-architecture/2031-03-21/
LOCATION:AIA Austin\, 801 W 12th St\, Austin\, TX\, 78701
END:VEVENT
END:VCALENDAR