BEGIN:VCALENDAR
VERSION:2.0
PRODID:-//AIA Austin Calendar - ECPv6.7.0//NONSGML v1.0//EN
CALSCALE:GREGORIAN
METHOD:PUBLISH
X-ORIGINAL-URL:https://calendar.aiaaustin.org
X-WR-CALDESC:Events for AIA Austin Calendar
REFRESH-INTERVAL;VALUE=DURATION:PT1H
X-Robots-Tag:noindex
X-PUBLISHED-TTL:PT1H
BEGIN:VTIMEZONE
TZID:America/Chicago
BEGIN:DAYLIGHT
TZOFFSETFROM:-0600
TZOFFSETTO:-0500
TZNAME:CDT
DTSTART:20230312T080000
END:DAYLIGHT
BEGIN:STANDARD
TZOFFSETFROM:-0500
TZOFFSETTO:-0600
TZNAME:CST
DTSTART:20231105T070000
END:STANDARD
END:VTIMEZONE
BEGIN:VEVENT
DTSTART;TZID=America/Chicago:20230405T120000
DTEND;TZID=America/Chicago:20230405T120000
DTSTAMP:20260424T073227
CREATED:20230219T154805Z
LAST-MODIFIED:20230613T232437Z
UID:10000048-1680696000-1680696000@calendar.aiaaustin.org
SUMMARY:BEC: Austin Committee Meeting
DESCRIPTION:BEC: Austin is an interdisciplinary organization that promotes the exchange of information on building enclosures and related science specific to the climate of Central Texas. \nInterdisciplinary: architects\, engineers\, contractors\, building owners\, consultants\, facility managers\, code officials\, educators\, manufacturers\, and those with a stake in building enclosure performance \nExchange of information: discussion\, training\, education\, outreach\, and awareness \nBuilding enclosures and related science: energy-efficiency\, moisture control\, indoor air quality\, longevity\, and durability \nBEC: Austin typically meets the first Wednesday of each month from 12-1pm. To receive reminders\, please sign up for the BEC mailing list here.\n2023 BEC: Austin Committee\nChair: Callie Hoffman\nChair-Elect: Alexandra Idelson\nAIA Austin staff liaison: Julia Brown
URL:https://calendar.aiaaustin.org/event/bec-austin-committee-meeting-2/
CATEGORIES:BEC: Austin Committee
ATTACH;FMTTYPE=image/jpeg:https://calendar.aiaaustin.org/wp-content/uploads/2023/02/BEC-meet.jpg
END:VEVENT
BEGIN:VEVENT
DTSTART;TZID=America/Chicago:20230405T180000
DTEND;TZID=America/Chicago:20230405T180000
DTSTAMP:20260424T073227
CREATED:20230220T194314Z
LAST-MODIFIED:20230613T232004Z
UID:10000084-1680717600-1680717600@calendar.aiaaustin.org
SUMMARY:Emerging Professionals Committee Meeting
DESCRIPTION:
URL:https://calendar.aiaaustin.org/event/emerging-professionals-committee-meeting-10/
CATEGORIES:Emerging Professionals Committee
ATTACH;FMTTYPE=image/jpeg:https://calendar.aiaaustin.org/wp-content/uploads/2023/02/Emerging-Professionals-meet.jpg
END:VEVENT
BEGIN:VEVENT
DTSTART;TZID=America/Chicago:20230406T120000
DTEND;TZID=America/Chicago:20230406T120000
DTSTAMP:20260424T073227
CREATED:20230219T170210Z
LAST-MODIFIED:20230417T202434Z
UID:10000062-1680782400-1680782400@calendar.aiaaustin.org
SUMMARY:CRAN Tour April 2023
DESCRIPTION:
URL:https://calendar.aiaaustin.org/event/cran-tour-april-2023/
ATTACH;FMTTYPE=image/jpeg:https://calendar.aiaaustin.org/wp-content/uploads/2023/02/default.jpg
END:VEVENT
BEGIN:VEVENT
DTSTART;TZID=America/Chicago:20230407T120000
DTEND;TZID=America/Chicago:20230407T120000
DTSTAMP:20260424T073227
CREATED:20230527T144615Z
LAST-MODIFIED:20230613T232516Z
UID:10000112-1680868800-1680868800@calendar.aiaaustin.org
SUMMARY:Architecture: K-12 Meeting
DESCRIPTION:Location: Zoom meeting info will be sent to the email list. Sign up below. \nThe Architecture: K-12 committee invites the community to explore\, create and learn about the practice and value of architecture through consistent\, relevant youth and family program opportunities. If you are interested in teaching children about architecture\, we value your involvement at any level! Please join us during our regular monthly meetings\, typically on the first Friday of every month at noon. Connect with Architecture K-12: Join the our email list. (Click Committee News – Architecture K-12 to join.) \n2022 Committee Chair: Vachna Rao\, Assoc. AIA\n2022 Committee Chair-Elect: Stacey Forgas\, AIA\nAIA Austin Staff Liaison: Meredith Bossin
URL:https://calendar.aiaaustin.org/event/architecture-k-12-meeting-3/2023-04-07/
CATEGORIES:Architecture: K-12 Committee,Committee Meeting
ATTACH;FMTTYPE=image/jpeg:https://calendar.aiaaustin.org/wp-content/uploads/2023/05/k-12-commmeeting.jpg
END:VEVENT
BEGIN:VEVENT
DTSTART;TZID=America/Chicago:20230410T173000
DTEND;TZID=America/Chicago:20230410T173000
DTSTAMP:20260424T073227
CREATED:20230417T205355Z
LAST-MODIFIED:20230613T231914Z
UID:10000096-1681147800-1681147800@calendar.aiaaustin.org
SUMMARY:AIA Austin Homes Tour Committee
DESCRIPTION:Homes Tour Committee meeting at AIA Austin. Email ingrid@aiaaustin.org with questions. Most committee communication occurs on Slack.
URL:https://calendar.aiaaustin.org/event/aia-austin-homes-tour-committee/
CATEGORIES:Homes Tour Committee
END:VEVENT
BEGIN:VEVENT
DTSTART;TZID=America/Chicago:20230412T193000
DTEND;TZID=America/Chicago:20230412T193000
DTSTAMP:20260424T073227
CREATED:20230302T191748Z
LAST-MODIFIED:20230320T185806Z
UID:10000087-1681327800-1681327800@calendar.aiaaustin.org
SUMMARY:Design Talks: Ilse Frank\, PLA\, ASLA\, Assoc. AIA of Studio Balcones
DESCRIPTION:Design Talks presented by the Austin Foundation for Architecture\nDesign Talks comprises five presentations each year featuring guest speakers in the design professions. Events take place at sunset at Artitculture Designs\, 6405 Menchaca Rd\, Austin\, TX 78745. Refreshments will be served. Design Talks offer 1 LU of continuing education credit for registered attendees and are also open to the public. \nAll sales are final\, and registration is transferrable. Please see our cancellation policy.
URL:https://calendar.aiaaustin.org/event/design-talks-ilse-frank-pla-asla-assoc-aia-of-studio-balcones/
LOCATION:Articulture Design\, 6405 Menchaca Rd\, Austin\, TX\, 78745\, United States
CATEGORIES:Design Talks
ATTACH;FMTTYPE=image/jpeg:https://calendar.aiaaustin.org/wp-content/uploads/2023/03/design-talks-header-IlseFrank-April.jpg
END:VEVENT
BEGIN:VEVENT
DTSTART;TZID=America/Chicago:20230413T120000
DTEND;TZID=America/Chicago:20230413T120000
DTSTAMP:20260424T073227
CREATED:20230417T205157Z
LAST-MODIFIED:20230417T205251Z
UID:10000095-1681387200-1681387200@calendar.aiaaustin.org
SUMMARY:Lunch and Learn
DESCRIPTION:CLICK TO REGISTER
URL:https://calendar.aiaaustin.org/event/lunch-and-learn-2/
LOCATION:Agile Interiors\, 1400 Lavaca St Suite 150\, Austin\, 78701\, United States
END:VEVENT
BEGIN:VEVENT
DTSTART;TZID=America/Chicago:20230418T120000
DTEND;TZID=America/Chicago:20230418T120000
DTSTAMP:20260424T073227
CREATED:20230219T161619Z
LAST-MODIFIED:20230613T232128Z
UID:10000058-1681819200-1681819200@calendar.aiaaustin.org
SUMMARY:DesignVoice Meeting - Apr. '23
DESCRIPTION:Location\n801 West 12th Street\n78701\nAustin\, TX \nHybrid: in person at AIA Austin\, 801 West 12th Street OR on Zoom; third Tuesdays at 12:00pm \nDesignVoice facilitates opportunities for design professionals to serve their community through collaborative design focused events and informational programs. We invite anyone who has an interest in being a voice for the design profession in support of our local community to attend the monthly meetings. DesignVoice is a forum in which new projects or efforts are welcome – bring them forward! Sign up for our mailing list here to receive meeting reminders and committee updates! \n  \nAdd this meeting to your calendar (Google) \nDownload Outlook meeting (.ics) \n  \n2023 Chair: Jason Haskins\, AIA\n2023 Chair-Elect: Arlene Ellwood\, Assoc. AIA\nAIA Austin Staff Liaison: Courtney Mallen\, Assoc. AIA
URL:https://calendar.aiaaustin.org/event/designvoice-meeting-apr-23/
CATEGORIES:DesignVoice Committee
ATTACH;FMTTYPE=image/jpeg:https://calendar.aiaaustin.org/wp-content/uploads/2023/02/DesignVoice-meet.jpg
END:VEVENT
BEGIN:VEVENT
DTSTART;TZID=America/Chicago:20230419T180000
DTEND;TZID=America/Chicago:20230419T180000
DTSTAMP:20260424T073227
CREATED:20230417T205724Z
LAST-MODIFIED:20230613T232004Z
UID:10000097-1681927200-1681927200@calendar.aiaaustin.org
SUMMARY:Emerging Professionals Committee
DESCRIPTION:
URL:https://calendar.aiaaustin.org/event/emerging-professionals-committee/
CATEGORIES:Committee Meeting,Emerging Professionals Committee
ATTACH;FMTTYPE=image/jpeg:https://calendar.aiaaustin.org/wp-content/uploads/2023/02/Emerging-Professionals-meet.jpg
END:VEVENT
BEGIN:VEVENT
DTSTART;TZID=America/Chicago:20230420T120000
DTEND;TZID=America/Chicago:20230420T120000
DTSTAMP:20260424T073227
CREATED:20230218T205322Z
LAST-MODIFIED:20230613T231804Z
UID:10000036-1681992000-1681992000@calendar.aiaaustin.org
SUMMARY:Small Firms Roundtable Meeting
DESCRIPTION:
URL:https://calendar.aiaaustin.org/event/small-firms-roundtable-meeting-2/
CATEGORIES:Small Firms Roundtable Committee
ATTACH;FMTTYPE=image/jpeg:https://calendar.aiaaustin.org/wp-content/uploads/2023/02/Small-Firms-Roundtable-meet-e1771259348652.jpg
END:VEVENT
BEGIN:VEVENT
DTSTART;TZID=America/Chicago:20230420T173000
DTEND;TZID=America/Chicago:20230420T173000
DTSTAMP:20260424T073227
CREATED:20230220T184001Z
LAST-MODIFIED:20230613T231834Z
UID:10000067-1682011800-1682011800@calendar.aiaaustin.org
SUMMARY:Latinos in Architecture Committee Meeting
DESCRIPTION:
URL:https://calendar.aiaaustin.org/event/latinos-in-architecture-committee-meeting-3/
CATEGORIES:Latinos in Architecture Committee
ATTACH;FMTTYPE=image/jpeg:https://calendar.aiaaustin.org/wp-content/uploads/2023/02/LiA-meet-e1771259459193.jpg
END:VEVENT
BEGIN:VEVENT
DTSTART;TZID=America/Chicago:20230420T180000
DTEND;TZID=America/Chicago:20230420T200000
DTSTAMP:20260424T073227
CREATED:20230412T173557Z
LAST-MODIFIED:20230412T174918Z
UID:10000092-1682013600-1682020800@calendar.aiaaustin.org
SUMMARY:Jury Conversations
DESCRIPTION:Part of the AIA Austin 2023 Design Awards program\, Jury Conversations is a live\, moderated presentation with our Design Awards jurors.  \nFeaturing the AIAS Art Auction! A silent art auction featuring artwork by architecture students from UTSOA will be hosted during the event. Benefits go to the AIAS chapter at UT. Credit cards and cash will be accepted onsite. Registration required\, space is limited. This event is free and open to the public. REGISTER NOW → \n\nThank you to our Jury Conversations Sponsor!
URL:https://calendar.aiaaustin.org/event/jury-conversations/
LOCATION:Texas Society of Architects\, 500 Chicon St\, Austin\, 78702\, United States
CATEGORIES:Homes Tour
ATTACH;FMTTYPE=image/jpeg:https://calendar.aiaaustin.org/wp-content/uploads/2023/04/JuryConversations.jpg
END:VEVENT
BEGIN:VEVENT
DTSTART;TZID=America/Chicago:20230421T083000
DTEND;TZID=America/Chicago:20230421T083000
DTSTAMP:20260424T073227
CREATED:20230207T174710Z
LAST-MODIFIED:20230527T183711Z
UID:10000664-1682065800-1682065800@calendar.aiaaustin.org
SUMMARY:Women in Architecture Committee Meeting
DESCRIPTION:Join the Women in Architecture group for their monthly meetings on the third Friday of each month. All meetings will be virtual via Zoom unless otherwise noted. Sign up for our mailing list here to receive the Zoom invite! \nLearn more about WiA >>> \n2023 Chair: Carina Coel\, AIA\n2023 Chair-Elect: Ashton Brooks\nAIA Austin staff liaison: Julia Brown
URL:https://calendar.aiaaustin.org/event/women-in-architecture-committee-meeting-4/2023-04-21/
CATEGORIES:Women in Architecture Committee
ATTACH;FMTTYPE=image/jpeg:https://calendar.aiaaustin.org/wp-content/uploads/2023/02/WIA-commmeeting.jpg
END:VEVENT
BEGIN:VEVENT
DTSTART;TZID=America/Chicago:20230424T120000
DTEND;TZID=America/Chicago:20230424T120000
DTSTAMP:20260424T073227
CREATED:20230417T211605Z
LAST-MODIFIED:20230613T232616Z
UID:10000099-1682337600-1682337600@calendar.aiaaustin.org
SUMMARY:Advocacy Roundtable: ATP and Light Rail
DESCRIPTION:Join AIA Austin Advocacy leaders and Austin Transit Partnership leadership to learn about the Light Rail options and give your input. All are welcome with registration. CLICK TO REGISTER
URL:https://calendar.aiaaustin.org/event/advocacy-roundtable-atp-and-light-rail/
CATEGORIES:Advocacy Committee
END:VEVENT
BEGIN:VEVENT
DTSTART;TZID=America/Chicago:20230425T180000
DTEND;TZID=America/Chicago:20230425T200000
DTSTAMP:20260424T073227
CREATED:20230417T211837Z
LAST-MODIFIED:20230417T211837Z
UID:10000100-1682445600-1682452800@calendar.aiaaustin.org
SUMMARY:Austin Architecture Cruise
DESCRIPTION:
URL:https://calendar.aiaaustin.org/event/austin-architecture-cruise/
LOCATION:Capital Cruises Dock\, 208 Barton Springs Road\, Austin\, TX\, 78704\, United States
ATTACH;FMTTYPE=image/jpeg:https://calendar.aiaaustin.org/wp-content/uploads/2023/04/ig-afa-cruise-4-25-23.jpeg
END:VEVENT
BEGIN:VEVENT
DTSTART;TZID=America/Chicago:20230426T120000
DTEND;TZID=America/Chicago:20230426T120000
DTSTAMP:20260424T073227
CREATED:20230218T202934Z
LAST-MODIFIED:20230613T231719Z
UID:10000026-1682510400-1682510400@calendar.aiaaustin.org
SUMMARY:Urban Design Meeting
DESCRIPTION:Sign up for our mailing list here to receive the Zoom invite! \nVirtual; 4th Wednesday of each month at 12:00 PM \nThe AIA Austin Urban Design Committee aims to improve the quality of the urban environment by promoting excellence in design\, planning\, and public policy in the built environment. The Urban Design Committee\, in concert with allied community and professional groups\, promotes programs that teach and inform professionals and the public about the design and development of quality urban spaces and environments. \n2023 Chair: Peter Dufresne\n2023 Chair-Elect: Zerek Kroll\nAIA Austin Staff Liaison: Courtney Mallen\, Assoc. AIA
URL:https://calendar.aiaaustin.org/event/urban-design-meeting/2023-04-26/
CATEGORIES:Urban Design Committee
ATTACH;FMTTYPE=image/jpeg:https://calendar.aiaaustin.org/wp-content/uploads/2023/02/AIA-TEXT-urban-design-1.jpg
END:VEVENT
BEGIN:VEVENT
DTSTART;TZID=America/Chicago:20230429T100000
DTEND;TZID=America/Chicago:20230429T120000
DTSTAMP:20260424T073227
CREATED:20230417T213324Z
LAST-MODIFIED:20250206T171323Z
UID:10000101-1682762400-1682769600@calendar.aiaaustin.org
SUMMARY:COTE Green Walk - 2 LU/HSW
DESCRIPTION:green walk: tracing Austin’s connectivity & urban health\nRecognizing the intrinsic value of interconnected green space as a free-moving zone for humans\, critters\, microorganisms\, vegetation\, and hydrology could be the key to adapting and flourishing in a growing metropolis\, environmentally\, culturally\, equitably\, and economically.” – For more insights on green walks and urban health see Lauren Woodward Stanley’s article “The Drift” in ARCHITECT Magazine March/April 2021.  \nCan we create green corridors and transects through the city that function as a vital part of our personal and urban health and resilience? \nOn foot\, we will explore urban green connectivity in a loop walk of about 5 miles\, convening and ending at a local eatery. As we arc through changing light and setting\, our focus will be on health and wellness indicators of what we observe and experience: green spaces\, natural systems\, built fabric\, mobility\, community vitality\, local culture\, and ourselves as active urban dwellers. \nParticipants will be asked to record this sojourn in a haiku or photo snapshots\, to be gathered at the conclusion. A digital compilation of these tokens of our attention to the details of an interwoven urban fabric will be collected as an Austin timestamp. \nRoute map to be provided at location start. \nThis event is free and open to the public\, or offers CE credit with a paid ticket. 2 LU/HSW \nCLICK TO REGISTER \n\nLauren Woodward Stanley\, AIA                       \nLauren is co-owner of Stanley Studio\, an integrated design practice she shares with Lars Stanley\, FAIA.  Their studio and shop produce award-winning architecture and metalwork at a wide range of scales that includes civic\, institutional\, and residential projects in addition to public and commissioned artwork and architectural accessories.  The full spectrum of the studio’s work integrates material craft and detail\, resilient and sustainable design\, and inventive embrace of environmental conditions.  Drawn to the intersection of architecture and landscape\, Lauren seeks design solutions that respond to site\, are adaptive and regenerative\, clever with material and resource use\, and forge a unique presence. \nA UT Austin School of Architecture MArch graduate\, Lauren spent a 9-year chapter in Seattle where she worked in several architectural firms before returning to Austin in 2005.  Since then\, while engaged in professional practice\, she has always kept an active civic role\, engaging in various community efforts and cultivating a driving interest in the healing potential of natural systems in the urban landscape.  Among these pursuits have been co-founding peer networking and advocacy groups such as Living City ATX (equitable access to urban nature) and GRoWERS (green roof non-profit)\, initiating and leading the EM Franklin Green Street under the city of Austin Neighborhood Partnering Program\, co-chairing AIA COTE Health & Wellness Committee\, and sitting on the city of Austin’s Green Roof Advisory Group\, Urban Design Guidelines Advisory Group\, Biophilic Cities ATX\, as well as speaking\, writing\, and serving as occasional guest critic at UTSOA.  She knows her two teenage boys will carry the torch trying to make a better world even if they don’t become architects. \n\nAbout COTE \nAIA Austin Committee On The Environment (COTE) reflects the profession’s commitment to provide healthy and safe environments for people\, and is dedicated to preserving the earth’s capability of sustaining a shared high quality of life. COTE typically meets the first Thursday of each month at 5:30 p.m. \nThe Committee on the Environment (COTE) is an American Institute of Architects Knowledge Community working with architects\, allied professionals\, and the public to achieve climate action and climate justice through design. We believe that design excellence is the foundation of a healthy\, sustainable\, and equitable future. Our work promotes design strategies that allow people\, communities\, and our planet to thrive.
URL:https://calendar.aiaaustin.org/event/cote-green-walk-2-lu-hsw/
LOCATION:Easy Tiger @ The Linc\, 6406 N Interstate 35 Frontage Rd Suite 1100\, Austin\, TX\, 78752\, United States
CATEGORIES:Committee on the Environment Committee
ATTACH;FMTTYPE=image/jpeg:https://calendar.aiaaustin.org/wp-content/uploads/2023/04/green_walk_april_2023.jpeg
END:VEVENT
END:VCALENDAR