BEGIN:VCALENDAR
VERSION:2.0
PRODID:-//AIA Austin Calendar - ECPv6.7.0//NONSGML v1.0//EN
CALSCALE:GREGORIAN
METHOD:PUBLISH
X-WR-CALNAME:AIA Austin Calendar
X-ORIGINAL-URL:https://calendar.aiaaustin.org
X-WR-CALDESC:Events for AIA Austin Calendar
REFRESH-INTERVAL;VALUE=DURATION:PT1H
X-Robots-Tag:noindex
X-PUBLISHED-TTL:PT1H
BEGIN:VTIMEZONE
TZID:America/Chicago
BEGIN:DAYLIGHT
TZOFFSETFROM:-0600
TZOFFSETTO:-0500
TZNAME:CDT
DTSTART:20230312T080000
END:DAYLIGHT
BEGIN:STANDARD
TZOFFSETFROM:-0500
TZOFFSETTO:-0600
TZNAME:CST
DTSTART:20231105T070000
END:STANDARD
END:VTIMEZONE
BEGIN:VEVENT
DTSTART;TZID=America/Chicago:20230106T120000
DTEND;TZID=America/Chicago:20230106T120000
DTSTAMP:20260424T214042
CREATED:20230527T153240Z
LAST-MODIFIED:20230613T232515Z
UID:10000179-1673006400-1673006400@calendar.aiaaustin.org
SUMMARY:Architecture: K-12 Meeting
DESCRIPTION:Location: Zoom meeting info will be sent to the email list. Sign up below. \nArchitecture: K-12 invites the community to explore\, create and learn about the practice and value of architecture through consistent\, relevant youth and family program opportunities. If you are interested in teaching children about architecture\, we value your involvement at any level! Please join us during our regular monthly meetings\, typically on the first Friday of every month at noon. Connect with Architecture K-12: Join the our email list. (Click Committee News – Architecture K-12 to join.)  \n2022 Committee Chair: Vachna Rao\, Assoc. AIA\n2022 Committee Chair-Elect: Stacey Forgas\, AIA\nAIA Austin Staff Liaison: Meredith Bossin
URL:https://calendar.aiaaustin.org/event/architecture-k-12-meeting-4/
CATEGORIES:Architecture: K-12 Committee,Committee Meeting
END:VEVENT
BEGIN:VEVENT
DTSTART;TZID=America/Chicago:20230109T170000
DTEND;TZID=America/Chicago:20230109T170000
DTSTAMP:20260424T214042
CREATED:20230527T153636Z
LAST-MODIFIED:20230613T231914Z
UID:10000180-1673283600-1673283600@calendar.aiaaustin.org
SUMMARY:AIA Austin Homes Tour Committee Meeting
DESCRIPTION:The AIA Austin Homes Tour Committee meets in the evening\, the second Monday of each month at AIA Austin HQ\, 801 W 12th St. Homes Tour will happen October 28 and 29! Tickets go on sale in August. The Homes Tour Committee is currently communicating with Slack. Please email Ingrid at ingrid@aiaaustin.org if you are interest in participating on the Committee. Committee members must be available to work during the two days of the Tour.  \n2023 Chair: Emily Haydon\, Assoc. AIA\n2023 Chair-Elect: Candace Wong\, AIA
URL:https://calendar.aiaaustin.org/event/aia-austin-homes-tour-committee-meeting-2/
CATEGORIES:Homes Tour Committee
END:VEVENT
BEGIN:VEVENT
DTSTART;TZID=America/Chicago:20230110T120000
DTEND;TZID=America/Chicago:20230110T170000
DTSTAMP:20260424T214042
CREATED:20230527T153731Z
LAST-MODIFIED:20230613T232208Z
UID:10000181-1673352000-1673370000@calendar.aiaaustin.org
SUMMARY:AIA Austin Design Awards Committee Meeting
DESCRIPTION:The Design Awards Committee provides a platform to showcase excellence in design that is produced by AIA Austin architects and selected by a panel of distinguished jurors. The committee organizes and implements the annual AIA Austin Design Awards Competition and Awards Celebration. The Committee usually meets the first Monday of each month at AIA Austin\, 801 w 12th St. at noon. If you are interested in joining this committee\, please email ingrid@aiaaustin.org.    \n2023 Chair: Silvia Izaguirre\, AIA\n2023 Chair Elect: Ryan Oliason\, AIA
URL:https://calendar.aiaaustin.org/event/aia-austin-design-awards-committee-meeting/
CATEGORIES:Design Awards Committee
END:VEVENT
BEGIN:VEVENT
DTSTART;TZID=America/Chicago:20230117T173000
DTEND;TZID=America/Chicago:20230117T173000
DTSTAMP:20260424T214042
CREATED:20230527T154535Z
LAST-MODIFIED:20230728T180257Z
UID:10000182-1673976600-1673976600@calendar.aiaaustin.org
SUMMARY:LGBTQIA+ Alliance Meeting
DESCRIPTION:Come out to the first LGBTQIA+ Alliance meeting of the year! \nWe will have two special guests that are interested in collaborating with our committee! Marta Stefaniuk\, an expert on the fabulous and famous architect Arthur Watson and Daniel Ronan\, of Flower Hill Foundation! The LGBTQIA+ Alliance aims to create space for our LGBTQIA+ members to share stories\, build community\, and foster diversity and inclusion within our profession and organization. The LGBTQIA+ Alliance typically meets on the third Tuesday of the month at 6 PM. Allies and people beyond the architecture profession are welcome. Connect with us: Join the LGBTQIA+ Alliance email list! \n2023 Chair: Tim Petersen\, AIA\n2023 Chair-Elect: Robbie Anderson\, Assoc. AIA\nAIA Austin Staff Liaison: Rob Hoffman
URL:https://calendar.aiaaustin.org/event/lgbtqia-alliance-meeting/
LOCATION:Lazarus Brewing Co. – East 6th\, 1902 E 6th St.\, Austin\, TX\, United States
CATEGORIES:LGBTQIA+ Alliance Committee
ATTACH;FMTTYPE=image/jpeg:https://calendar.aiaaustin.org/wp-content/uploads/2023/05/lgbtqia_alliance.jpg
END:VEVENT
BEGIN:VEVENT
DTSTART;TZID=America/Chicago:20230119T173000
DTEND;TZID=America/Chicago:20230119T173000
DTSTAMP:20260424T214042
CREATED:20230527T154913Z
LAST-MODIFIED:20250206T171322Z
UID:10000183-1674149400-1674149400@calendar.aiaaustin.org
SUMMARY:COTE Meeting - 1 LU/HSW
DESCRIPTION:AIA 2030 Commitment Workshop\nThe AIA 2030 Commitment is an actionable climate strategy that provides architects a set of standards and goals to reach net-zero emissions in the built environment. The workshop will be held live on Thursday\, Jan 19th\, 2023 from 5:30pm to 7:00pm. The workshop will cover the following topics: \n\nWhat the AIA 2030 Commitment is\nHow your firm can establish a culture that supports not only designing net zero buildings but also reporting this information to DDX online.\nA kick start to considering embodied carbon in your design and recording this information to the DDX online.\nOne-on-one session on how to go about navigating DDX online and recording projects.\n\nLocation: STG’s Office. Instructions for access included with registration. \nRegistration: This event is free and open to the public\, or offers CE credit with a paid ticket. 1 LU/HSW (pending). All sales are final.
URL:https://calendar.aiaaustin.org/event/cote-meeting-1-lu-hsw/
CATEGORIES:Committee on the Environment Committee
END:VEVENT
BEGIN:VEVENT
DTSTART;TZID=America/Chicago:20230119T173000
DTEND;TZID=America/Chicago:20230119T173000
DTSTAMP:20260424T214042
CREATED:20230527T155151Z
LAST-MODIFIED:20230613T231830Z
UID:10000186-1674149400-1674149400@calendar.aiaaustin.org
SUMMARY:Latinos in Architecture Meeting
DESCRIPTION:
URL:https://calendar.aiaaustin.org/event/latinos-in-architecture-meeting/
CATEGORIES:Committee Meeting,Latinos in Architecture Committee
ATTACH;FMTTYPE=image/jpeg:https://calendar.aiaaustin.org/wp-content/uploads/2023/02/LiA-meet-e1771259459193.jpg
END:VEVENT
BEGIN:VEVENT
DTSTART;TZID=America/Chicago:20230119T180000
DTEND;TZID=America/Chicago:20230119T180000
DTSTAMP:20260424T214042
CREATED:20230527T154946Z
LAST-MODIFIED:20230613T232003Z
UID:10000184-1674151200-1674151200@calendar.aiaaustin.org
SUMMARY:Emerging Professionals Meeting
DESCRIPTION:
URL:https://calendar.aiaaustin.org/event/emerging-professionals-meeting/
CATEGORIES:Committee Meeting,Emerging Professionals Committee
END:VEVENT
BEGIN:VEVENT
DTSTART;TZID=America/Chicago:20230120T083000
DTEND;TZID=America/Chicago:20230120T203000
DTSTAMP:20260424T214042
CREATED:20230120T133817Z
LAST-MODIFIED:20230322T193718Z
UID:10000001-1674203400-1674246600@calendar.aiaaustin.org
SUMMARY:Women in Architecture Committee Meeting
DESCRIPTION:Join the Women in Architecture group for their monthly meetings on the third Friday of each month. All meetings will be virtual via Zoom unless otherwise noted. Sign up for our mailing list here to receive the Zoom invite! \nLearn more about WiA >>> \n2023 Chair: Carina Coel\, AIA\n2023 Chair-Elect: Ashton Brooks\nAIA Austin staff liaison: Julia Brown
URL:https://calendar.aiaaustin.org/event/women-in-architecture-committee-meeting/
CATEGORIES:Women in Architecture Committee
ATTACH;FMTTYPE=image/jpeg:https://calendar.aiaaustin.org/wp-content/uploads/2023/02/WIA-commmeeting.jpg
END:VEVENT
BEGIN:VEVENT
DTSTART;TZID=America/Chicago:20230125T120000
DTEND;TZID=America/Chicago:20230125T170000
DTSTAMP:20260424T214042
CREATED:20230527T155055Z
LAST-MODIFIED:20230613T231715Z
UID:10000185-1674648000-1674666000@calendar.aiaaustin.org
SUMMARY:Urban Design Meeting Jan. 2023
DESCRIPTION:Sign up for our mailing list here to receive the Zoom invite! \nVirtual; 4th Wednesday of each month at 12:00 PM \nThe AIA Austin Urban Design Committee aims to improve the quality of the urban environment by promoting excellence in design\, planning\, and public policy in the built environment. The Urban Design Committee\, in concert with allied community and professional groups\, promotes programs that teach and inform professionals and the public about the design and development of quality urban spaces and environments. \n2023 Chair: Peter Dufrene\n2023 Chair-Elect: Zerek Kroll\nAIA Austin Staff Liaison: Courtney Mallen\, Assoc. AIA
URL:https://calendar.aiaaustin.org/event/urban-design-meeting-jan-2023/
CATEGORIES:Committee Meeting,Urban Design Committee
END:VEVENT
END:VCALENDAR