BEGIN:VCALENDAR
VERSION:2.0
PRODID:-//AIA Austin Calendar - ECPv6.7.0//NONSGML v1.0//EN
CALSCALE:GREGORIAN
METHOD:PUBLISH
X-ORIGINAL-URL:https://calendar.aiaaustin.org
X-WR-CALDESC:Events for AIA Austin Calendar
REFRESH-INTERVAL;VALUE=DURATION:PT1H
X-Robots-Tag:noindex
X-PUBLISHED-TTL:PT1H
BEGIN:VTIMEZONE
TZID:America/Chicago
BEGIN:DAYLIGHT
TZOFFSETFROM:-0600
TZOFFSETTO:-0500
TZNAME:CDT
DTSTART:20280312T080000
END:DAYLIGHT
BEGIN:STANDARD
TZOFFSETFROM:-0500
TZOFFSETTO:-0600
TZNAME:CST
DTSTART:20281105T070000
END:STANDARD
END:VTIMEZONE
BEGIN:VEVENT
DTSTART;TZID=America/Chicago:20280817T120000
DTEND;TZID=America/Chicago:20280817T130000
DTSTAMP:20260422T192708
CREATED:20260310T190229Z
LAST-MODIFIED:20260310T190229Z
UID:10005963-1850126400-1850130000@calendar.aiaaustin.org
SUMMARY:Small Firms Roundtable Meeting
DESCRIPTION:
URL:https://calendar.aiaaustin.org/event/small-firms-roundtable-meeting-11-4-2/2028-08-17/
CATEGORIES:Committee Meeting,Small Firms Roundtable Committee
ATTACH;FMTTYPE=image/jpeg:https://calendar.aiaaustin.org/wp-content/uploads/2023/02/Small-Firms-Roundtable-meet-e1771259348652.jpg
END:VEVENT
BEGIN:VEVENT
DTSTART;TZID=America/Chicago:20280817T180000
DTEND;TZID=America/Chicago:20280817T190000
DTSTAMP:20260422T192708
CREATED:20250106T162619Z
LAST-MODIFIED:20260112T191217Z
UID:10001497-1850148000-1850151600@calendar.aiaaustin.org
SUMMARY:Latinos in Architecture Committee Meeting
DESCRIPTION:Latinos in Architecture (LiA) is dedicated to fostering a more diverse and inclusive architecture community. Our mission is to provide resources\, support\, and opportunities for Latinx architects\, designers\, and allies. To promote cultural awareness and sensitivity within the broader architectural profession. Through networking events\, mentorship programs\, and professional development initiatives\, LiA strives to create a vibrant and supportive community that reflects the rich diversity of our profession.\n\nSign up for our committee newsletter here!
URL:https://calendar.aiaaustin.org/event/latinos-in-architecture-committee-meeting-12-2-2/2028-08-17/
LOCATION:AIA Austin\, 801 W 12th St\, Austin\, TX\, 78701
CATEGORIES:Committee Meeting,Latinos in Architecture Committee
ATTACH;FMTTYPE=image/jpeg:https://calendar.aiaaustin.org/wp-content/uploads/2023/02/LiA-meet-e1771259459193.jpg
END:VEVENT
BEGIN:VEVENT
DTSTART;TZID=America/Chicago:20280818T113000
DTEND;TZID=America/Chicago:20280818T123000
DTSTAMP:20260422T192708
CREATED:20260409T224842Z
LAST-MODIFIED:20260409T225218Z
UID:10006224-1850211000-1850214600@calendar.aiaaustin.org
SUMMARY:Commercial Architecture
DESCRIPTION:Coming Soon
URL:https://calendar.aiaaustin.org/event/commercial-architecture/2028-08-18/
LOCATION:AIA Austin\, 801 W 12th St\, Austin\, TX\, 78701
END:VEVENT
BEGIN:VEVENT
DTSTART;TZID=America/Chicago:20280822T180000
DTEND;TZID=America/Chicago:20280822T190000
DTSTAMP:20260422T192708
CREATED:20260217T153824Z
LAST-MODIFIED:20260217T153824Z
UID:10005827-1850580000-1850583600@calendar.aiaaustin.org
SUMMARY:LGBTQIA+ Alliance Meeting
DESCRIPTION:We will be meeting tonight to discuss upcoming events. All are welcome and we hope to see you there!
URL:https://calendar.aiaaustin.org/event/lgbtqia-alliance-meeting-15/2028-08-22/
CATEGORIES:LGBTQIA+ Alliance Committee
ATTACH;FMTTYPE=image/jpeg:https://calendar.aiaaustin.org/wp-content/uploads/2023/05/lgbtqia_alliance.jpg
END:VEVENT
BEGIN:VEVENT
DTSTART;TZID=America/Chicago:20280828T120000
DTEND;TZID=America/Chicago:20280828T133000
DTSTAMP:20260422T192708
CREATED:20260112T222934Z
LAST-MODIFIED:20260209T200256Z
UID:10005163-1851076800-1851082200@calendar.aiaaustin.org
SUMMARY:Advocacy Roundtable
DESCRIPTION:Each month\, the AIA Austin Advocacy Roundtable brings together professionals to discuss strategies individual professionals\, practices\, and AIA Austin can take to proactively advocate for issues important to our members and the larger community.
URL:https://calendar.aiaaustin.org/event/advocacy-roundtable-2/2028-08-28/
LOCATION:AIA Austin\, 801 W 12th St\, Austin\, TX\, 78701
CATEGORIES:Advocacy Committee
ATTACH;FMTTYPE=image/png:https://calendar.aiaaustin.org/wp-content/uploads/2026/01/Advocacy-Roundtable.png
END:VEVENT
BEGIN:VEVENT
DTSTART;TZID=America/Chicago:20280901T120000
DTEND;TZID=America/Chicago:20280901T130000
DTSTAMP:20260422T192708
CREATED:20260108T222654Z
LAST-MODIFIED:20260108T222655Z
UID:10005051-1851422400-1851426000@calendar.aiaaustin.org
SUMMARY:Architecture: K-12 Meeting
DESCRIPTION:Location: Zoom meeting info will be sent to the email list. Sign up below. \nThe Architecture: K-12 committee invites the community to explore\, create and learn about the practice and value of architecture through consistent\, relevant youth and family program opportunities. If you are interested in teaching children about architecture\, we value your involvement at any level! Please join us during our regular monthly meetings\, typically on the first Friday of every month at 12PM. \nConnect with Architecture K-12: Join the our email list. (Click Committee News – Architecture K-12 to join.)
URL:https://calendar.aiaaustin.org/event/architecture-k-12-meeting-3-3-2-2-2-2-2/2028-09-01/
CATEGORIES:Architecture: K-12 Committee,Committee Meeting
ATTACH;FMTTYPE=image/jpeg:https://calendar.aiaaustin.org/wp-content/uploads/2023/05/k-12-commmeeting.jpg
END:VEVENT
BEGIN:VEVENT
DTSTART;TZID=America/Chicago:20280907T090000
DTEND;TZID=America/Chicago:20280907T100000
DTSTAMP:20260422T192708
CREATED:20260113T182913Z
LAST-MODIFIED:20260113T183220Z
UID:10005475-1851930000-1851933600@calendar.aiaaustin.org
SUMMARY:Design Awards Committee Meeting
DESCRIPTION:The Design Awards Committee provides a platform to showcase excellence in design that is produced by AIA Austin architects and selected by a panel of distinguished jurors. The committee organizes and implements the annual AIA Austin Design Awards Competition and Awards Celebration. The Committee usually meets the first Thursday of each month at AIA Austin\, 801 w 12th St. at 9am. There is also a hybrid way to meet with Zoom. If you are interested in joining this committee\, please email ingrid@aiaaustin.org.
URL:https://calendar.aiaaustin.org/event/design-awards-committee-meeting-2/2028-09-07/
LOCATION:AIA Austin\, 801 W 12th St\, Austin\, TX\, 78701
END:VEVENT
BEGIN:VEVENT
DTSTART;TZID=America/Chicago:20280907T120000
DTEND;TZID=America/Chicago:20280907T130000
DTSTAMP:20260422T192708
CREATED:20251017T145313Z
LAST-MODIFIED:20251017T145313Z
UID:10002910-1851940800-1851944400@calendar.aiaaustin.org
SUMMARY:CRAN Tour
DESCRIPTION:CRAN Tours sell out within 24 hours\, usually to first-round recipients of the CRAN Email List. JOIN HERE>>\n\n\nTicketholders will receive address information upon successful ticket registration.\nAIA Austin cannot reveal the address of homes on the tours\, or sell tickets outside of the email release.\nTickets are FCFS and non-refundable.
URL:https://calendar.aiaaustin.org/event/cran-tour-4-2/2028-09-07/
CATEGORIES:Custom Residential Architects Network Committee
ATTACH;FMTTYPE=image/jpeg:https://calendar.aiaaustin.org/wp-content/uploads/2024/03/AIA-CRAN-June2024.jpg
END:VEVENT
BEGIN:VEVENT
DTSTART;TZID=America/Chicago:20280912T120000
DTEND;TZID=America/Chicago:20280912T130000
DTSTAMP:20260422T192708
CREATED:20260115T215825Z
LAST-MODIFIED:20260115T215825Z
UID:10005645-1852372800-1852376400@calendar.aiaaustin.org
SUMMARY:Mobility Advocacy Meeting
DESCRIPTION:The Mobility Advocacy Committee promotes regional transportation solutions that address equity\, sustainability\, and quality of life issues while providing a range of transportation options. We believe that successful attempts to promote design and quality of life initiatives in the built environment must include transportation and the public realm as integral parts of the whole.\n\nWe typically meet monthly on the second Tuesday from Noon–1:00 p.m. Join our email list to hear about upcoming events.
URL:https://calendar.aiaaustin.org/event/mobility-advocacy-meeting/2028-09-12/
LOCATION:AIA Austin\, 801 W 12th St\, Austin\, TX\, 78701
CATEGORIES:Advocacy Committee,Mobility Committee
END:VEVENT
BEGIN:VEVENT
DTSTART;TZID=America/Chicago:20280915T113000
DTEND;TZID=America/Chicago:20280915T123000
DTSTAMP:20260422T192708
CREATED:20260409T224842Z
LAST-MODIFIED:20260409T225218Z
UID:10006225-1852630200-1852633800@calendar.aiaaustin.org
SUMMARY:Commercial Architecture
DESCRIPTION:Coming Soon
URL:https://calendar.aiaaustin.org/event/commercial-architecture/2028-09-15/
LOCATION:AIA Austin\, 801 W 12th St\, Austin\, TX\, 78701
END:VEVENT
BEGIN:VEVENT
DTSTART;TZID=America/Chicago:20280921T103000
DTEND;TZID=America/Chicago:20280921T113000
DTSTAMP:20260422T192708
CREATED:20260112T225640Z
LAST-MODIFIED:20260120T182958Z
UID:10005285-1853145000-1853148600@calendar.aiaaustin.org
SUMMARY:Resiliency & Climate Response Meeting
DESCRIPTION:The Resiliency & Climate Response committee helps mitigate\, adapt\, and prepare for the ongoing and future impacts of climate change. We strive to identify practical solutions\, build awareness\, educate\, and advocate for urgency in climate resilience activities. \nWe typically meet the third Thursday of the month at 10:30 a.m. Join our email list to hear about upcoming events.
URL:https://calendar.aiaaustin.org/event/resiliency-climate-response-meeting/2028-09-21/
LOCATION:AIA Austin\, 801 W 12th St\, Austin\, TX\, 78701
CATEGORIES:Advocacy Committee
ATTACH;FMTTYPE=image/png:https://calendar.aiaaustin.org/wp-content/uploads/2026/01/Committee-Event-Feature-768x432-1.png
END:VEVENT
BEGIN:VEVENT
DTSTART;TZID=America/Chicago:20280921T120000
DTEND;TZID=America/Chicago:20280921T130000
DTSTAMP:20260422T192708
CREATED:20260310T190229Z
LAST-MODIFIED:20260310T190229Z
UID:10005964-1853150400-1853154000@calendar.aiaaustin.org
SUMMARY:Small Firms Roundtable Meeting
DESCRIPTION:
URL:https://calendar.aiaaustin.org/event/small-firms-roundtable-meeting-11-4-2/2028-09-21/
CATEGORIES:Committee Meeting,Small Firms Roundtable Committee
ATTACH;FMTTYPE=image/jpeg:https://calendar.aiaaustin.org/wp-content/uploads/2023/02/Small-Firms-Roundtable-meet-e1771259348652.jpg
END:VEVENT
BEGIN:VEVENT
DTSTART;TZID=America/Chicago:20280921T180000
DTEND;TZID=America/Chicago:20280921T190000
DTSTAMP:20260422T192708
CREATED:20250106T162619Z
LAST-MODIFIED:20260112T191217Z
UID:10001498-1853172000-1853175600@calendar.aiaaustin.org
SUMMARY:Latinos in Architecture Committee Meeting
DESCRIPTION:Latinos in Architecture (LiA) is dedicated to fostering a more diverse and inclusive architecture community. Our mission is to provide resources\, support\, and opportunities for Latinx architects\, designers\, and allies. To promote cultural awareness and sensitivity within the broader architectural profession. Through networking events\, mentorship programs\, and professional development initiatives\, LiA strives to create a vibrant and supportive community that reflects the rich diversity of our profession.\n\nSign up for our committee newsletter here!
URL:https://calendar.aiaaustin.org/event/latinos-in-architecture-committee-meeting-12-2-2/2028-09-21/
LOCATION:AIA Austin\, 801 W 12th St\, Austin\, TX\, 78701
CATEGORIES:Committee Meeting,Latinos in Architecture Committee
ATTACH;FMTTYPE=image/jpeg:https://calendar.aiaaustin.org/wp-content/uploads/2023/02/LiA-meet-e1771259459193.jpg
END:VEVENT
BEGIN:VEVENT
DTSTART;TZID=America/Chicago:20280925T120000
DTEND;TZID=America/Chicago:20280925T133000
DTSTAMP:20260422T192708
CREATED:20260112T222934Z
LAST-MODIFIED:20260209T200256Z
UID:10005164-1853496000-1853501400@calendar.aiaaustin.org
SUMMARY:Advocacy Roundtable
DESCRIPTION:Each month\, the AIA Austin Advocacy Roundtable brings together professionals to discuss strategies individual professionals\, practices\, and AIA Austin can take to proactively advocate for issues important to our members and the larger community.
URL:https://calendar.aiaaustin.org/event/advocacy-roundtable-2/2028-09-25/
LOCATION:AIA Austin\, 801 W 12th St\, Austin\, TX\, 78701
CATEGORIES:Advocacy Committee
ATTACH;FMTTYPE=image/png:https://calendar.aiaaustin.org/wp-content/uploads/2026/01/Advocacy-Roundtable.png
END:VEVENT
BEGIN:VEVENT
DTSTART;TZID=America/Chicago:20280926T180000
DTEND;TZID=America/Chicago:20280926T190000
DTSTAMP:20260422T192708
CREATED:20260217T153824Z
LAST-MODIFIED:20260217T153824Z
UID:10005828-1853604000-1853607600@calendar.aiaaustin.org
SUMMARY:LGBTQIA+ Alliance Meeting
DESCRIPTION:We will be meeting tonight to discuss upcoming events. All are welcome and we hope to see you there!
URL:https://calendar.aiaaustin.org/event/lgbtqia-alliance-meeting-15/2028-09-26/
CATEGORIES:LGBTQIA+ Alliance Committee
ATTACH;FMTTYPE=image/jpeg:https://calendar.aiaaustin.org/wp-content/uploads/2023/05/lgbtqia_alliance.jpg
END:VEVENT
BEGIN:VEVENT
DTSTART;TZID=America/Chicago:20281005T090000
DTEND;TZID=America/Chicago:20281005T100000
DTSTAMP:20260422T192708
CREATED:20260113T182913Z
LAST-MODIFIED:20260113T183220Z
UID:10005476-1854349200-1854352800@calendar.aiaaustin.org
SUMMARY:Design Awards Committee Meeting
DESCRIPTION:The Design Awards Committee provides a platform to showcase excellence in design that is produced by AIA Austin architects and selected by a panel of distinguished jurors. The committee organizes and implements the annual AIA Austin Design Awards Competition and Awards Celebration. The Committee usually meets the first Thursday of each month at AIA Austin\, 801 w 12th St. at 9am. There is also a hybrid way to meet with Zoom. If you are interested in joining this committee\, please email ingrid@aiaaustin.org.
URL:https://calendar.aiaaustin.org/event/design-awards-committee-meeting-2/2028-10-05/
LOCATION:AIA Austin\, 801 W 12th St\, Austin\, TX\, 78701
END:VEVENT
BEGIN:VEVENT
DTSTART;TZID=America/Chicago:20281005T120000
DTEND;TZID=America/Chicago:20281005T130000
DTSTAMP:20260422T192708
CREATED:20251017T145313Z
LAST-MODIFIED:20251017T145313Z
UID:10002911-1854360000-1854363600@calendar.aiaaustin.org
SUMMARY:CRAN Tour
DESCRIPTION:CRAN Tours sell out within 24 hours\, usually to first-round recipients of the CRAN Email List. JOIN HERE>>\n\n\nTicketholders will receive address information upon successful ticket registration.\nAIA Austin cannot reveal the address of homes on the tours\, or sell tickets outside of the email release.\nTickets are FCFS and non-refundable.
URL:https://calendar.aiaaustin.org/event/cran-tour-4-2/2028-10-05/
CATEGORIES:Custom Residential Architects Network Committee
ATTACH;FMTTYPE=image/jpeg:https://calendar.aiaaustin.org/wp-content/uploads/2024/03/AIA-CRAN-June2024.jpg
END:VEVENT
BEGIN:VEVENT
DTSTART;TZID=America/Chicago:20281006T120000
DTEND;TZID=America/Chicago:20281006T130000
DTSTAMP:20260422T192708
CREATED:20260108T222654Z
LAST-MODIFIED:20260108T222655Z
UID:10005052-1854446400-1854450000@calendar.aiaaustin.org
SUMMARY:Architecture: K-12 Meeting
DESCRIPTION:Location: Zoom meeting info will be sent to the email list. Sign up below. \nThe Architecture: K-12 committee invites the community to explore\, create and learn about the practice and value of architecture through consistent\, relevant youth and family program opportunities. If you are interested in teaching children about architecture\, we value your involvement at any level! Please join us during our regular monthly meetings\, typically on the first Friday of every month at 12PM. \nConnect with Architecture K-12: Join the our email list. (Click Committee News – Architecture K-12 to join.)
URL:https://calendar.aiaaustin.org/event/architecture-k-12-meeting-3-3-2-2-2-2-2/2028-10-06/
CATEGORIES:Architecture: K-12 Committee,Committee Meeting
ATTACH;FMTTYPE=image/jpeg:https://calendar.aiaaustin.org/wp-content/uploads/2023/05/k-12-commmeeting.jpg
END:VEVENT
BEGIN:VEVENT
DTSTART;TZID=America/Chicago:20281010T120000
DTEND;TZID=America/Chicago:20281010T130000
DTSTAMP:20260422T192708
CREATED:20260115T215825Z
LAST-MODIFIED:20260115T215825Z
UID:10005646-1854792000-1854795600@calendar.aiaaustin.org
SUMMARY:Mobility Advocacy Meeting
DESCRIPTION:The Mobility Advocacy Committee promotes regional transportation solutions that address equity\, sustainability\, and quality of life issues while providing a range of transportation options. We believe that successful attempts to promote design and quality of life initiatives in the built environment must include transportation and the public realm as integral parts of the whole.\n\nWe typically meet monthly on the second Tuesday from Noon–1:00 p.m. Join our email list to hear about upcoming events.
URL:https://calendar.aiaaustin.org/event/mobility-advocacy-meeting/2028-10-10/
LOCATION:AIA Austin\, 801 W 12th St\, Austin\, TX\, 78701
CATEGORIES:Advocacy Committee,Mobility Committee
END:VEVENT
BEGIN:VEVENT
DTSTART;TZID=America/Chicago:20281019T103000
DTEND;TZID=America/Chicago:20281019T113000
DTSTAMP:20260422T192708
CREATED:20260112T225640Z
LAST-MODIFIED:20260120T182958Z
UID:10005286-1855564200-1855567800@calendar.aiaaustin.org
SUMMARY:Resiliency & Climate Response Meeting
DESCRIPTION:The Resiliency & Climate Response committee helps mitigate\, adapt\, and prepare for the ongoing and future impacts of climate change. We strive to identify practical solutions\, build awareness\, educate\, and advocate for urgency in climate resilience activities. \nWe typically meet the third Thursday of the month at 10:30 a.m. Join our email list to hear about upcoming events.
URL:https://calendar.aiaaustin.org/event/resiliency-climate-response-meeting/2028-10-19/
LOCATION:AIA Austin\, 801 W 12th St\, Austin\, TX\, 78701
CATEGORIES:Advocacy Committee
ATTACH;FMTTYPE=image/png:https://calendar.aiaaustin.org/wp-content/uploads/2026/01/Committee-Event-Feature-768x432-1.png
END:VEVENT
BEGIN:VEVENT
DTSTART;TZID=America/Chicago:20281019T120000
DTEND;TZID=America/Chicago:20281019T130000
DTSTAMP:20260422T192708
CREATED:20260310T190229Z
LAST-MODIFIED:20260310T190229Z
UID:10005965-1855569600-1855573200@calendar.aiaaustin.org
SUMMARY:Small Firms Roundtable Meeting
DESCRIPTION:
URL:https://calendar.aiaaustin.org/event/small-firms-roundtable-meeting-11-4-2/2028-10-19/
CATEGORIES:Committee Meeting,Small Firms Roundtable Committee
ATTACH;FMTTYPE=image/jpeg:https://calendar.aiaaustin.org/wp-content/uploads/2023/02/Small-Firms-Roundtable-meet-e1771259348652.jpg
END:VEVENT
BEGIN:VEVENT
DTSTART;TZID=America/Chicago:20281019T180000
DTEND;TZID=America/Chicago:20281019T190000
DTSTAMP:20260422T192708
CREATED:20250106T162619Z
LAST-MODIFIED:20260112T191217Z
UID:10001499-1855591200-1855594800@calendar.aiaaustin.org
SUMMARY:Latinos in Architecture Committee Meeting
DESCRIPTION:Latinos in Architecture (LiA) is dedicated to fostering a more diverse and inclusive architecture community. Our mission is to provide resources\, support\, and opportunities for Latinx architects\, designers\, and allies. To promote cultural awareness and sensitivity within the broader architectural profession. Through networking events\, mentorship programs\, and professional development initiatives\, LiA strives to create a vibrant and supportive community that reflects the rich diversity of our profession.\n\nSign up for our committee newsletter here!
URL:https://calendar.aiaaustin.org/event/latinos-in-architecture-committee-meeting-12-2-2/2028-10-19/
LOCATION:AIA Austin\, 801 W 12th St\, Austin\, TX\, 78701
CATEGORIES:Committee Meeting,Latinos in Architecture Committee
ATTACH;FMTTYPE=image/jpeg:https://calendar.aiaaustin.org/wp-content/uploads/2023/02/LiA-meet-e1771259459193.jpg
END:VEVENT
BEGIN:VEVENT
DTSTART;TZID=America/Chicago:20281020T113000
DTEND;TZID=America/Chicago:20281020T123000
DTSTAMP:20260422T192708
CREATED:20260409T224842Z
LAST-MODIFIED:20260409T225218Z
UID:10006226-1855654200-1855657800@calendar.aiaaustin.org
SUMMARY:Commercial Architecture
DESCRIPTION:Coming Soon
URL:https://calendar.aiaaustin.org/event/commercial-architecture/2028-10-20/
LOCATION:AIA Austin\, 801 W 12th St\, Austin\, TX\, 78701
END:VEVENT
BEGIN:VEVENT
DTSTART;TZID=America/Chicago:20281023T120000
DTEND;TZID=America/Chicago:20281023T133000
DTSTAMP:20260422T192708
CREATED:20260112T222934Z
LAST-MODIFIED:20260209T200256Z
UID:10005165-1855915200-1855920600@calendar.aiaaustin.org
SUMMARY:Advocacy Roundtable
DESCRIPTION:Each month\, the AIA Austin Advocacy Roundtable brings together professionals to discuss strategies individual professionals\, practices\, and AIA Austin can take to proactively advocate for issues important to our members and the larger community.
URL:https://calendar.aiaaustin.org/event/advocacy-roundtable-2/2028-10-23/
LOCATION:AIA Austin\, 801 W 12th St\, Austin\, TX\, 78701
CATEGORIES:Advocacy Committee
ATTACH;FMTTYPE=image/png:https://calendar.aiaaustin.org/wp-content/uploads/2026/01/Advocacy-Roundtable.png
END:VEVENT
BEGIN:VEVENT
DTSTART;TZID=America/Chicago:20281024T180000
DTEND;TZID=America/Chicago:20281024T190000
DTSTAMP:20260422T192708
CREATED:20260217T153824Z
LAST-MODIFIED:20260217T153824Z
UID:10005829-1856023200-1856026800@calendar.aiaaustin.org
SUMMARY:LGBTQIA+ Alliance Meeting
DESCRIPTION:We will be meeting tonight to discuss upcoming events. All are welcome and we hope to see you there!
URL:https://calendar.aiaaustin.org/event/lgbtqia-alliance-meeting-15/2028-10-24/
CATEGORIES:LGBTQIA+ Alliance Committee
ATTACH;FMTTYPE=image/jpeg:https://calendar.aiaaustin.org/wp-content/uploads/2023/05/lgbtqia_alliance.jpg
END:VEVENT
BEGIN:VEVENT
DTSTART;TZID=America/Chicago:20281102T090000
DTEND;TZID=America/Chicago:20281102T100000
DTSTAMP:20260422T192708
CREATED:20260113T182913Z
LAST-MODIFIED:20260113T183220Z
UID:10005477-1856768400-1856772000@calendar.aiaaustin.org
SUMMARY:Design Awards Committee Meeting
DESCRIPTION:The Design Awards Committee provides a platform to showcase excellence in design that is produced by AIA Austin architects and selected by a panel of distinguished jurors. The committee organizes and implements the annual AIA Austin Design Awards Competition and Awards Celebration. The Committee usually meets the first Thursday of each month at AIA Austin\, 801 w 12th St. at 9am. There is also a hybrid way to meet with Zoom. If you are interested in joining this committee\, please email ingrid@aiaaustin.org.
URL:https://calendar.aiaaustin.org/event/design-awards-committee-meeting-2/2028-11-02/
LOCATION:AIA Austin\, 801 W 12th St\, Austin\, TX\, 78701
END:VEVENT
BEGIN:VEVENT
DTSTART;TZID=America/Chicago:20281102T120000
DTEND;TZID=America/Chicago:20281102T130000
DTSTAMP:20260422T192708
CREATED:20251017T145313Z
LAST-MODIFIED:20251017T145313Z
UID:10002912-1856779200-1856782800@calendar.aiaaustin.org
SUMMARY:CRAN Tour
DESCRIPTION:CRAN Tours sell out within 24 hours\, usually to first-round recipients of the CRAN Email List. JOIN HERE>>\n\n\nTicketholders will receive address information upon successful ticket registration.\nAIA Austin cannot reveal the address of homes on the tours\, or sell tickets outside of the email release.\nTickets are FCFS and non-refundable.
URL:https://calendar.aiaaustin.org/event/cran-tour-4-2/2028-11-02/
CATEGORIES:Custom Residential Architects Network Committee
ATTACH;FMTTYPE=image/jpeg:https://calendar.aiaaustin.org/wp-content/uploads/2024/03/AIA-CRAN-June2024.jpg
END:VEVENT
BEGIN:VEVENT
DTSTART;TZID=America/Chicago:20281103T120000
DTEND;TZID=America/Chicago:20281103T130000
DTSTAMP:20260422T192708
CREATED:20260108T222654Z
LAST-MODIFIED:20260108T222655Z
UID:10005053-1856865600-1856869200@calendar.aiaaustin.org
SUMMARY:Architecture: K-12 Meeting
DESCRIPTION:Location: Zoom meeting info will be sent to the email list. Sign up below. \nThe Architecture: K-12 committee invites the community to explore\, create and learn about the practice and value of architecture through consistent\, relevant youth and family program opportunities. If you are interested in teaching children about architecture\, we value your involvement at any level! Please join us during our regular monthly meetings\, typically on the first Friday of every month at 12PM. \nConnect with Architecture K-12: Join the our email list. (Click Committee News – Architecture K-12 to join.)
URL:https://calendar.aiaaustin.org/event/architecture-k-12-meeting-3-3-2-2-2-2-2/2028-11-03/
CATEGORIES:Architecture: K-12 Committee,Committee Meeting
ATTACH;FMTTYPE=image/jpeg:https://calendar.aiaaustin.org/wp-content/uploads/2023/05/k-12-commmeeting.jpg
END:VEVENT
BEGIN:VEVENT
DTSTART;TZID=America/Chicago:20281114T120000
DTEND;TZID=America/Chicago:20281114T130000
DTSTAMP:20260422T192708
CREATED:20260115T215825Z
LAST-MODIFIED:20260115T215825Z
UID:10005647-1857816000-1857819600@calendar.aiaaustin.org
SUMMARY:Mobility Advocacy Meeting
DESCRIPTION:The Mobility Advocacy Committee promotes regional transportation solutions that address equity\, sustainability\, and quality of life issues while providing a range of transportation options. We believe that successful attempts to promote design and quality of life initiatives in the built environment must include transportation and the public realm as integral parts of the whole.\n\nWe typically meet monthly on the second Tuesday from Noon–1:00 p.m. Join our email list to hear about upcoming events.
URL:https://calendar.aiaaustin.org/event/mobility-advocacy-meeting/2028-11-14/
LOCATION:AIA Austin\, 801 W 12th St\, Austin\, TX\, 78701
CATEGORIES:Advocacy Committee,Mobility Committee
END:VEVENT
BEGIN:VEVENT
DTSTART;TZID=America/Chicago:20281116T103000
DTEND;TZID=America/Chicago:20281116T113000
DTSTAMP:20260422T192708
CREATED:20260112T225640Z
LAST-MODIFIED:20260120T182958Z
UID:10005287-1857983400-1857987000@calendar.aiaaustin.org
SUMMARY:Resiliency & Climate Response Meeting
DESCRIPTION:The Resiliency & Climate Response committee helps mitigate\, adapt\, and prepare for the ongoing and future impacts of climate change. We strive to identify practical solutions\, build awareness\, educate\, and advocate for urgency in climate resilience activities. \nWe typically meet the third Thursday of the month at 10:30 a.m. Join our email list to hear about upcoming events.
URL:https://calendar.aiaaustin.org/event/resiliency-climate-response-meeting/2028-11-16/
LOCATION:AIA Austin\, 801 W 12th St\, Austin\, TX\, 78701
CATEGORIES:Advocacy Committee
ATTACH;FMTTYPE=image/png:https://calendar.aiaaustin.org/wp-content/uploads/2026/01/Committee-Event-Feature-768x432-1.png
END:VEVENT
END:VCALENDAR