BEGIN:VCALENDAR
VERSION:2.0
PRODID:-//AIA Austin Calendar - ECPv6.7.0//NONSGML v1.0//EN
CALSCALE:GREGORIAN
METHOD:PUBLISH
X-ORIGINAL-URL:https://calendar.aiaaustin.org
X-WR-CALDESC:Events for AIA Austin Calendar
REFRESH-INTERVAL;VALUE=DURATION:PT1H
X-Robots-Tag:noindex
X-PUBLISHED-TTL:PT1H
BEGIN:VTIMEZONE
TZID:America/Chicago
BEGIN:DAYLIGHT
TZOFFSETFROM:-0600
TZOFFSETTO:-0500
TZNAME:CDT
DTSTART:20280312T080000
END:DAYLIGHT
BEGIN:STANDARD
TZOFFSETFROM:-0500
TZOFFSETTO:-0600
TZNAME:CST
DTSTART:20281105T070000
END:STANDARD
END:VTIMEZONE
BEGIN:VEVENT
DTSTART;TZID=America/Chicago:20280425T180000
DTEND;TZID=America/Chicago:20280425T190000
DTSTAMP:20260420T101907
CREATED:20260217T153824Z
LAST-MODIFIED:20260217T153824Z
UID:10005823-1840298400-1840302000@calendar.aiaaustin.org
SUMMARY:LGBTQIA+ Alliance Meeting
DESCRIPTION:We will be meeting tonight to discuss upcoming events. All are welcome and we hope to see you there!
URL:https://calendar.aiaaustin.org/event/lgbtqia-alliance-meeting-15/2028-04-25/
CATEGORIES:LGBTQIA+ Alliance Committee
ATTACH;FMTTYPE=image/jpeg:https://calendar.aiaaustin.org/wp-content/uploads/2023/05/lgbtqia_alliance.jpg
END:VEVENT
BEGIN:VEVENT
DTSTART;TZID=America/Chicago:20280504T090000
DTEND;TZID=America/Chicago:20280504T100000
DTSTAMP:20260420T101907
CREATED:20260113T182913Z
LAST-MODIFIED:20260113T183220Z
UID:10005471-1841043600-1841047200@calendar.aiaaustin.org
SUMMARY:Design Awards Committee Meeting
DESCRIPTION:The Design Awards Committee provides a platform to showcase excellence in design that is produced by AIA Austin architects and selected by a panel of distinguished jurors. The committee organizes and implements the annual AIA Austin Design Awards Competition and Awards Celebration. The Committee usually meets the first Thursday of each month at AIA Austin\, 801 w 12th St. at 9am. There is also a hybrid way to meet with Zoom. If you are interested in joining this committee\, please email ingrid@aiaaustin.org.
URL:https://calendar.aiaaustin.org/event/design-awards-committee-meeting-2/2028-05-04/
LOCATION:AIA Austin\, 801 W 12th St\, Austin\, TX\, 78701
END:VEVENT
BEGIN:VEVENT
DTSTART;TZID=America/Chicago:20280504T120000
DTEND;TZID=America/Chicago:20280504T130000
DTSTAMP:20260420T101907
CREATED:20251017T145313Z
LAST-MODIFIED:20251017T145313Z
UID:10002906-1841054400-1841058000@calendar.aiaaustin.org
SUMMARY:CRAN Tour
DESCRIPTION:CRAN Tours sell out within 24 hours\, usually to first-round recipients of the CRAN Email List. JOIN HERE>>\n\n\nTicketholders will receive address information upon successful ticket registration.\nAIA Austin cannot reveal the address of homes on the tours\, or sell tickets outside of the email release.\nTickets are FCFS and non-refundable.
URL:https://calendar.aiaaustin.org/event/cran-tour-4-2/2028-05-04/
CATEGORIES:Custom Residential Architects Network Committee
ATTACH;FMTTYPE=image/jpeg:https://calendar.aiaaustin.org/wp-content/uploads/2024/03/AIA-CRAN-June2024.jpg
END:VEVENT
BEGIN:VEVENT
DTSTART;TZID=America/Chicago:20280505T120000
DTEND;TZID=America/Chicago:20280505T130000
DTSTAMP:20260420T101907
CREATED:20260108T222654Z
LAST-MODIFIED:20260108T222655Z
UID:10005047-1841140800-1841144400@calendar.aiaaustin.org
SUMMARY:Architecture: K-12 Meeting
DESCRIPTION:Location: Zoom meeting info will be sent to the email list. Sign up below. \nThe Architecture: K-12 committee invites the community to explore\, create and learn about the practice and value of architecture through consistent\, relevant youth and family program opportunities. If you are interested in teaching children about architecture\, we value your involvement at any level! Please join us during our regular monthly meetings\, typically on the first Friday of every month at 12PM. \nConnect with Architecture K-12: Join the our email list. (Click Committee News – Architecture K-12 to join.)
URL:https://calendar.aiaaustin.org/event/architecture-k-12-meeting-3-3-2-2-2-2-2/2028-05-05/
CATEGORIES:Architecture: K-12 Committee,Committee Meeting
ATTACH;FMTTYPE=image/jpeg:https://calendar.aiaaustin.org/wp-content/uploads/2023/05/k-12-commmeeting.jpg
END:VEVENT
BEGIN:VEVENT
DTSTART;TZID=America/Chicago:20280509T120000
DTEND;TZID=America/Chicago:20280509T130000
DTSTAMP:20260420T101907
CREATED:20260115T215825Z
LAST-MODIFIED:20260115T215825Z
UID:10005641-1841486400-1841490000@calendar.aiaaustin.org
SUMMARY:Mobility Advocacy Meeting
DESCRIPTION:The Mobility Advocacy Committee promotes regional transportation solutions that address equity\, sustainability\, and quality of life issues while providing a range of transportation options. We believe that successful attempts to promote design and quality of life initiatives in the built environment must include transportation and the public realm as integral parts of the whole.\n\nWe typically meet monthly on the second Tuesday from Noon–1:00 p.m. Join our email list to hear about upcoming events.
URL:https://calendar.aiaaustin.org/event/mobility-advocacy-meeting/2028-05-09/
LOCATION:AIA Austin\, 801 W 12th St\, Austin\, TX\, 78701
CATEGORIES:Advocacy Committee,Mobility Committee
END:VEVENT
BEGIN:VEVENT
DTSTART;TZID=America/Chicago:20280518T103000
DTEND;TZID=America/Chicago:20280518T113000
DTSTAMP:20260420T101907
CREATED:20260112T225640Z
LAST-MODIFIED:20260120T182958Z
UID:10005281-1842258600-1842262200@calendar.aiaaustin.org
SUMMARY:Resiliency & Climate Response Meeting
DESCRIPTION:The Resiliency & Climate Response committee helps mitigate\, adapt\, and prepare for the ongoing and future impacts of climate change. We strive to identify practical solutions\, build awareness\, educate\, and advocate for urgency in climate resilience activities. \nWe typically meet the third Thursday of the month at 10:30 a.m. Join our email list to hear about upcoming events.
URL:https://calendar.aiaaustin.org/event/resiliency-climate-response-meeting/2028-05-18/
LOCATION:AIA Austin\, 801 W 12th St\, Austin\, TX\, 78701
CATEGORIES:Advocacy Committee
ATTACH;FMTTYPE=image/png:https://calendar.aiaaustin.org/wp-content/uploads/2026/01/Committee-Event-Feature-768x432-1.png
END:VEVENT
BEGIN:VEVENT
DTSTART;TZID=America/Chicago:20280518T120000
DTEND;TZID=America/Chicago:20280518T130000
DTSTAMP:20260420T101907
CREATED:20260310T190229Z
LAST-MODIFIED:20260310T190229Z
UID:10005960-1842264000-1842267600@calendar.aiaaustin.org
SUMMARY:Small Firms Roundtable Meeting
DESCRIPTION:
URL:https://calendar.aiaaustin.org/event/small-firms-roundtable-meeting-11-4-2/2028-05-18/
CATEGORIES:Committee Meeting,Small Firms Roundtable Committee
ATTACH;FMTTYPE=image/jpeg:https://calendar.aiaaustin.org/wp-content/uploads/2023/02/Small-Firms-Roundtable-meet-e1771259348652.jpg
END:VEVENT
BEGIN:VEVENT
DTSTART;TZID=America/Chicago:20280518T180000
DTEND;TZID=America/Chicago:20280518T190000
DTSTAMP:20260420T101907
CREATED:20250106T162619Z
LAST-MODIFIED:20260112T191217Z
UID:10000557-1842285600-1842289200@calendar.aiaaustin.org
SUMMARY:Latinos in Architecture Committee Meeting
DESCRIPTION:Latinos in Architecture (LiA) is dedicated to fostering a more diverse and inclusive architecture community. Our mission is to provide resources\, support\, and opportunities for Latinx architects\, designers\, and allies. To promote cultural awareness and sensitivity within the broader architectural profession. Through networking events\, mentorship programs\, and professional development initiatives\, LiA strives to create a vibrant and supportive community that reflects the rich diversity of our profession.\n\nSign up for our committee newsletter here!
URL:https://calendar.aiaaustin.org/event/latinos-in-architecture-committee-meeting-12-2-2/2028-05-18/
LOCATION:AIA Austin\, 801 W 12th St\, Austin\, TX\, 78701
CATEGORIES:Committee Meeting,Latinos in Architecture Committee
ATTACH;FMTTYPE=image/jpeg:https://calendar.aiaaustin.org/wp-content/uploads/2023/02/LiA-meet-e1771259459193.jpg
END:VEVENT
BEGIN:VEVENT
DTSTART;TZID=America/Chicago:20280519T113000
DTEND;TZID=America/Chicago:20280519T123000
DTSTAMP:20260420T101907
CREATED:20260409T224842Z
LAST-MODIFIED:20260409T225218Z
UID:10006221-1842348600-1842352200@calendar.aiaaustin.org
SUMMARY:Commercial Architecture
DESCRIPTION:Coming Soon
URL:https://calendar.aiaaustin.org/event/commercial-architecture/2028-05-19/
LOCATION:AIA Austin\, 801 W 12th St\, Austin\, TX\, 78701
END:VEVENT
BEGIN:VEVENT
DTSTART;TZID=America/Chicago:20280522T120000
DTEND;TZID=America/Chicago:20280522T133000
DTSTAMP:20260420T101908
CREATED:20260112T222934Z
LAST-MODIFIED:20260209T200256Z
UID:10005160-1842609600-1842615000@calendar.aiaaustin.org
SUMMARY:Advocacy Roundtable
DESCRIPTION:Each month\, the AIA Austin Advocacy Roundtable brings together professionals to discuss strategies individual professionals\, practices\, and AIA Austin can take to proactively advocate for issues important to our members and the larger community.
URL:https://calendar.aiaaustin.org/event/advocacy-roundtable-2/2028-05-22/
LOCATION:AIA Austin\, 801 W 12th St\, Austin\, TX\, 78701
CATEGORIES:Advocacy Committee
ATTACH;FMTTYPE=image/png:https://calendar.aiaaustin.org/wp-content/uploads/2026/01/Advocacy-Roundtable.png
END:VEVENT
BEGIN:VEVENT
DTSTART;TZID=America/Chicago:20280523T180000
DTEND;TZID=America/Chicago:20280523T190000
DTSTAMP:20260420T101908
CREATED:20260217T153824Z
LAST-MODIFIED:20260217T153824Z
UID:10005824-1842717600-1842721200@calendar.aiaaustin.org
SUMMARY:LGBTQIA+ Alliance Meeting
DESCRIPTION:We will be meeting tonight to discuss upcoming events. All are welcome and we hope to see you there!
URL:https://calendar.aiaaustin.org/event/lgbtqia-alliance-meeting-15/2028-05-23/
CATEGORIES:LGBTQIA+ Alliance Committee
ATTACH;FMTTYPE=image/jpeg:https://calendar.aiaaustin.org/wp-content/uploads/2023/05/lgbtqia_alliance.jpg
END:VEVENT
BEGIN:VEVENT
DTSTART;TZID=America/Chicago:20280601T090000
DTEND;TZID=America/Chicago:20280601T100000
DTSTAMP:20260420T101908
CREATED:20260113T182913Z
LAST-MODIFIED:20260113T183220Z
UID:10005472-1843462800-1843466400@calendar.aiaaustin.org
SUMMARY:Design Awards Committee Meeting
DESCRIPTION:The Design Awards Committee provides a platform to showcase excellence in design that is produced by AIA Austin architects and selected by a panel of distinguished jurors. The committee organizes and implements the annual AIA Austin Design Awards Competition and Awards Celebration. The Committee usually meets the first Thursday of each month at AIA Austin\, 801 w 12th St. at 9am. There is also a hybrid way to meet with Zoom. If you are interested in joining this committee\, please email ingrid@aiaaustin.org.
URL:https://calendar.aiaaustin.org/event/design-awards-committee-meeting-2/2028-06-01/
LOCATION:AIA Austin\, 801 W 12th St\, Austin\, TX\, 78701
END:VEVENT
BEGIN:VEVENT
DTSTART;TZID=America/Chicago:20280601T120000
DTEND;TZID=America/Chicago:20280601T130000
DTSTAMP:20260420T101908
CREATED:20251017T145313Z
LAST-MODIFIED:20251017T145313Z
UID:10002907-1843473600-1843477200@calendar.aiaaustin.org
SUMMARY:CRAN Tour
DESCRIPTION:CRAN Tours sell out within 24 hours\, usually to first-round recipients of the CRAN Email List. JOIN HERE>>\n\n\nTicketholders will receive address information upon successful ticket registration.\nAIA Austin cannot reveal the address of homes on the tours\, or sell tickets outside of the email release.\nTickets are FCFS and non-refundable.
URL:https://calendar.aiaaustin.org/event/cran-tour-4-2/2028-06-01/
CATEGORIES:Custom Residential Architects Network Committee
ATTACH;FMTTYPE=image/jpeg:https://calendar.aiaaustin.org/wp-content/uploads/2024/03/AIA-CRAN-June2024.jpg
END:VEVENT
BEGIN:VEVENT
DTSTART;TZID=America/Chicago:20280602T120000
DTEND;TZID=America/Chicago:20280602T130000
DTSTAMP:20260420T101908
CREATED:20260108T222654Z
LAST-MODIFIED:20260108T222655Z
UID:10005048-1843560000-1843563600@calendar.aiaaustin.org
SUMMARY:Architecture: K-12 Meeting
DESCRIPTION:Location: Zoom meeting info will be sent to the email list. Sign up below. \nThe Architecture: K-12 committee invites the community to explore\, create and learn about the practice and value of architecture through consistent\, relevant youth and family program opportunities. If you are interested in teaching children about architecture\, we value your involvement at any level! Please join us during our regular monthly meetings\, typically on the first Friday of every month at 12PM. \nConnect with Architecture K-12: Join the our email list. (Click Committee News – Architecture K-12 to join.)
URL:https://calendar.aiaaustin.org/event/architecture-k-12-meeting-3-3-2-2-2-2-2/2028-06-02/
CATEGORIES:Architecture: K-12 Committee,Committee Meeting
ATTACH;FMTTYPE=image/jpeg:https://calendar.aiaaustin.org/wp-content/uploads/2023/05/k-12-commmeeting.jpg
END:VEVENT
BEGIN:VEVENT
DTSTART;TZID=America/Chicago:20280613T120000
DTEND;TZID=America/Chicago:20280613T130000
DTSTAMP:20260420T101908
CREATED:20260115T215825Z
LAST-MODIFIED:20260115T215825Z
UID:10005642-1844510400-1844514000@calendar.aiaaustin.org
SUMMARY:Mobility Advocacy Meeting
DESCRIPTION:The Mobility Advocacy Committee promotes regional transportation solutions that address equity\, sustainability\, and quality of life issues while providing a range of transportation options. We believe that successful attempts to promote design and quality of life initiatives in the built environment must include transportation and the public realm as integral parts of the whole.\n\nWe typically meet monthly on the second Tuesday from Noon–1:00 p.m. Join our email list to hear about upcoming events.
URL:https://calendar.aiaaustin.org/event/mobility-advocacy-meeting/2028-06-13/
LOCATION:AIA Austin\, 801 W 12th St\, Austin\, TX\, 78701
CATEGORIES:Advocacy Committee,Mobility Committee
END:VEVENT
BEGIN:VEVENT
DTSTART;TZID=America/Chicago:20280615T103000
DTEND;TZID=America/Chicago:20280615T113000
DTSTAMP:20260420T101908
CREATED:20260112T225640Z
LAST-MODIFIED:20260120T182958Z
UID:10005282-1844677800-1844681400@calendar.aiaaustin.org
SUMMARY:Resiliency & Climate Response Meeting
DESCRIPTION:The Resiliency & Climate Response committee helps mitigate\, adapt\, and prepare for the ongoing and future impacts of climate change. We strive to identify practical solutions\, build awareness\, educate\, and advocate for urgency in climate resilience activities. \nWe typically meet the third Thursday of the month at 10:30 a.m. Join our email list to hear about upcoming events.
URL:https://calendar.aiaaustin.org/event/resiliency-climate-response-meeting/2028-06-15/
LOCATION:AIA Austin\, 801 W 12th St\, Austin\, TX\, 78701
CATEGORIES:Advocacy Committee
ATTACH;FMTTYPE=image/png:https://calendar.aiaaustin.org/wp-content/uploads/2026/01/Committee-Event-Feature-768x432-1.png
END:VEVENT
BEGIN:VEVENT
DTSTART;TZID=America/Chicago:20280615T120000
DTEND;TZID=America/Chicago:20280615T130000
DTSTAMP:20260420T101908
CREATED:20260310T190229Z
LAST-MODIFIED:20260310T190229Z
UID:10005961-1844683200-1844686800@calendar.aiaaustin.org
SUMMARY:Small Firms Roundtable Meeting
DESCRIPTION:
URL:https://calendar.aiaaustin.org/event/small-firms-roundtable-meeting-11-4-2/2028-06-15/
CATEGORIES:Committee Meeting,Small Firms Roundtable Committee
ATTACH;FMTTYPE=image/jpeg:https://calendar.aiaaustin.org/wp-content/uploads/2023/02/Small-Firms-Roundtable-meet-e1771259348652.jpg
END:VEVENT
BEGIN:VEVENT
DTSTART;TZID=America/Chicago:20280615T180000
DTEND;TZID=America/Chicago:20280615T190000
DTSTAMP:20260420T101908
CREATED:20250106T162619Z
LAST-MODIFIED:20260112T191217Z
UID:10000815-1844704800-1844708400@calendar.aiaaustin.org
SUMMARY:Latinos in Architecture Committee Meeting
DESCRIPTION:Latinos in Architecture (LiA) is dedicated to fostering a more diverse and inclusive architecture community. Our mission is to provide resources\, support\, and opportunities for Latinx architects\, designers\, and allies. To promote cultural awareness and sensitivity within the broader architectural profession. Through networking events\, mentorship programs\, and professional development initiatives\, LiA strives to create a vibrant and supportive community that reflects the rich diversity of our profession.\n\nSign up for our committee newsletter here!
URL:https://calendar.aiaaustin.org/event/latinos-in-architecture-committee-meeting-12-2-2/2028-06-15/
LOCATION:AIA Austin\, 801 W 12th St\, Austin\, TX\, 78701
CATEGORIES:Committee Meeting,Latinos in Architecture Committee
ATTACH;FMTTYPE=image/jpeg:https://calendar.aiaaustin.org/wp-content/uploads/2023/02/LiA-meet-e1771259459193.jpg
END:VEVENT
BEGIN:VEVENT
DTSTART;TZID=America/Chicago:20280616T113000
DTEND;TZID=America/Chicago:20280616T123000
DTSTAMP:20260420T101908
CREATED:20260409T224842Z
LAST-MODIFIED:20260409T225218Z
UID:10006222-1844767800-1844771400@calendar.aiaaustin.org
SUMMARY:Commercial Architecture
DESCRIPTION:Coming Soon
URL:https://calendar.aiaaustin.org/event/commercial-architecture/2028-06-16/
LOCATION:AIA Austin\, 801 W 12th St\, Austin\, TX\, 78701
END:VEVENT
BEGIN:VEVENT
DTSTART;TZID=America/Chicago:20280626T120000
DTEND;TZID=America/Chicago:20280626T133000
DTSTAMP:20260420T101908
CREATED:20260112T222934Z
LAST-MODIFIED:20260209T200256Z
UID:10005161-1845633600-1845639000@calendar.aiaaustin.org
SUMMARY:Advocacy Roundtable
DESCRIPTION:Each month\, the AIA Austin Advocacy Roundtable brings together professionals to discuss strategies individual professionals\, practices\, and AIA Austin can take to proactively advocate for issues important to our members and the larger community.
URL:https://calendar.aiaaustin.org/event/advocacy-roundtable-2/2028-06-26/
LOCATION:AIA Austin\, 801 W 12th St\, Austin\, TX\, 78701
CATEGORIES:Advocacy Committee
ATTACH;FMTTYPE=image/png:https://calendar.aiaaustin.org/wp-content/uploads/2026/01/Advocacy-Roundtable.png
END:VEVENT
BEGIN:VEVENT
DTSTART;TZID=America/Chicago:20280627T180000
DTEND;TZID=America/Chicago:20280627T190000
DTSTAMP:20260420T101908
CREATED:20260217T153824Z
LAST-MODIFIED:20260217T153824Z
UID:10005825-1845741600-1845745200@calendar.aiaaustin.org
SUMMARY:LGBTQIA+ Alliance Meeting
DESCRIPTION:We will be meeting tonight to discuss upcoming events. All are welcome and we hope to see you there!
URL:https://calendar.aiaaustin.org/event/lgbtqia-alliance-meeting-15/2028-06-27/
CATEGORIES:LGBTQIA+ Alliance Committee
ATTACH;FMTTYPE=image/jpeg:https://calendar.aiaaustin.org/wp-content/uploads/2023/05/lgbtqia_alliance.jpg
END:VEVENT
BEGIN:VEVENT
DTSTART;TZID=America/Chicago:20280706T090000
DTEND;TZID=America/Chicago:20280706T100000
DTSTAMP:20260420T101908
CREATED:20260113T182913Z
LAST-MODIFIED:20260113T183220Z
UID:10005473-1846486800-1846490400@calendar.aiaaustin.org
SUMMARY:Design Awards Committee Meeting
DESCRIPTION:The Design Awards Committee provides a platform to showcase excellence in design that is produced by AIA Austin architects and selected by a panel of distinguished jurors. The committee organizes and implements the annual AIA Austin Design Awards Competition and Awards Celebration. The Committee usually meets the first Thursday of each month at AIA Austin\, 801 w 12th St. at 9am. There is also a hybrid way to meet with Zoom. If you are interested in joining this committee\, please email ingrid@aiaaustin.org.
URL:https://calendar.aiaaustin.org/event/design-awards-committee-meeting-2/2028-07-06/
LOCATION:AIA Austin\, 801 W 12th St\, Austin\, TX\, 78701
END:VEVENT
BEGIN:VEVENT
DTSTART;TZID=America/Chicago:20280706T120000
DTEND;TZID=America/Chicago:20280706T130000
DTSTAMP:20260420T101908
CREATED:20251017T145313Z
LAST-MODIFIED:20251017T145313Z
UID:10002908-1846497600-1846501200@calendar.aiaaustin.org
SUMMARY:CRAN Tour
DESCRIPTION:CRAN Tours sell out within 24 hours\, usually to first-round recipients of the CRAN Email List. JOIN HERE>>\n\n\nTicketholders will receive address information upon successful ticket registration.\nAIA Austin cannot reveal the address of homes on the tours\, or sell tickets outside of the email release.\nTickets are FCFS and non-refundable.
URL:https://calendar.aiaaustin.org/event/cran-tour-4-2/2028-07-06/
CATEGORIES:Custom Residential Architects Network Committee
ATTACH;FMTTYPE=image/jpeg:https://calendar.aiaaustin.org/wp-content/uploads/2024/03/AIA-CRAN-June2024.jpg
END:VEVENT
BEGIN:VEVENT
DTSTART;TZID=America/Chicago:20280707T120000
DTEND;TZID=America/Chicago:20280707T130000
DTSTAMP:20260420T101908
CREATED:20260108T222654Z
LAST-MODIFIED:20260108T222655Z
UID:10005049-1846584000-1846587600@calendar.aiaaustin.org
SUMMARY:Architecture: K-12 Meeting
DESCRIPTION:Location: Zoom meeting info will be sent to the email list. Sign up below. \nThe Architecture: K-12 committee invites the community to explore\, create and learn about the practice and value of architecture through consistent\, relevant youth and family program opportunities. If you are interested in teaching children about architecture\, we value your involvement at any level! Please join us during our regular monthly meetings\, typically on the first Friday of every month at 12PM. \nConnect with Architecture K-12: Join the our email list. (Click Committee News – Architecture K-12 to join.)
URL:https://calendar.aiaaustin.org/event/architecture-k-12-meeting-3-3-2-2-2-2-2/2028-07-07/
CATEGORIES:Architecture: K-12 Committee,Committee Meeting
ATTACH;FMTTYPE=image/jpeg:https://calendar.aiaaustin.org/wp-content/uploads/2023/05/k-12-commmeeting.jpg
END:VEVENT
BEGIN:VEVENT
DTSTART;TZID=America/Chicago:20280711T120000
DTEND;TZID=America/Chicago:20280711T130000
DTSTAMP:20260420T101908
CREATED:20260115T215825Z
LAST-MODIFIED:20260115T215825Z
UID:10005643-1846929600-1846933200@calendar.aiaaustin.org
SUMMARY:Mobility Advocacy Meeting
DESCRIPTION:The Mobility Advocacy Committee promotes regional transportation solutions that address equity\, sustainability\, and quality of life issues while providing a range of transportation options. We believe that successful attempts to promote design and quality of life initiatives in the built environment must include transportation and the public realm as integral parts of the whole.\n\nWe typically meet monthly on the second Tuesday from Noon–1:00 p.m. Join our email list to hear about upcoming events.
URL:https://calendar.aiaaustin.org/event/mobility-advocacy-meeting/2028-07-11/
LOCATION:AIA Austin\, 801 W 12th St\, Austin\, TX\, 78701
CATEGORIES:Advocacy Committee,Mobility Committee
END:VEVENT
BEGIN:VEVENT
DTSTART;TZID=America/Chicago:20280720T103000
DTEND;TZID=America/Chicago:20280720T113000
DTSTAMP:20260420T101908
CREATED:20260112T225640Z
LAST-MODIFIED:20260120T182958Z
UID:10005283-1847701800-1847705400@calendar.aiaaustin.org
SUMMARY:Resiliency & Climate Response Meeting
DESCRIPTION:The Resiliency & Climate Response committee helps mitigate\, adapt\, and prepare for the ongoing and future impacts of climate change. We strive to identify practical solutions\, build awareness\, educate\, and advocate for urgency in climate resilience activities. \nWe typically meet the third Thursday of the month at 10:30 a.m. Join our email list to hear about upcoming events.
URL:https://calendar.aiaaustin.org/event/resiliency-climate-response-meeting/2028-07-20/
LOCATION:AIA Austin\, 801 W 12th St\, Austin\, TX\, 78701
CATEGORIES:Advocacy Committee
ATTACH;FMTTYPE=image/png:https://calendar.aiaaustin.org/wp-content/uploads/2026/01/Committee-Event-Feature-768x432-1.png
END:VEVENT
BEGIN:VEVENT
DTSTART;TZID=America/Chicago:20280720T120000
DTEND;TZID=America/Chicago:20280720T130000
DTSTAMP:20260420T101908
CREATED:20260310T190229Z
LAST-MODIFIED:20260310T190229Z
UID:10005962-1847707200-1847710800@calendar.aiaaustin.org
SUMMARY:Small Firms Roundtable Meeting
DESCRIPTION:
URL:https://calendar.aiaaustin.org/event/small-firms-roundtable-meeting-11-4-2/2028-07-20/
CATEGORIES:Committee Meeting,Small Firms Roundtable Committee
ATTACH;FMTTYPE=image/jpeg:https://calendar.aiaaustin.org/wp-content/uploads/2023/02/Small-Firms-Roundtable-meet-e1771259348652.jpg
END:VEVENT
BEGIN:VEVENT
DTSTART;TZID=America/Chicago:20280720T180000
DTEND;TZID=America/Chicago:20280720T190000
DTSTAMP:20260420T101908
CREATED:20250106T162619Z
LAST-MODIFIED:20260112T191217Z
UID:10000816-1847728800-1847732400@calendar.aiaaustin.org
SUMMARY:Latinos in Architecture Committee Meeting
DESCRIPTION:Latinos in Architecture (LiA) is dedicated to fostering a more diverse and inclusive architecture community. Our mission is to provide resources\, support\, and opportunities for Latinx architects\, designers\, and allies. To promote cultural awareness and sensitivity within the broader architectural profession. Through networking events\, mentorship programs\, and professional development initiatives\, LiA strives to create a vibrant and supportive community that reflects the rich diversity of our profession.\n\nSign up for our committee newsletter here!
URL:https://calendar.aiaaustin.org/event/latinos-in-architecture-committee-meeting-12-2-2/2028-07-20/
LOCATION:AIA Austin\, 801 W 12th St\, Austin\, TX\, 78701
CATEGORIES:Committee Meeting,Latinos in Architecture Committee
ATTACH;FMTTYPE=image/jpeg:https://calendar.aiaaustin.org/wp-content/uploads/2023/02/LiA-meet-e1771259459193.jpg
END:VEVENT
BEGIN:VEVENT
DTSTART;TZID=America/Chicago:20280721T113000
DTEND;TZID=America/Chicago:20280721T123000
DTSTAMP:20260420T101908
CREATED:20260409T224842Z
LAST-MODIFIED:20260409T225218Z
UID:10006223-1847791800-1847795400@calendar.aiaaustin.org
SUMMARY:Commercial Architecture
DESCRIPTION:Coming Soon
URL:https://calendar.aiaaustin.org/event/commercial-architecture/2028-07-21/
LOCATION:AIA Austin\, 801 W 12th St\, Austin\, TX\, 78701
END:VEVENT
BEGIN:VEVENT
DTSTART;TZID=America/Chicago:20280724T120000
DTEND;TZID=America/Chicago:20280724T133000
DTSTAMP:20260420T101908
CREATED:20260112T222934Z
LAST-MODIFIED:20260209T200256Z
UID:10005162-1848052800-1848058200@calendar.aiaaustin.org
SUMMARY:Advocacy Roundtable
DESCRIPTION:Each month\, the AIA Austin Advocacy Roundtable brings together professionals to discuss strategies individual professionals\, practices\, and AIA Austin can take to proactively advocate for issues important to our members and the larger community.
URL:https://calendar.aiaaustin.org/event/advocacy-roundtable-2/2028-07-24/
LOCATION:AIA Austin\, 801 W 12th St\, Austin\, TX\, 78701
CATEGORIES:Advocacy Committee
ATTACH;FMTTYPE=image/png:https://calendar.aiaaustin.org/wp-content/uploads/2026/01/Advocacy-Roundtable.png
END:VEVENT
END:VCALENDAR