BEGIN:VCALENDAR
VERSION:2.0
PRODID:-//AIA Austin Calendar - ECPv6.7.0//NONSGML v1.0//EN
CALSCALE:GREGORIAN
METHOD:PUBLISH
X-ORIGINAL-URL:https://calendar.aiaaustin.org
X-WR-CALDESC:Events for AIA Austin Calendar
REFRESH-INTERVAL;VALUE=DURATION:PT1H
X-Robots-Tag:noindex
X-PUBLISHED-TTL:PT1H
BEGIN:VTIMEZONE
TZID:America/Chicago
BEGIN:DAYLIGHT
TZOFFSETFROM:-0600
TZOFFSETTO:-0500
TZNAME:CDT
DTSTART:20230312T080000
END:DAYLIGHT
BEGIN:STANDARD
TZOFFSETFROM:-0500
TZOFFSETTO:-0600
TZNAME:CST
DTSTART:20231105T070000
END:STANDARD
END:VTIMEZONE
BEGIN:VEVENT
DTSTART;TZID=America/Chicago:20230502T160000
DTEND;TZID=America/Chicago:20230502T160000
DTSTAMP:20260421T004956
CREATED:20230417T210741Z
LAST-MODIFIED:20230526T201957Z
UID:10000098-1683043200-1683043200@calendar.aiaaustin.org
SUMMARY:WiA Site Tour: Austin State Hospital
DESCRIPTION:The Austin State Hospital is a 374\,000 SF replacement inpatient psychiatric hospital with 240 adult beds\, which is currently under construction. The Campus Master Plan was developed in 2018\, followed immediately by the development of the hospital replacement design and construction. The 95-acre historic campus is in the center of Austin\, with vibrant residential neighborhoods\, mixed-use development\, and busy streets on all sides. \nDuring this tour\, Natale Stephens\, Healthcare Planner; Jeff Jewesson\, Senior Architect; Emily Barris\, Project Architect; and Casey England\, Project Manager\, all from Page\, will discuss the consolidation of hospital services into one facility\, as well as the design process working with Texas Health and Human Services and Dell Medical School. The design and construction team will discuss specific constraints and opportunities of the site and facility design. This is a unique brain health facility designed to enhance the leading-edge care provided while eliminating the barriers of the existing facilities. \nCLICK TO REGISTER \nPresenters:\nNatale Stephens\, AIA EDAC\nNatale Stephens\, AIA\, EDAC\, is an Associate Principal and Senior Healthcare Planner at Page. Natale co-leads the behavioral health workgroup at Page\, and engages in research\, mentorship\, as well as authoring articles and white papers on the impact of the environment on behavior\, health\, and well-being. She has a passion for universal design and engages in a balanced approach between industry best practices and innovative design that pushes the need for evolution in building technology\, care delivery\, and facility operations. \n\nEmily Barris\, AIA\, NCARB\, LEED AP\nEmily’s technical and practical approach to architecture found its match when she began working on medical facilities of all varieties. Healthcare architecture affects the community from macro to micro levels. Providing such critical infrastructure can have a major impact in the development and quality of life in a community while the smallest detail within a patient room or public space within the medical facility itself can have a profound calming impact on patient or family member in a difficult situation. \n\nJeff Jewesson\, AIA\nJeff is a Senior Project Architect who has extensive experience working on highly sophisticated healthcare projects. He has been involved in a wide range of medical\, high tech and educational facilities involving both new and additional alteration projects. \n\nCasey England\, AIA\, RID\, LEED AP\nCasey works on a variety of complex projects for Page. His responsibilities include creating partnerships between clients and project stakeholders\, facilitating project communication\, working closely with construction contract administration particularly in regards to verification of project documents\, and researching pertinent construction codes.
URL:https://calendar.aiaaustin.org/event/wia-site-tour-austin-state-hospital/
LOCATION:Austin State Hospital\, 4110 Guadalupe St\, Austin\, TX\, 78751\, United States
CATEGORIES:Women in Architecture Committee
ATTACH;FMTTYPE=image/jpeg:https://calendar.aiaaustin.org/wp-content/uploads/2023/04/instagram_1_ash_entry_exterior.jpg
END:VEVENT
BEGIN:VEVENT
DTSTART;TZID=America/Chicago:20230519T083000
DTEND;TZID=America/Chicago:20230519T083000
DTSTAMP:20260421T004956
CREATED:20230207T174710Z
LAST-MODIFIED:20230527T183711Z
UID:10000665-1684485000-1684485000@calendar.aiaaustin.org
SUMMARY:Women in Architecture Committee Meeting
DESCRIPTION:Join the Women in Architecture group for their monthly meetings on the third Friday of each month. All meetings will be virtual via Zoom unless otherwise noted. Sign up for our mailing list here to receive the Zoom invite! \nLearn more about WiA >>> \n2023 Chair: Carina Coel\, AIA\n2023 Chair-Elect: Ashton Brooks\nAIA Austin staff liaison: Julia Brown
URL:https://calendar.aiaaustin.org/event/women-in-architecture-committee-meeting-4/2023-05-19/
CATEGORIES:Women in Architecture Committee
ATTACH;FMTTYPE=image/jpeg:https://calendar.aiaaustin.org/wp-content/uploads/2023/02/WIA-commmeeting.jpg
END:VEVENT
BEGIN:VEVENT
DTSTART;TZID=America/Chicago:20230519T083000
DTEND;TZID=America/Chicago:20230519T083000
DTSTAMP:20260421T004956
CREATED:20230210T183946Z
LAST-MODIFIED:20230322T193716Z
UID:10000020-1684485000-1684485000@calendar.aiaaustin.org
SUMMARY:Women in Architecture Committee Meeting
DESCRIPTION:Join the Women in Architecture group for their monthly meetings on the third Friday of each month. All meetings will be virtual via Zoom unless otherwise noted. Sign up for our mailing list here to receive the Zoom invite! \nLearn more about WiA >>> \n2023 Chair: Carina Coel\, AIA\n2023 Chair-Elect: Ashton Brooks\nAIA Austin staff liaison: Julia Brown
URL:https://calendar.aiaaustin.org/event/women-in-architecture-committee-meeting-5/
CATEGORIES:Women in Architecture Committee
ATTACH;FMTTYPE=image/jpeg:https://calendar.aiaaustin.org/wp-content/uploads/2023/02/WIA-commmeeting.jpg
END:VEVENT
END:VCALENDAR