BEGIN:VCALENDAR
VERSION:2.0
PRODID:-//AIA Austin Calendar - ECPv6.7.0//NONSGML v1.0//EN
CALSCALE:GREGORIAN
METHOD:PUBLISH
X-WR-CALNAME:AIA Austin Calendar
X-ORIGINAL-URL:https://calendar.aiaaustin.org
X-WR-CALDESC:Events for AIA Austin Calendar
REFRESH-INTERVAL;VALUE=DURATION:PT1H
X-Robots-Tag:noindex
X-PUBLISHED-TTL:PT1H
BEGIN:VTIMEZONE
TZID:America/Chicago
BEGIN:DAYLIGHT
TZOFFSETFROM:-0600
TZOFFSETTO:-0500
TZNAME:CDT
DTSTART:20250309T080000
END:DAYLIGHT
BEGIN:STANDARD
TZOFFSETFROM:-0500
TZOFFSETTO:-0600
TZNAME:CST
DTSTART:20251102T070000
END:STANDARD
END:VTIMEZONE
BEGIN:VEVENT
DTSTART;TZID=America/Chicago:20250318T180000
DTEND;TZID=America/Chicago:20250318T190000
DTSTAMP:20260421T040640
CREATED:20250311T170541Z
LAST-MODIFIED:20250311T170811Z
UID:10003016-1742320800-1742324400@calendar.aiaaustin.org
SUMMARY:LGBTQIA+ Alliance Meeting
DESCRIPTION:We are gathering at a different location this month\, Cosmic Saltillo\, 1300 E 4th St\, Austin\, TX 78702. We’ll make our own zines while we talk through upcoming events and planning needs. Hope to see you there! \nMarch Meeting Agenda: \n\n\n6:00 pm – grab a drink and gossip about the week\n\n\n6:15 pm – committee content\n\n\nsecond annual Queer Austin Bike Tour – QABT2.0: register here (March 22)\n\n\nQTOPIA zine event: (April 24)\n\n\nexploratory zine activity – paper\, scissors\, and markers provided\n\n\n\n\nHill Country Ride for AIDS: join our team! HCRA (May 3)\n\n\n\n\n6:45 pm – final tea?\n\n\n7:00 pm – official meeting adjourned
URL:https://calendar.aiaaustin.org/event/lgbtqia-alliance-meeting-13/
LOCATION:Cosmic Saltillo\, 1300 E 4th St\, Austin\, 78702\, United States
CATEGORIES:LGBTQIA+ Alliance Committee
ATTACH;FMTTYPE=image/jpeg:https://calendar.aiaaustin.org/wp-content/uploads/2023/05/lgbtqia_alliance.jpg
END:VEVENT
END:VCALENDAR