BEGIN:VCALENDAR
VERSION:2.0
PRODID:-//AIA Austin Calendar - ECPv6.7.0//NONSGML v1.0//EN
CALSCALE:GREGORIAN
METHOD:PUBLISH
X-ORIGINAL-URL:https://calendar.aiaaustin.org
X-WR-CALDESC:Events for AIA Austin Calendar
REFRESH-INTERVAL;VALUE=DURATION:PT1H
X-Robots-Tag:noindex
X-PUBLISHED-TTL:PT1H
BEGIN:VTIMEZONE
TZID:America/Chicago
BEGIN:DAYLIGHT
TZOFFSETFROM:-0600
TZOFFSETTO:-0500
TZNAME:CDT
DTSTART:20250309T080000
END:DAYLIGHT
BEGIN:STANDARD
TZOFFSETFROM:-0500
TZOFFSETTO:-0600
TZNAME:CST
DTSTART:20251102T070000
END:STANDARD
END:VTIMEZONE
BEGIN:VEVENT
DTSTART;TZID=America/Chicago:20250128T180000
DTEND;TZID=America/Chicago:20250128T190000
DTSTAMP:20260420T213852
CREATED:20250114T224553Z
LAST-MODIFIED:20250121T154748Z
UID:10003014-1738087200-1738090800@calendar.aiaaustin.org
SUMMARY:LGBTQIA+ Alliance Meeting
DESCRIPTION:To start the year\, we’ll gather at the E 6th Street location of Lazarus Brewing\, at 1902 E 6th St\, Austin\, TX. \nWe’ll discuss the new date for the Second Annual Queer Austin Bike Tour (QABT2.0) and go over our events for the year. As always\, we’ll have time to gab and connect. We hope to see you there! \n2025 Upcoming Events: \n\n\nArchitect Day at the Capitol (Feb)\n\n\nQABT2.0 (March)\n\n\nHill Country Ride for AIDS (May)\n\n\nQTOPIA 2.0 (TBD)
URL:https://calendar.aiaaustin.org/event/lgbtqia-alliance-meeting-11/
LOCATION:Lazarus Brewing Co. – East 6th\, 1902 E 6th St.\, Austin\, TX\, United States
CATEGORIES:LGBTQIA+ Alliance Committee
ATTACH;FMTTYPE=image/jpeg:https://calendar.aiaaustin.org/wp-content/uploads/2023/05/lgbtqia_alliance.jpg
END:VEVENT
END:VCALENDAR