BEGIN:VCALENDAR
VERSION:2.0
PRODID:-//AIA Austin Calendar - ECPv6.7.0//NONSGML v1.0//EN
CALSCALE:GREGORIAN
METHOD:PUBLISH
X-WR-CALNAME:AIA Austin Calendar
X-ORIGINAL-URL:https://calendar.aiaaustin.org
X-WR-CALDESC:Events for AIA Austin Calendar
REFRESH-INTERVAL;VALUE=DURATION:PT1H
X-Robots-Tag:noindex
X-PUBLISHED-TTL:PT1H
BEGIN:VTIMEZONE
TZID:America/Chicago
BEGIN:DAYLIGHT
TZOFFSETFROM:-0600
TZOFFSETTO:-0500
TZNAME:CDT
DTSTART:20240310T080000
END:DAYLIGHT
BEGIN:STANDARD
TZOFFSETFROM:-0500
TZOFFSETTO:-0600
TZNAME:CST
DTSTART:20241103T070000
END:STANDARD
END:VTIMEZONE
BEGIN:VEVENT
DTSTART;VALUE=DATE:20241207
DTEND;VALUE=DATE:20241208
DTSTAMP:20260420T171004
CREATED:20241114T161929Z
LAST-MODIFIED:20241205T151349Z
UID:10002418-1733529600-1733615999@calendar.aiaaustin.org
SUMMARY:LGBTQIA+ Alliance Queer Austin Bike Tour
DESCRIPTION:Join us for the Second Annual Queer Austin Bike Tour on December 7th\, 2024! This year’s tour celebrates the vibrant yet transient nature of queer spaces. We’ll explore important landmarks in Austin’s queer uprising and cherished cultural hubs\, honoring the legacy of spaces we’ve lost and those still at risk. \nThe tour is a 4.5-mile adventure through the city\, celebrating Austin’s most beloved LGBTQIA+ spaces\, landmarks\, and stories—led by some of our favorite designers\, historians\, and friends! The tour will last approximately two and a half hours\, with forty minutes of total bike time and roughly 15 minutes at each stop. \nWe will be gathering at Texas French Bread before making our way downtown and ending at Cheer Up Charlies for a post-tour happy hour! You’ll be able to pop your bike on a rapid bus line to return to our starting point. \nThe tour is BYO Bike\, but if you do not own a bike we recommend renting one from a MetroBike station near 26th St & Nueces or Dean Keeton and Guadalupe St. Please remember to wear your helmets and bring water. NOTE: If you are in need of other modes of transportation\, we have 4 spots available in a car that will travel to each site to meet the speakers. Please select this option upon registration; there will not be an additional fee. \n$15 registration fee which includes a T-shirt (see below)! All sales are final and the ride is rain or shine. Spaces are limited so register today!  Wigs are not required but are encouraged! Additional details will be sent before the ride. \nRegister Here
URL:https://calendar.aiaaustin.org/event/lgbtqia-alliance-bike-tour-2/
CATEGORIES:LGBTQIA+ Alliance Committee
ATTACH;FMTTYPE=image/png:https://calendar.aiaaustin.org/wp-content/uploads/2024/11/Bike-Tour-Graphic-e1733411706598.png
END:VEVENT
END:VCALENDAR