BEGIN:VCALENDAR
VERSION:2.0
PRODID:-//AIA Austin Calendar - ECPv6.7.0//NONSGML v1.0//EN
CALSCALE:GREGORIAN
METHOD:PUBLISH
X-ORIGINAL-URL:https://calendar.aiaaustin.org
X-WR-CALDESC:Events for AIA Austin Calendar
REFRESH-INTERVAL;VALUE=DURATION:PT1H
X-Robots-Tag:noindex
X-PUBLISHED-TTL:PT1H
BEGIN:VTIMEZONE
TZID:America/Chicago
BEGIN:DAYLIGHT
TZOFFSETFROM:-0600
TZOFFSETTO:-0500
TZNAME:CDT
DTSTART:20230312T080000
END:DAYLIGHT
BEGIN:STANDARD
TZOFFSETFROM:-0500
TZOFFSETTO:-0600
TZNAME:CST
DTSTART:20231105T070000
END:STANDARD
END:VTIMEZONE
BEGIN:VEVENT
DTSTART;TZID=America/Chicago:20230516T180000
DTEND;TZID=America/Chicago:20230516T180000
DTSTAMP:20260420T133102
CREATED:20230527T121755Z
LAST-MODIFIED:20230728T180353Z
UID:10000813-1684260000-1684260000@calendar.aiaaustin.org
SUMMARY:LGBTQIA+ Alliance
DESCRIPTION:This month\, we will be discussing the stage design and art competition for the Colors of Pride Festival. All are welcome\, please join us! \nThe LGBTQIA+ Alliance aims to create space for our LGBTQIA+ members to share stories\, build community\, and foster diversity and inclusion within our profession and organization. The LGBTQIA+ Alliance typically meets on the third Tuesday of the month at 6 PM. Allies and people beyond the architecture profession are welcome.
URL:https://calendar.aiaaustin.org/event/lgbtqia-alliance-2/
LOCATION:Lazarus Brewing Co. – East 6th\, 1902 E 6th St.\, Austin\, TX\, United States
CATEGORIES:LGBTQIA+ Alliance Committee
END:VEVENT
END:VCALENDAR