BEGIN:VCALENDAR
VERSION:2.0
PRODID:-//AIA Austin Calendar - ECPv6.7.0//NONSGML v1.0//EN
CALSCALE:GREGORIAN
METHOD:PUBLISH
X-ORIGINAL-URL:https://calendar.aiaaustin.org
X-WR-CALDESC:Events for AIA Austin Calendar
REFRESH-INTERVAL;VALUE=DURATION:PT1H
X-Robots-Tag:noindex
X-PUBLISHED-TTL:PT1H
BEGIN:VTIMEZONE
TZID:America/Chicago
BEGIN:DAYLIGHT
TZOFFSETFROM:-0600
TZOFFSETTO:-0500
TZNAME:CDT
DTSTART:20230312T080000
END:DAYLIGHT
BEGIN:STANDARD
TZOFFSETFROM:-0500
TZOFFSETTO:-0600
TZNAME:CST
DTSTART:20231105T070000
END:STANDARD
END:VTIMEZONE
BEGIN:VEVENT
DTSTART;TZID=America/Chicago:20230221T173000
DTEND;TZID=America/Chicago:20230221T173000
DTSTAMP:20260420T223214
CREATED:20230206T181046Z
LAST-MODIFIED:20230728T181235Z
UID:10000013-1677000600-1677000600@calendar.aiaaustin.org
SUMMARY:LGBTQIA+ Alliance
DESCRIPTION:Location\nTBD \nThe LGBTQIA+ Alliance aims to create space for our LGBTQIA+ members to share stories\, build community\, and foster diversity and inclusion within our profession and organization. The LGBTQIA+ Alliance typically meets on the third Tuesday of the month at 5:30 PM. Allies and people beyond the architecture profession are welcome. \n  \nConnect with us: Join the LGBTQIA+ Alliance email list! \n2023 Chair: Tim Petersen\, AIA\n2023 Chair-Elect: Robbie Anderson\nAIA Austin Staff Liaison: Rob Hoffman
URL:https://calendar.aiaaustin.org/event/lgbtqia-alliance/
CATEGORIES:LGBTQIA+ Alliance Committee
END:VEVENT
END:VCALENDAR