BEGIN:VCALENDAR
VERSION:2.0
PRODID:-//AIA Austin Calendar - ECPv6.7.0//NONSGML v1.0//EN
CALSCALE:GREGORIAN
METHOD:PUBLISH
X-WR-CALNAME:AIA Austin Calendar
X-ORIGINAL-URL:https://calendar.aiaaustin.org
X-WR-CALDESC:Events for AIA Austin Calendar
REFRESH-INTERVAL;VALUE=DURATION:PT1H
X-Robots-Tag:noindex
X-PUBLISHED-TTL:PT1H
BEGIN:VTIMEZONE
TZID:America/Chicago
BEGIN:DAYLIGHT
TZOFFSETFROM:-0600
TZOFFSETTO:-0500
TZNAME:CDT
DTSTART:20250309T080000
END:DAYLIGHT
BEGIN:STANDARD
TZOFFSETFROM:-0500
TZOFFSETTO:-0600
TZNAME:CST
DTSTART:20251102T070000
END:STANDARD
END:VTIMEZONE
BEGIN:VEVENT
DTSTART;TZID=America/Chicago:20250612T183000
DTEND;TZID=America/Chicago:20250612T203000
DTSTAMP:20260421T140031
CREATED:20250603T165838Z
LAST-MODIFIED:20250603T170017Z
UID:10003263-1749753000-1749760200@calendar.aiaaustin.org
SUMMARY:LGBTQIA+ Alliance x NOMA: A Dream (re)Designed
DESCRIPTION:A Dream (re)Designed | Block Parties and Beloved Community Through Third Spaces\nDate: June 12th\nTime: 6:30-8:30pm\nLocation: Preservation Austin McFarland-McBee House\, 3805 Red River St. 78751\nPrice: $5\, students and children are free \nPlaygrounds\, Community Centers\, Corner Stores. Each location forms a memory about what it meant to play\, live\, and connect to our community. However\, the loss of these valuable spaces has spurred an increase in loneliness and disconnection from people who are different from us. Dr. Marlon Johnson (Dean of Community Life at Seminary of the Southwest\, Owner of Johnson Counseling and Consulting)\, will join NOMA and the LGBTQIA+ Alliance to explore the concept of Third Spaces and their importance for POC and LGBTQ Wellness. \nWe will do some sketching of our favorite childhood third spaces\, hear a brief lecture of the concept of beloved community through design and development\, and learn more about our opportunities to support and advocate for local and regional community third spaces that are on the rise in the Austin and Central Texas area. \nBYOB – Bring Your Own Blanket (or chair) and sketchbook for an engaging family friendly workshop with Dr. Marlon Johnson. Light refreshments will be provided along with additional sketch materials. There are a limited number of chairs available onsite\, so please bring something to sit on if you are able. Parking info will be emailed to registrants before the event. \nRegister Here
URL:https://calendar.aiaaustin.org/event/lgbtqia-alliance-x-noma-a-dream-redesigned/
CATEGORIES:LGBTQIA+ Alliance Committee
ATTACH;FMTTYPE=image/jpeg:https://calendar.aiaaustin.org/wp-content/uploads/2025/06/NOMA-Alliance-Lecture2-scaled.jpg
END:VEVENT
BEGIN:VEVENT
DTSTART;TZID=America/Chicago:20250617T180000
DTEND;TZID=America/Chicago:20250617T190000
DTSTAMP:20260421T140031
CREATED:20250612T214500Z
LAST-MODIFIED:20250612T214501Z
UID:10003019-1750183200-1750186800@calendar.aiaaustin.org
SUMMARY:Canceled: LGBTQIA+ Alliance Meeting
DESCRIPTION:We will be meeting tonight to discuss upcoming events. All are welcome and we hope to see you there!
URL:https://calendar.aiaaustin.org/event/lgbtqia-alliance-meeting-10-4/
CATEGORIES:LGBTQIA+ Alliance Committee
ATTACH;FMTTYPE=image/jpeg:https://calendar.aiaaustin.org/wp-content/uploads/2023/05/lgbtqia_alliance.jpg
END:VEVENT
END:VCALENDAR