BEGIN:VCALENDAR
VERSION:2.0
PRODID:-//AIA Austin Calendar - ECPv6.7.0//NONSGML v1.0//EN
CALSCALE:GREGORIAN
METHOD:PUBLISH
X-ORIGINAL-URL:https://calendar.aiaaustin.org
X-WR-CALDESC:Events for AIA Austin Calendar
REFRESH-INTERVAL;VALUE=DURATION:PT1H
X-Robots-Tag:noindex
X-PUBLISHED-TTL:PT1H
BEGIN:VTIMEZONE
TZID:America/Chicago
BEGIN:DAYLIGHT
TZOFFSETFROM:-0600
TZOFFSETTO:-0500
TZNAME:CDT
DTSTART:20250309T080000
END:DAYLIGHT
BEGIN:STANDARD
TZOFFSETFROM:-0500
TZOFFSETTO:-0600
TZNAME:CST
DTSTART:20251102T070000
END:STANDARD
END:VTIMEZONE
BEGIN:VEVENT
DTSTART;TZID=America/Chicago:20250520T180000
DTEND;TZID=America/Chicago:20250520T190000
DTSTAMP:20260421T103341
CREATED:20250515T175846Z
LAST-MODIFIED:20250515T204753Z
UID:10003018-1747764000-1747767600@calendar.aiaaustin.org
SUMMARY:LGBTQIA+ Alliance Meeting
DESCRIPTION:Hi Friends\, we are gathering at a different location this month\, Batch Craft Beer & Kolaches – 3220 Manor Rd\, Austin\, TX 78723. \nWe’ll have a call for volunteers for subcommittee positions\, highlight events that happened in the last month\, and talk about future events. \nWhile our committee meetings can be planning heavy\, they are also for connecting with and supporting each other as queer professionals\, commiserating over a tough legislative session\, and finding ways we can extend our hands to the queer community beyond the architecture profession. Intersectional activism is the only way forward – we are stronger together and all of our individual stories are linked. \nThis week has been tough for queer Texans as HB229 and HB779 passed out of the house.\nHug your friends\, check-in on each other\, and please reach out to your representatives to tell them how you feel about the plethora of anti-LGBTQIA+ bills filed this legislative session. Refer to Equality Texas’ anti-LGBTQIA+ Bill Tracker for more information. We’re in this together  \n\n\nMay Aeeting Agenda:\n\n6:00 pm – grab a drink and check in with someone about their mental health\n6:15 pm – committee content\n\n\nsubcommittee roles\n\n\nevent recap – QTOPIA 3.0 and HCRA\n\n\nfuture events:  NOMA Collab event with Dr.Johnson\, QTOPIA 4 kids\, potential design charette\n\n\n\n\n7:00 pm – official meeting adjourned\, hug your friends before you go\, and head over to LegiSLAYtion and Liberation \n\n\nView full agenda here: May Agenda 2025
URL:https://calendar.aiaaustin.org/event/lgbtqia-alliance-meeting-10-3/
CATEGORIES:LGBTQIA+ Alliance Committee
ATTACH;FMTTYPE=image/jpeg:https://calendar.aiaaustin.org/wp-content/uploads/2023/05/lgbtqia_alliance.jpg
END:VEVENT
END:VCALENDAR