BEGIN:VCALENDAR
VERSION:2.0
PRODID:-//AIA Austin Calendar - ECPv6.7.0//NONSGML v1.0//EN
CALSCALE:GREGORIAN
METHOD:PUBLISH
X-WR-CALNAME:AIA Austin Calendar
X-ORIGINAL-URL:https://calendar.aiaaustin.org
X-WR-CALDESC:Events for AIA Austin Calendar
REFRESH-INTERVAL;VALUE=DURATION:PT1H
X-Robots-Tag:noindex
X-PUBLISHED-TTL:PT1H
BEGIN:VTIMEZONE
TZID:America/Chicago
BEGIN:DAYLIGHT
TZOFFSETFROM:-0600
TZOFFSETTO:-0500
TZNAME:CDT
DTSTART:20250309T080000
END:DAYLIGHT
BEGIN:STANDARD
TZOFFSETFROM:-0500
TZOFFSETTO:-0600
TZNAME:CST
DTSTART:20251102T070000
END:STANDARD
END:VTIMEZONE
BEGIN:VEVENT
DTSTART;TZID=America/Chicago:20250424T180000
DTEND;TZID=America/Chicago:20250424T210000
DTSTAMP:20260421T083231
CREATED:20250317T155029Z
LAST-MODIFIED:20250409T211903Z
UID:10003131-1745517600-1745528400@calendar.aiaaustin.org
SUMMARY:LGBTQIA+ Alliance QTOPIA 3.0: Zine creation and Loud & Proud Auction
DESCRIPTION:When: April 24\, 6-9 PM\nWhere: The Beck Group office – 1401 E 6th St\, Building 1\, suite 500\, Austin TX 78702.  A follow up email will be sent to registrants with directions and parking information. \nDescription: The 3rd installment of our QTOPIA series will benefit our Hill Country Ride for AIDs (HCRA) cycling team through a loud and silent auction and provide community resources through a collaborative zine making activity. \nHow to I participate? This is a free event but registration is required. A suggested donation of $5 at the door benefits our HCRA team. \nWhat is the zine activity? We will be creating pages for a community zine! We’ll have supplies and community resources\, but bring your own thoughts and ideas to contribute. What would you want to see in a community zine? \nDid you say loud AND silent auction? Yes\, items will be separated into two bidding categories. Our very own Tim Peterson will be our loud auctioneer for the evening! We have collected an array of items from local businesses\, including furniture\, lighting\, electronics\, and other goodies! \nWhere do auction funds go? Funds raised during the loud and silent auctions will directly support our Hill Country Ride for AIDS cycling team. \nWhat is the Hill Country Ride for AIDS? The Hill Country Ride for AIDS (HCRA) is a family friendly and festive bike ride through the beautiful hill country that raises funds given directly to nine local nonprofits who help those affected by HIV/AIDS. \nCan’t make it but want to support our team? You can donate to our team at the link here. There is a “Donate” button on the top right of the page. Donations will support nine local nonprofits – allgo\, ASHwell\, CARE Program\, Community Action\, Friends of David Powel Clinic\, OutYouth\, Project Transitions\, Vivent Health\, and Texas Health Action (The Kinds Clinic)More details coming soon. \nThank you to The Beck Group for hosting and sponsoring this event!
URL:https://calendar.aiaaustin.org/event/lgbtqia-alliance-qtopia-3-0-zine-creation-and-loud-proud-auction/
CATEGORIES:LGBTQIA+ Alliance Committee
ATTACH;FMTTYPE=image/jpeg:https://calendar.aiaaustin.org/wp-content/uploads/2025/03/QTOPIA-3-Event-Post-Small5.jpg
END:VEVENT
END:VCALENDAR