BEGIN:VCALENDAR
VERSION:2.0
PRODID:-//AIA Austin Calendar - ECPv6.7.0//NONSGML v1.0//EN
CALSCALE:GREGORIAN
METHOD:PUBLISH
X-WR-CALNAME:AIA Austin Calendar
X-ORIGINAL-URL:https://calendar.aiaaustin.org
X-WR-CALDESC:Events for AIA Austin Calendar
REFRESH-INTERVAL;VALUE=DURATION:PT1H
X-Robots-Tag:noindex
X-PUBLISHED-TTL:PT1H
BEGIN:VTIMEZONE
TZID:America/Chicago
BEGIN:DAYLIGHT
TZOFFSETFROM:-0600
TZOFFSETTO:-0500
TZNAME:CDT
DTSTART:20260308T080000
END:DAYLIGHT
BEGIN:STANDARD
TZOFFSETFROM:-0500
TZOFFSETTO:-0600
TZNAME:CST
DTSTART:20261101T070000
END:STANDARD
END:VTIMEZONE
BEGIN:VEVENT
DTSTART;TZID=America/Chicago:20260302T120000
DTEND;TZID=America/Chicago:20260302T130000
DTSTAMP:20260420T102623
CREATED:20240919T171053Z
LAST-MODIFIED:20260216T163241Z
UID:10001664-1772452800-1772456400@calendar.aiaaustin.org
SUMMARY:J.E.D.I. Committee: Caring for our Community
DESCRIPTION:Caring for our Community: Understanding Immigration Enforcement at the Construction Site\nThe JEDI committee invites you to join us for a presentation by immigration law expert Kate Lincoln-Goldfinch to discuss what to expect and what to do if immigration enforcement visits one of your job sites. How can we best prepare our teams\, contractors and clients for any potential issues? Come with your questions and your lunch! \n1 LU/HSW (pending) \nREGISTER NOW \n 
URL:https://calendar.aiaaustin.org/event/j-e-d-i-committee-meeting-4/
LOCATION:AIA Austin\, 801 W 12th St\, Austin\, TX\, 78701
CATEGORIES:J.E.D.I. Committee
END:VEVENT
END:VCALENDAR