BEGIN:VCALENDAR
VERSION:2.0
PRODID:-//AIA Austin Calendar - ECPv6.7.0//NONSGML v1.0//EN
CALSCALE:GREGORIAN
METHOD:PUBLISH
X-WR-CALNAME:AIA Austin Calendar
X-ORIGINAL-URL:https://calendar.aiaaustin.org
X-WR-CALDESC:Events for AIA Austin Calendar
REFRESH-INTERVAL;VALUE=DURATION:PT1H
X-Robots-Tag:noindex
X-PUBLISHED-TTL:PT1H
BEGIN:VTIMEZONE
TZID:America/Chicago
BEGIN:DAYLIGHT
TZOFFSETFROM:-0600
TZOFFSETTO:-0500
TZNAME:CDT
DTSTART:20260308T080000
END:DAYLIGHT
BEGIN:STANDARD
TZOFFSETFROM:-0500
TZOFFSETTO:-0600
TZNAME:CST
DTSTART:20261101T070000
END:STANDARD
END:VTIMEZONE
BEGIN:VEVENT
DTSTART;TZID=America/Chicago:20260618T170000
DTEND;TZID=America/Chicago:20260618T180000
DTSTAMP:20260424T210925
CREATED:20260113T221341Z
LAST-MODIFIED:20260113T221356Z
UID:10005517-1781802000-1781805600@calendar.aiaaustin.org
SUMMARY:Emerging Professionals Committee Meeting
DESCRIPTION:Our mission is to provide an opportunity for discussion and growth for young architectural professionals as they work towards licensure\, along with relevant resources for continued development after registration. We also foster a strong network of multidisciplinary members and non-members and promote the value of architecture through its impact in the community. \nConnect with us! Follow our Instagram\, connect with us on LinkedIn\, and join our email list.
URL:https://calendar.aiaaustin.org/event/emerging-professionals-committee-meeting-18/
LOCATION:AIA Austin\, 801 W 12th St\, Austin\, TX\, 78701
CATEGORIES:Emerging Professionals Committee
ATTACH;FMTTYPE=image/jpeg:https://calendar.aiaaustin.org/wp-content/uploads/2023/02/Emerging-Professionals-meet.jpg
END:VEVENT
END:VCALENDAR