BEGIN:VCALENDAR
VERSION:2.0
PRODID:-//AIA Austin Calendar - ECPv6.7.0//NONSGML v1.0//EN
CALSCALE:GREGORIAN
METHOD:PUBLISH
X-ORIGINAL-URL:https://calendar.aiaaustin.org
X-WR-CALDESC:Events for AIA Austin Calendar
REFRESH-INTERVAL;VALUE=DURATION:PT1H
X-Robots-Tag:noindex
X-PUBLISHED-TTL:PT1H
BEGIN:VTIMEZONE
TZID:America/Chicago
BEGIN:DAYLIGHT
TZOFFSETFROM:-0600
TZOFFSETTO:-0500
TZNAME:CDT
DTSTART:20230312T080000
END:DAYLIGHT
BEGIN:STANDARD
TZOFFSETFROM:-0500
TZOFFSETTO:-0600
TZNAME:CST
DTSTART:20231105T070000
END:STANDARD
END:VTIMEZONE
BEGIN:VEVENT
DTSTART;TZID=America/Chicago:20231206T173000
DTEND;TZID=America/Chicago:20231206T193000
DTSTAMP:20260421T005623
CREATED:20231121T215818Z
LAST-MODIFIED:20231121T222053Z
UID:10001146-1701883800-1701891000@calendar.aiaaustin.org
SUMMARY:AIA Austin Emerging Professionals + BIG Happy Hour @ Corgan
DESCRIPTION:Get Ready to Rock Your Ugliest Sweater at BIG – Building Intelligence Group + AIA Austin Emerging Professionals Ugly Sweater Happy Hour at Corgan! \nUgly Sweater Contest: Strut your stuff and compete for the title of “Ugliest Sweater” with fabulous prizes awaiting the winners! Mark your calendars\, dig out that hideous holiday sweater\, and join us for a night of laughter and holiday joy! \nDon’t miss the chance to celebrate the season in style – or lack thereof! RSVP now and spread the word. \nA special thanks to BIG\, Voltek Systems Inc\, Crux Technology and Security Solutions for helping put this event together! \nLOCATION: \nCorgan Office \n401 S 1st Street\, Suite 650\, Austin TX\, 78704 \nDATE & TIME: \nDate: Wednesday 12/06 \nTime: 5:30-7:30pm \nPARKING: \nRiver South Parking Garage \nCorgan does not validate parking \nParking in nearby lots available – review applicable signage for rates
URL:https://calendar.aiaaustin.org/event/aia-austin-emerging-professionals-big-happy-hour-corgan/
LOCATION:Corgan\, 401 S 1st St Suite 650\, Austin\, 78704
CATEGORIES:Emerging Professionals Committee
END:VEVENT
END:VCALENDAR