BEGIN:VCALENDAR
VERSION:2.0
PRODID:-//AIA Austin Calendar - ECPv6.7.0//NONSGML v1.0//EN
CALSCALE:GREGORIAN
METHOD:PUBLISH
X-WR-CALNAME:AIA Austin Calendar
X-ORIGINAL-URL:https://calendar.aiaaustin.org
X-WR-CALDESC:Events for AIA Austin Calendar
REFRESH-INTERVAL;VALUE=DURATION:PT1H
X-Robots-Tag:noindex
X-PUBLISHED-TTL:PT1H
BEGIN:VTIMEZONE
TZID:America/Chicago
BEGIN:DAYLIGHT
TZOFFSETFROM:-0600
TZOFFSETTO:-0500
TZNAME:CDT
DTSTART:20230312T080000
END:DAYLIGHT
BEGIN:STANDARD
TZOFFSETFROM:-0500
TZOFFSETTO:-0600
TZNAME:CST
DTSTART:20231105T070000
END:STANDARD
END:VTIMEZONE
BEGIN:VEVENT
DTSTART;TZID=America/Chicago:20231205T170000
DTEND;TZID=America/Chicago:20231205T180000
DTSTAMP:20260421T074835
CREATED:20231011T190159Z
LAST-MODIFIED:20231121T214549Z
UID:10001061-1701795600-1701799200@calendar.aiaaustin.org
SUMMARY:AIA Emerging Professionals | Design Shine Opening Night
DESCRIPTION:  \nAnnouncing the winning submissions for Design Shine 2023! \nThe UMLAUF Sculpture Garden + Museum and the AIA Austin Emerging Professionals Committee are proud to collaborate on their 5th annual exhibition\, Design Shine. Created to promote emerging talent in the fields of architecture and design\, the juried competition yielded three extraordinary installations from local teams that invoke the history and topography of the UMLAUF site. Situated amidst Charles Umlauf’s sculptures\, Design Shine reinvigorates the visitor’s experience with captivating\, family-friendly\, sculptural artworks. Please join us for opening Tuesday\, December 5th! The UMLAUF will be having a special “AIA Hour” from 5-6pm before opening to the public at 6pm. \n  \n*The standard UMLAUF After Dark paid entry fee is required if arriving after 6 pm. \n 
URL:https://calendar.aiaaustin.org/event/aia-emerging-professionals-design-shine-opening-night/
LOCATION:UMLAUF Sculpture Garden + Museum\, 605 Azie Morton Rd\, Austin\, TX\, 78704\, United States
CATEGORIES:Emerging Professionals Committee
END:VEVENT
END:VCALENDAR