BEGIN:VCALENDAR
VERSION:2.0
PRODID:-//AIA Austin Calendar - ECPv6.7.0//NONSGML v1.0//EN
CALSCALE:GREGORIAN
METHOD:PUBLISH
X-ORIGINAL-URL:https://calendar.aiaaustin.org
X-WR-CALDESC:Events for AIA Austin Calendar
REFRESH-INTERVAL;VALUE=DURATION:PT1H
X-Robots-Tag:noindex
X-PUBLISHED-TTL:PT1H
BEGIN:VTIMEZONE
TZID:America/Chicago
BEGIN:DAYLIGHT
TZOFFSETFROM:-0600
TZOFFSETTO:-0500
TZNAME:CDT
DTSTART:20240310T080000
END:DAYLIGHT
BEGIN:STANDARD
TZOFFSETFROM:-0500
TZOFFSETTO:-0600
TZNAME:CST
DTSTART:20241103T070000
END:STANDARD
END:VTIMEZONE
BEGIN:VEVENT
DTSTART;TZID=America/Chicago:20240221T170000
DTEND;TZID=America/Chicago:20240221T180000
DTSTAMP:20260419T093718
CREATED:20240213T200757Z
LAST-MODIFIED:20240213T200757Z
UID:10001654-1708534800-1708538400@calendar.aiaaustin.org
SUMMARY:Emerging Professionals Committee Meeting
DESCRIPTION:Join us for our monthly committee meeting\, hosted at the UMLAUF Sculpture Garden. \nFollowing our meeting\, we will have “Insights: Panel Discussions with the Design Shine Team”
URL:https://calendar.aiaaustin.org/event/emerging-professionals-committee-meeting-13/
LOCATION:UMLAUF Sculpture Garden + Museum\, 605 Azie Morton Rd\, Austin\, TX\, 78704\, United States
CATEGORIES:Emerging Professionals Committee
END:VEVENT
BEGIN:VEVENT
DTSTART;TZID=America/Chicago:20240221T180000
DTEND;TZID=America/Chicago:20240221T200000
DTSTAMP:20260419T093718
CREATED:20240213T200913Z
LAST-MODIFIED:20240219T195813Z
UID:10001655-1708538400-1708545600@calendar.aiaaustin.org
SUMMARY:Emerging Professionals Insights: Panel Discussions with the Design Shine Teams
DESCRIPTION:What: Insights: Panel Discussion with the Design Shine Teams \nWhen: Wednesday\, 21 February\, 6-8pm Where: Crenshaw Room \nFormat: Free & open to the public; RSVP preferred\, link here. \nSchedule of the Event:  \n\n6pm: Doors open: Wine and beer at bar; opportunity to see the installations\n6:30pm: Panel begins in Crenshaw: Welcome and Introduction – Katie Robinson Edwards and Michael Peterson\n6:40pm: Labyrinth Team – present overview with images\n6:50pm: Garden Jewel Team – present overview with images\n7:00pm: Emotion Mosaic Team – present overview with images\n7:10pm: Panelists ask questions of teams\n7:20pm: Q&A from audience\n7:30pm: Panel ends (chance to see installations in darkness)\n8:00pm: Event ends
URL:https://calendar.aiaaustin.org/event/aia-austin-emerging-professional-insights-panel-discussions-with-the-design-shine-team/
LOCATION:UMLAUF Sculpture Garden + Museum\, 605 Azie Morton Rd\, Austin\, TX\, 78704\, United States
CATEGORIES:Emerging Professionals Committee
END:VEVENT
END:VCALENDAR