BEGIN:VCALENDAR
VERSION:2.0
PRODID:-//AIA Austin Calendar - ECPv6.7.0//NONSGML v1.0//EN
CALSCALE:GREGORIAN
METHOD:PUBLISH
X-ORIGINAL-URL:https://calendar.aiaaustin.org
X-WR-CALDESC:Events for AIA Austin Calendar
REFRESH-INTERVAL;VALUE=DURATION:PT1H
X-Robots-Tag:noindex
X-PUBLISHED-TTL:PT1H
BEGIN:VTIMEZONE
TZID:America/Chicago
BEGIN:DAYLIGHT
TZOFFSETFROM:-0600
TZOFFSETTO:-0500
TZNAME:CDT
DTSTART:20240310T080000
END:DAYLIGHT
BEGIN:STANDARD
TZOFFSETFROM:-0500
TZOFFSETTO:-0600
TZNAME:CST
DTSTART:20241103T070000
END:STANDARD
END:VTIMEZONE
BEGIN:VEVENT
DTSTART;TZID=America/Chicago:20240917T190000
DTEND;TZID=America/Chicago:20240917T213000
DTSTAMP:20260419T142845
CREATED:20240827T223408Z
LAST-MODIFIED:20240904T153056Z
UID:10002371-1726599600-1726608600@calendar.aiaaustin.org
SUMMARY:Design Austin | Design Cruise: WaterWork
DESCRIPTION:This special edition of the Design Austin Cruise features WaterWork curators and artists discussing the project and has the best seats on the lake for this first-time event. Design Austin and The Trail Conservancy will debut WaterWork\, an immersive artwork projected on the historic Seaholm Intake Facility Building produced by local artists. WaterWork is the first use of Seaholm Intake as a large-scale exterior canvas. LEARN MORE>>
URL:https://calendar.aiaaustin.org/event/design-cruise-waterwork-2/
LOCATION:Capital Cruises Dock\, 208 Barton Springs Road\, Austin\, TX\, 78704\, United States
CATEGORIES:DesignAustin,Exhibitions and Experiences Committee
ATTACH;FMTTYPE=image/jpeg:https://calendar.aiaaustin.org/wp-content/uploads/2024/08/aia-boat-tour_october-2023-130_WEB.jpg
END:VEVENT
BEGIN:VEVENT
DTSTART;TZID=America/Chicago:20240917T203000
DTEND;TZID=America/Chicago:20240917T210000
DTSTAMP:20260419T142845
CREATED:20240827T223332Z
LAST-MODIFIED:20240916T163641Z
UID:10002370-1726605000-1726606800@calendar.aiaaustin.org
SUMMARY:Design Austin | WaterWork
DESCRIPTION:Design Austin and The Trail Conservancy will debut WaterWork\, a 3D artwork projected on the historic Seaholm Intake Facility Building and produced by several local artists\, at dusk on Thursday\, September 12 and Tuesday\, September 17. WaterWork is the first use of Seaholm Intake as a large-scale exterior canvas. The immersive display will be visible from several vantage points: on land from the Butler Trail; and on the water from kayaks\, paddleboards\, and other watercraft or on a special edition of the Design Austin Cruise featuring WaterWork curators and artists. MORE INFO>> \nThis project is supported in part by the City of Austin Economic Development Department.
URL:https://calendar.aiaaustin.org/event/waterwork-2/
LOCATION:Auditorium Shores\, 900 W Riverside Drive\, Austin\, 78704
CATEGORIES:DesignAustin,Exhibitions and Experiences Committee
ATTACH;FMTTYPE=image/png:https://calendar.aiaaustin.org/wp-content/uploads/2024/08/Feature-ImageFINAL.png
END:VEVENT
END:VCALENDAR