BEGIN:VCALENDAR
VERSION:2.0
PRODID:-//AIA Austin Calendar - ECPv6.7.0//NONSGML v1.0//EN
CALSCALE:GREGORIAN
METHOD:PUBLISH
X-WR-CALNAME:AIA Austin Calendar
X-ORIGINAL-URL:https://calendar.aiaaustin.org
X-WR-CALDESC:Events for AIA Austin Calendar
REFRESH-INTERVAL;VALUE=DURATION:PT1H
X-Robots-Tag:noindex
X-PUBLISHED-TTL:PT1H
BEGIN:VTIMEZONE
TZID:America/Chicago
BEGIN:DAYLIGHT
TZOFFSETFROM:-0600
TZOFFSETTO:-0500
TZNAME:CDT
DTSTART:20240310T080000
END:DAYLIGHT
BEGIN:STANDARD
TZOFFSETFROM:-0500
TZOFFSETTO:-0600
TZNAME:CST
DTSTART:20241103T070000
END:STANDARD
END:VTIMEZONE
BEGIN:VEVENT
DTSTART;TZID=America/Chicago:20240911T190000
DTEND;TZID=America/Chicago:20240911T210000
DTSTAMP:20260419T142926
CREATED:20240819T215135Z
LAST-MODIFIED:20240904T161302Z
UID:10002365-1726081200-1726088400@calendar.aiaaustin.org
SUMMARY:Design Austin | Design Talks: Ben van Berkel
DESCRIPTION:Join Design Austin as UNStudio launches their North American office with a lecture by Ben van Berkel\, Founder and Principal Architect of UNStudio. LEARN MORE>>
URL:https://calendar.aiaaustin.org/event/design-talks-ben-van-berkel/
LOCATION:Stateside at the Paramount\, 719 Congress Avenue\, Austin\, TX\, 78701\, United States
CATEGORIES:DesignAustin,Exhibitions and Experiences Committee
ATTACH;FMTTYPE=image/jpeg:https://calendar.aiaaustin.org/wp-content/uploads/2024/08/24.08.19-Homepage-Events12-scaled.jpg
END:VEVENT
END:VCALENDAR