BEGIN:VCALENDAR
VERSION:2.0
PRODID:-//AIA Austin Calendar - ECPv6.7.0//NONSGML v1.0//EN
CALSCALE:GREGORIAN
METHOD:PUBLISH
X-ORIGINAL-URL:https://calendar.aiaaustin.org
X-WR-CALDESC:Events for AIA Austin Calendar
REFRESH-INTERVAL;VALUE=DURATION:PT1H
X-Robots-Tag:noindex
X-PUBLISHED-TTL:PT1H
BEGIN:VTIMEZONE
TZID:America/Chicago
BEGIN:DAYLIGHT
TZOFFSETFROM:-0600
TZOFFSETTO:-0500
TZNAME:CDT
DTSTART:20240310T080000
END:DAYLIGHT
BEGIN:STANDARD
TZOFFSETFROM:-0500
TZOFFSETTO:-0600
TZNAME:CST
DTSTART:20241103T070000
END:STANDARD
END:VTIMEZONE
BEGIN:VEVENT
DTSTART;TZID=America/Chicago:20241017T193000
DTEND;TZID=America/Chicago:20241017T220000
DTSTAMP:20260419T143437
CREATED:20240924T172454Z
LAST-MODIFIED:20241016T164343Z
UID:10002395-1729193400-1729202400@calendar.aiaaustin.org
SUMMARY:Design Austin: PechaKucha #38
DESCRIPTION:PechaKucha is an informal gathering where creative people get together and share their ideas\, works\, thoughts\, and just about anything. \nPechaKucha #38 will be held at the historic post office in the Indeed Tower! No advance ticketing; donations gratefully accepted. \nDesign Austin partnered with PechaKucha Night Austin in 2024\, starting with PechaKucha #37 on April 4 at the Millbrook Estate. LEARN MORE>>
URL:https://calendar.aiaaustin.org/event/pechakucha-38/
LOCATION:Indeed Tower\, 200 W 6th St\, Austin\, TX\, 78701\, United States
CATEGORIES:DesignAustin
ATTACH;FMTTYPE=image/jpeg:https://calendar.aiaaustin.org/wp-content/uploads/2024/09/PechaKucha-Event-Image.jpg
END:VEVENT
END:VCALENDAR