BEGIN:VCALENDAR
VERSION:2.0
PRODID:-//AIA Austin Calendar - ECPv6.7.0//NONSGML v1.0//EN
CALSCALE:GREGORIAN
METHOD:PUBLISH
X-ORIGINAL-URL:https://calendar.aiaaustin.org
X-WR-CALDESC:Events for AIA Austin Calendar
REFRESH-INTERVAL;VALUE=DURATION:PT1H
X-Robots-Tag:noindex
X-PUBLISHED-TTL:PT1H
BEGIN:VTIMEZONE
TZID:America/Chicago
BEGIN:DAYLIGHT
TZOFFSETFROM:-0600
TZOFFSETTO:-0500
TZNAME:CDT
DTSTART:20230312T080000
END:DAYLIGHT
BEGIN:STANDARD
TZOFFSETFROM:-0500
TZOFFSETTO:-0600
TZNAME:CST
DTSTART:20231105T070000
END:STANDARD
END:VTIMEZONE
BEGIN:VEVENT
DTSTART;TZID=America/Chicago:20230308T180000
DTEND;TZID=America/Chicago:20230308T180000
DTSTAMP:20260420T225025
CREATED:20230302T162408Z
LAST-MODIFIED:20230302T191933Z
UID:10000086-1678298400-1678298400@calendar.aiaaustin.org
SUMMARY:Design Talks: Philip Keil\, AIA of Furman + Keil Architects: The Process of Architecture
DESCRIPTION:Design Talks presented by the Austin Foundation for Architecture \nDesign Talks comprises five presentations each year featuring guest speakers in the design professions.  \nEvents take place at sunset at Artitculture Designs\, 6405 Menchaca Rd\, Austin\, TX 78745.  \nRefreshments will be served. Design Talks offer 1 LU of continuing education credit for registered attendees and are also open to the public. \nAll sales are final\, and registration is transferrable. Please see our cancellation policy.
URL:https://calendar.aiaaustin.org/event/philip-keil-aia-of-furman-keil-architects-the-process-of-architecture/
LOCATION:Articulture Design\, 6405 Menchaca Rd\, Austin\, TX\, 78745\, United States
CATEGORIES:Design Talks
END:VEVENT
END:VCALENDAR