BEGIN:VCALENDAR
VERSION:2.0
PRODID:-//AIA Austin Calendar - ECPv6.7.0//NONSGML v1.0//EN
CALSCALE:GREGORIAN
METHOD:PUBLISH
X-WR-CALNAME:AIA Austin Calendar
X-ORIGINAL-URL:https://calendar.aiaaustin.org
X-WR-CALDESC:Events for AIA Austin Calendar
REFRESH-INTERVAL;VALUE=DURATION:PT1H
X-Robots-Tag:noindex
X-PUBLISHED-TTL:PT1H
BEGIN:VTIMEZONE
TZID:America/Chicago
BEGIN:DAYLIGHT
TZOFFSETFROM:-0600
TZOFFSETTO:-0500
TZNAME:CDT
DTSTART:20240310T080000
END:DAYLIGHT
BEGIN:STANDARD
TZOFFSETFROM:-0500
TZOFFSETTO:-0600
TZNAME:CST
DTSTART:20241103T070000
END:STANDARD
END:VTIMEZONE
BEGIN:VEVENT
DTSTART;TZID=America/Chicago:20240129T120000
DTEND;TZID=America/Chicago:20240129T130000
DTSTAMP:20260424T042429
CREATED:20240112T002914Z
LAST-MODIFIED:20240124T174256Z
UID:10001493-1706529600-1706533200@calendar.aiaaustin.org
SUMMARY:AIA Austin Housing Advocacy Roundtable
DESCRIPTION:Austin’s HOME Initiative: What’s Next? \nJoin and participate in a discussion with members of the AIA Austin Housing Advocacy Committee who work on multiple housing efforts and specifically the HOME Initiative this past year. We will discuss what passed\, when it will come into effect\, and what new opportunities are available for housing projects. Looking ahead to 2024\, we will also discuss the potential for further revisions to improve access to housing opportunities through HOME Phase 2 and the 2024 Code Adoptions. Come find out what’s on the table and how to help shape the agenda. Bring your lunch! \nThis meeting is in person at AIA Austin and open to all with registration. \nRegister HERE.
URL:https://calendar.aiaaustin.org/event/aia-austin-housing-advocacy-roundtable/
LOCATION:ACC Rio Grande Campus\, 1212 Rio Grande\, Multi-purpose room\, Austin\, TX\, 78701\, United States
CATEGORIES:Advocacy Committee,Housing Advocacy
ATTACH;FMTTYPE=image/jpeg:https://calendar.aiaaustin.org/wp-content/uploads/2024/01/24.01.29-HOME-Whats-Next-pic.jpg
END:VEVENT
END:VCALENDAR