BEGIN:VCALENDAR
VERSION:2.0
PRODID:-//AIA Austin Calendar - ECPv6.7.0//NONSGML v1.0//EN
CALSCALE:GREGORIAN
METHOD:PUBLISH
X-ORIGINAL-URL:https://calendar.aiaaustin.org
X-WR-CALDESC:Events for AIA Austin Calendar
REFRESH-INTERVAL;VALUE=DURATION:PT1H
X-Robots-Tag:noindex
X-PUBLISHED-TTL:PT1H
BEGIN:VTIMEZONE
TZID:America/Chicago
BEGIN:DAYLIGHT
TZOFFSETFROM:-0600
TZOFFSETTO:-0500
TZNAME:CDT
DTSTART:20230312T080000
END:DAYLIGHT
BEGIN:STANDARD
TZOFFSETFROM:-0500
TZOFFSETTO:-0600
TZNAME:CST
DTSTART:20231105T070000
END:STANDARD
END:VTIMEZONE
BEGIN:VEVENT
DTSTART;TZID=America/Chicago:20231023T120000
DTEND;TZID=America/Chicago:20231023T130000
DTSTAMP:20260424T042446
CREATED:20231009T211513Z
LAST-MODIFIED:20231022T234856Z
UID:10001058-1698062400-1698066000@calendar.aiaaustin.org
SUMMARY:Advocacy Roundtable
DESCRIPTION:October Advocacy Roundtable Topic: Compatibilty \nJoin the AIA Austin Advocacy team and speaker Timothy Bray\, Policy Advisor for City Council Member Chito Vela\, for a discussion about compatibility changes. Austin City Council is on track to pass city-wide compatibility reform this spring that will bring Austin’s standards in line with other cities. Austin’s compatibility reforms are very strict and severely limit multifamily and commercial development next to single-family zoning. CM Chito Vela is leading on these efforts and his policy advisor on land use\, Timothy Bray\, will speak about the upcoming reforms. \nPlease register here for this event. This event is at AIA Austin\, 801 W 12th St\, Austin\, TX 78701. Bring your lunch and join the discussion! \nContinuing Education offered\, 1 LU.
URL:https://calendar.aiaaustin.org/event/advocacy-roundtable/
CATEGORIES:Advocacy Committee
END:VEVENT
END:VCALENDAR