BEGIN:VCALENDAR
VERSION:2.0
PRODID:-//AIA Austin Calendar - ECPv6.7.0//NONSGML v1.0//EN
CALSCALE:GREGORIAN
METHOD:PUBLISH
X-WR-CALNAME:AIA Austin Calendar
X-ORIGINAL-URL:https://calendar.aiaaustin.org
X-WR-CALDESC:Events for AIA Austin Calendar
REFRESH-INTERVAL;VALUE=DURATION:PT1H
X-Robots-Tag:noindex
X-PUBLISHED-TTL:PT1H
BEGIN:VTIMEZONE
TZID:America/Chicago
BEGIN:DAYLIGHT
TZOFFSETFROM:-0600
TZOFFSETTO:-0500
TZNAME:CDT
DTSTART:20260308T080000
END:DAYLIGHT
BEGIN:STANDARD
TZOFFSETFROM:-0500
TZOFFSETTO:-0600
TZNAME:CST
DTSTART:20261101T070000
END:STANDARD
END:VTIMEZONE
BEGIN:VEVENT
DTSTART;TZID=America/Chicago:20260204T120000
DTEND;TZID=America/Chicago:20260204T130000
DTSTAMP:20260421T152145
CREATED:20260121T190458Z
LAST-MODIFIED:20260128T202910Z
UID:10005081-1770206400-1770210000@calendar.aiaaustin.org
SUMMARY:BEC: Austin Committee Meeting
DESCRIPTION:Join BEC: Austin for their monthly meeting featuring a presentation and lunch. REGISTER NOW>> \nThe Architect’s Building Science Toolkit\n \nWUFI is a hygrothermal modeling software tool used to evaluate how heat\, air\, and moisture move through building enclosure assemblies\, and it can be a powerful addition to an architect’s building science toolkit. This course demystifies hygrothermal analysis and shows how\, with a manageable amount of work\, architects can integrate it into their design process to evaluate wall and roof assemblies\, test common assumptions\, and move beyond rules of thumb and “code minimum” thinking – you don’t need a PhD. \nUsed as a design tool\, hygrothermal analysis supports health and safety by reducing the likelihood of conditions that contribute to mold growth\, improving the durability and longevity of construction\, and helping anticipate moisture risks and understand drying potential for new construction\, renovations\, and historic preservation. It also supports environmental stewardship by enabling more confident evaluation of insulation and enclosure strategies that can reduce energy use without inadvertently increasing moisture-related failure risk. \nLearning Objectives: \n\nDescribe what hygrothermal analysis is.\nUnderstand how hygrothermal analysis software can be used as a design tool and become familiar with the process.\nUnderstand the conditions where mold growth can occur.\nExamine several case studies to see how hygrothermal analysis improved durability and performance of roof and wall assemblies.\n\nCredits:\n1 LU/HSW \nPresenter:\nWill Wood\, AIA\, is a Principal at McKinney York Architects. Educated in architecture and engineering\, he maintains an interest in both design and building science.  In addition to leading design on institutional\, commercial\, and residential projects\, Will oversees sustainability and fueling the design culture in the office. He has a strong interest in materiality and detailing and is an advocate for modernizing building practices and energy efficiency. \nREGISTER NOW>> \n\nBEC: Austin is an interdisciplinary organization that promotes the exchange of information on building enclosures and related science specific to the climate of Central Texas. \nInterdisciplinary: architects\, engineers\, contractors\, building owners\, consultants\, facility managers\, code officials\, educators\, manufacturers\, and those with a stake in building enclosure performance \nExchange of information: discussion\, training\, education\, outreach\, and awareness \nBuilding enclosures and related science: energy-efficiency\, moisture control\, indoor air quality\, longevity\, and durability \nBEC: Austin typically meets the first Wednesday of each month from 12-1pm. To receive reminders\, please sign up for the BEC mailing list here.\n2026 BEC: Austin Committee\nChair: Michael Salinas\, AIA\nChair Elect: John Byrd\, AIA\nAIA Austin staff liaison: Julia Brown
URL:https://calendar.aiaaustin.org/event/bec-austin-committee-meeting-15-2/
LOCATION:AIA Austin\, 801 W 12th St\, Austin\, TX\, 78701
CATEGORIES:BEC: Austin Committee
ATTACH;FMTTYPE=image/jpeg:https://calendar.aiaaustin.org/wp-content/uploads/2023/02/BEC-meet.jpg
ORGANIZER;CN="BEC%3A Austin":MAILTO:julia@aiaaustin.org
END:VEVENT
BEGIN:VEVENT
DTSTART;TZID=America/Chicago:20260204T180000
DTEND;TZID=America/Chicago:20260204T190000
DTSTAMP:20260421T152145
CREATED:20260113T224930Z
LAST-MODIFIED:20260128T223648Z
UID:10004973-1770228000-1770231600@calendar.aiaaustin.org
SUMMARY:ARE 5.0 Study Group + DISCUSSION
DESCRIPTION:ARE 5.0 Study Group + DISCUSSION\nThe AIA Austin office at 801 W 12th street hosts a study group on Wednesdays from 6pm – 7:30pm to study for the ARE 5.0 exams. Once every other month the study group will have either a guest speaker or a guided work through an exam question. Our study group also communicates via Discord. Please email brianna_deleon@gensler.com and cc aia.austin.ep@gmail.com for questions and inquiries.\n\n\n\n\nFebruary 4 Study Group Discussion:\n\n\nHave you ever wondered how ARE questions are written? Join our study group this week to learn about the process from Marquesa Figueroa\, an Architect on the NCARB Examination Committee. \nRefreshments Provided. \nMarquesa’s Bio: \n“As a Senior Designer and Architect at Gensler\, Marquesa is deliberate in her design decisions\, ensuring alignment between concept and detail throughout the entire project. From building massing to interior design\, her innovative approach is shaped through close collaboration with partners and consultants. \nHer passion for architecture extends to professional service through Architectural Youth Programs\, Women in Sports\, AIA\, the Texas Society of Architects\, and volunteer work with the Texas School for the Blind. She currently serves on the NCARB Examination Committee and the Texas A&M University Architecture Advisory Council.” \n \n\n\n\nARE Materials Available for Check-Out\nClick Here to view the ARE Study Materials available for check-out at AIA Austin. Please email rob@aiaaustin.org to arrange and appointment to check-out your requested ARE Study Materials
URL:https://calendar.aiaaustin.org/event/are-5-0-study-group-12/
LOCATION:AIA Austin\, 801 W 12th St\, Austin\, TX\, 78701
CATEGORIES:Emerging Professionals Committee
ATTACH;FMTTYPE=image/webp:https://calendar.aiaaustin.org/wp-content/uploads/2024/12/EP-Study-Groups-1536x1536-1-e1770735660968.webp
END:VEVENT
BEGIN:VEVENT
DTSTART;TZID=America/Chicago:20260204T180000
DTEND;TZID=America/Chicago:20260204T193000
DTSTAMP:20260421T152145
CREATED:20251118T235048Z
LAST-MODIFIED:20260211T164642Z
UID:10005794-1770228000-1770233400@calendar.aiaaustin.org
SUMMARY:ARE 5.0 Study Group
DESCRIPTION:ARE 5.0 Study Group\nAre you on your path to licensure? Do you need accountability buddies? Our doors are open! Come study individually or bring a group of colleagues and study together. Come for the resources\, stay for the camaraderie. The AIA Austin office at 801 W 12th street hosts a study group on Wednesdays from 6pm – 7:30pm to study for the ARE 5.0 exams. Our study group also communicates via Discord. Please email brianna_deleon@gensler.com and cc aia.austin.ep@gmail.com for questions and inquiries.\n\n\n\n\nOnce every other month the study group will have either a guest speaker or a guided work through an exam question. This will be accompanied by Food and Drink. More details TBA.\n\nFebruary 4\nApril 1\nJune 3\nAugust 5\nOctober 7\n\n\nARE Materials Available for Check-Out\nClick Here to view the ARE Study Materials available for check-out at AIA Austin. Please email rob@aiaaustin.org to arrange and appointment to check-out your requested ARE Study Materials \n\n 
URL:https://calendar.aiaaustin.org/event/are-5-0-study-group-11-2/2026-02-04/
LOCATION:AIA Austin\, 801 W 12th St\, Austin\, TX\, 78701
CATEGORIES:Emerging Professionals Committee
ATTACH;FMTTYPE=image/webp:https://calendar.aiaaustin.org/wp-content/uploads/2024/12/EP-Study-Groups-1536x1536-1-e1770735660968.webp
END:VEVENT
END:VCALENDAR