BEGIN:VCALENDAR
VERSION:2.0
PRODID:-//AIA Austin Calendar - ECPv6.7.0//NONSGML v1.0//EN
CALSCALE:GREGORIAN
METHOD:PUBLISH
X-WR-CALNAME:AIA Austin Calendar
X-ORIGINAL-URL:https://calendar.aiaaustin.org
X-WR-CALDESC:Events for AIA Austin Calendar
REFRESH-INTERVAL;VALUE=DURATION:PT1H
X-Robots-Tag:noindex
X-PUBLISHED-TTL:PT1H
BEGIN:VTIMEZONE
TZID:America/Chicago
BEGIN:DAYLIGHT
TZOFFSETFROM:-0600
TZOFFSETTO:-0500
TZNAME:CDT
DTSTART:20250309T080000
END:DAYLIGHT
BEGIN:STANDARD
TZOFFSETFROM:-0500
TZOFFSETTO:-0600
TZNAME:CST
DTSTART:20251102T070000
END:STANDARD
END:VTIMEZONE
BEGIN:VEVENT
DTSTART;TZID=America/Chicago:20250930T170000
DTEND;TZID=America/Chicago:20250930T200000
DTSTAMP:20260421T134922
CREATED:20250319T170008Z
LAST-MODIFIED:20250908T140600Z
UID:10003136-1759251600-1759262400@calendar.aiaaustin.org
SUMMARY:Allied Member Roundtable Happy Hour
DESCRIPTION:Sponsored by Sawdust Studio\, this happy hour is open to all AIA members along with other industry professionals. There will be craft beer and wine plus hors d’oeuvres courtesy of Sawdust! We’ll tour their facility and meet their team. \nThere is no charge to attend\, but you must register in advance. Register here >>>
URL:https://calendar.aiaaustin.org/event/allied-member-roundtable-happy-hour-5/
LOCATION:Sawdust Studio\, 14510 Fitzhugh Rd Building #5\, Austin\, 78736\, United States
CATEGORIES:AIA Austin Allied Member Roundtable Committee
END:VEVENT
END:VCALENDAR