BEGIN:VCALENDAR
VERSION:2.0
PRODID:-//AIA Austin Calendar - ECPv6.7.0//NONSGML v1.0//EN
CALSCALE:GREGORIAN
METHOD:PUBLISH
X-ORIGINAL-URL:https://calendar.aiaaustin.org
X-WR-CALDESC:Events for AIA Austin Calendar
REFRESH-INTERVAL;VALUE=DURATION:PT1H
X-Robots-Tag:noindex
X-PUBLISHED-TTL:PT1H
BEGIN:VTIMEZONE
TZID:America/Chicago
BEGIN:DAYLIGHT
TZOFFSETFROM:-0600
TZOFFSETTO:-0500
TZNAME:CDT
DTSTART:20250309T080000
END:DAYLIGHT
BEGIN:STANDARD
TZOFFSETFROM:-0500
TZOFFSETTO:-0600
TZNAME:CST
DTSTART:20251102T070000
END:STANDARD
END:VTIMEZONE
BEGIN:VEVENT
DTSTART;TZID=America/Chicago:20250723T113000
DTEND;TZID=America/Chicago:20250723T123000
DTSTAMP:20260421T190226
CREATED:20250717T145820Z
LAST-MODIFIED:20250720T175938Z
UID:10003847-1753270200-1753273800@calendar.aiaaustin.org
SUMMARY:AIA Austin Emerging Professionals: Design Shine Virtual Kickoff Meeting and Q&A Info Session
DESCRIPTION:AIA Austin Emerging Professionals is excited to announce the return of Design Shine at the UMLAUF Sculpture Garden this Fall. Design Shine\, a collaboration between the UMLAUF Sculpture Garden + Museum and the AIA Austin Emerging Professionals Committee (AIA EP)\, explores innovative design and artistic creativity. Through exhibitions\, panel discussions\, design charrettes\, and competitions\, Design Shine aims to highlight the importance of outdoor community spaces and provide opportunities for young designers to showcase their talents. \nEach year participants are selected from an open call invitation to emerging professionals\, local architects\, landscape architects\, artists\, and designers to submit ideas for an art installation that can be enjoyed both day and night. The winning designs embody innovation\, aesthetic appeal\, and a deep connection to the environment. \nInterested in participating? Please attend our kick-off meeting and Q&A info session as we will discuss project goals\, the submission process\, and tips on preparing a successful application. \nWednesday\, July 23\, 11:30-12:30pm \nVirtual >> RSVP Here to Receive Zoom Link \n 
URL:https://calendar.aiaaustin.org/event/aia-austin-emerging-professionals-design-shine-design-shine-info-session-2025/
LOCATION:AIA Austin\, 801 W 12th St\, Austin\, TX\, 78701
CATEGORIES:Emerging Professionals Committee
ATTACH;FMTTYPE=image/png:https://calendar.aiaaustin.org/wp-content/uploads/2025/07/01-1080-x-1920-Long-Infosession-e1753034369116.png
END:VEVENT
BEGIN:VEVENT
DTSTART;TZID=America/Chicago:20250723T120000
DTEND;TZID=America/Chicago:20250723T120000
DTSTAMP:20260421T190227
CREATED:20250613T145102Z
LAST-MODIFIED:20250613T145316Z
UID:10003560-1753272000-1753272000@calendar.aiaaustin.org
SUMMARY:CANCELED: Urban Design Committee Meeting
DESCRIPTION:The July Urban Design meeting is replaced with the July 23 Better Cities Film Festival with CNU CTX. \nAll are welcome to the Urban Design Committee meetings. Information provided in to our mailing list. Sign up for our mailing list here! \n\nHYBRID; 4th Wednesday of each month at 12:00 PM \nThe AIA Austin Urban Design Committee aims to improve the quality of the urban environment by promoting excellence in design\, planning\, and public policy in the built environment. The Urban Design Committee\, in concert with allied community and professional groups\, promotes programs that teach and inform professionals and the public about the design and development of quality urban spaces and environments. \n2024 Chair: Jim Adams\, AIA\n2024 Chair-Elect: Susan Daniels\, AIA
URL:https://calendar.aiaaustin.org/event/urban-design-committee-meeting-6/
LOCATION:AIA Austin\, 801 W 12th St\, Austin\, TX\, 78701
CATEGORIES:Urban Design Committee
ATTACH;FMTTYPE=image/jpeg:https://calendar.aiaaustin.org/wp-content/uploads/2023/02/AIA-TEXT-urban-design-1.jpg
END:VEVENT
END:VCALENDAR