BEGIN:VCALENDAR
VERSION:2.0
PRODID:-//AIA Austin Calendar - ECPv6.7.0//NONSGML v1.0//EN
CALSCALE:GREGORIAN
METHOD:PUBLISH
X-WR-CALNAME:AIA Austin Calendar
X-ORIGINAL-URL:https://calendar.aiaaustin.org
X-WR-CALDESC:Events for AIA Austin Calendar
REFRESH-INTERVAL;VALUE=DURATION:PT1H
X-Robots-Tag:noindex
X-PUBLISHED-TTL:PT1H
BEGIN:VTIMEZONE
TZID:America/Chicago
BEGIN:DAYLIGHT
TZOFFSETFROM:-0600
TZOFFSETTO:-0500
TZNAME:CDT
DTSTART:20250309T080000
END:DAYLIGHT
BEGIN:STANDARD
TZOFFSETFROM:-0500
TZOFFSETTO:-0600
TZNAME:CST
DTSTART:20251102T070000
END:STANDARD
END:VTIMEZONE
BEGIN:VEVENT
DTSTART;TZID=America/Chicago:20250722T180000
DTEND;TZID=America/Chicago:20250722T193000
DTSTAMP:20260421T204321
CREATED:20250718T145813Z
LAST-MODIFIED:20250718T145813Z
UID:10003848-1753207200-1753212600@calendar.aiaaustin.org
SUMMARY:LGBTQIA+ Alliance x OutWellness - Building the Dream
DESCRIPTION:LGBTQIA+ Alliance x OutWellness – Building the Dream\nWhen: Tuesday\, July 22\, 6-7:30p\nWhere: OutWellness\, 211 E Alpine Rd #100\, Austin\, TX 78704 \nJoin us for an informal idea generation/sketching session with our friends at OutWellness! \nSyd Young\, owner of OutWellness\, has been cultivating a sanctuary for the queer and trans community where they offer a safe\, welcoming space for people to access health and wellness care/knowledge. The amazing community they have built is starting to outgrow their current space and they have BIG dreams for the future. The LGBTQIA+ Alliance will guide the discussion around initial feasibility\, idea generation\, and start to outline a program. \nJoin us for a collaborative evening and help us build the dream. Light drinks and snacks will be provided. No registration required!
URL:https://calendar.aiaaustin.org/event/lgbtqia-alliance-x-outwellness-building-the-dream/
CATEGORIES:LGBTQIA+ Alliance Committee
ATTACH;FMTTYPE=image/jpeg:https://calendar.aiaaustin.org/wp-content/uploads/2023/05/lgbtqia_alliance.jpg
END:VEVENT
END:VCALENDAR