BEGIN:VCALENDAR
VERSION:2.0
PRODID:-//AIA Austin Calendar - ECPv6.7.0//NONSGML v1.0//EN
CALSCALE:GREGORIAN
METHOD:PUBLISH
X-WR-CALNAME:AIA Austin Calendar
X-ORIGINAL-URL:https://calendar.aiaaustin.org
X-WR-CALDESC:Events for AIA Austin Calendar
REFRESH-INTERVAL;VALUE=DURATION:PT1H
X-Robots-Tag:noindex
X-PUBLISHED-TTL:PT1H
BEGIN:VTIMEZONE
TZID:America/Chicago
BEGIN:DAYLIGHT
TZOFFSETFROM:-0600
TZOFFSETTO:-0500
TZNAME:CDT
DTSTART:20240310T080000
END:DAYLIGHT
BEGIN:STANDARD
TZOFFSETFROM:-0500
TZOFFSETTO:-0600
TZNAME:CST
DTSTART:20241103T070000
END:STANDARD
END:VTIMEZONE
BEGIN:VEVENT
DTSTART;TZID=America/Chicago:20240212T120000
DTEND;TZID=America/Chicago:20240212T130000
DTSTAMP:20260420T091848
CREATED:20240102T204912Z
LAST-MODIFIED:20240118T193822Z
UID:10001290-1707739200-1707742800@calendar.aiaaustin.org
SUMMARY:AIA Austin Design Awards Committee Meeting
DESCRIPTION:The Design Awards Committee provides a platform to showcase excellence in design that is produced by AIA Austin architects and selected by a panel of distinguished jurors. The committee organizes and implements the annual AIA Austin Design Awards Competition and Awards Celebration. The Committee usually meets the first Monday of each month at AIA Austin\, 801 w 12th St. at noon. If you are interested in joining this committee\, please email ingrid@aiaaustin.org. \n2024 Chair: Ryan Oliason\, AIA\n2023 Chair Elect: Claudia Rodriguez\, AIA
URL:https://calendar.aiaaustin.org/event/aia-austin-design-awards-committee-meeting-2/2024-02-12/
CATEGORIES:Design Awards Committee
END:VEVENT
BEGIN:VEVENT
DTSTART;TZID=America/Chicago:20240212T173000
DTEND;TZID=America/Chicago:20240212T183000
DTSTAMP:20260420T091848
CREATED:20230710T192934Z
LAST-MODIFIED:20240208T204606Z
UID:10000747-1707759000-1707762600@calendar.aiaaustin.org
SUMMARY:Homes Tour Committee Meeting
DESCRIPTION:Homes Tour Committee meeting at AIA Austin. Email ingrid@aiaaustin.org with questions. Most committee communication occurs on Slack.
URL:https://calendar.aiaaustin.org/event/homes-tour-committee-meeting/2024-02-12/
LOCATION:Agile Interiors\, 1400 Lavaca St Suite 150\, Austin\, 78701\, United States
CATEGORIES:Committee Meeting,Homes Tour Committee
END:VEVENT
END:VCALENDAR