BEGIN:VCALENDAR
VERSION:2.0
PRODID:-//AIA Austin Calendar - ECPv6.7.0//NONSGML v1.0//EN
CALSCALE:GREGORIAN
METHOD:PUBLISH
X-ORIGINAL-URL:https://calendar.aiaaustin.org
X-WR-CALDESC:Events for AIA Austin Calendar
REFRESH-INTERVAL;VALUE=DURATION:PT1H
X-Robots-Tag:noindex
X-PUBLISHED-TTL:PT1H
BEGIN:VTIMEZONE
TZID:America/Chicago
BEGIN:DAYLIGHT
TZOFFSETFROM:-0600
TZOFFSETTO:-0500
TZNAME:CDT
DTSTART:20230312T080000
END:DAYLIGHT
BEGIN:STANDARD
TZOFFSETFROM:-0500
TZOFFSETTO:-0600
TZNAME:CST
DTSTART:20231105T070000
END:STANDARD
END:VTIMEZONE
BEGIN:VEVENT
DTSTART;TZID=America/Chicago:20230602T073000
DTEND;TZID=America/Chicago:20230602T110000
DTSTAMP:20260419T142452
CREATED:20230527T140015Z
LAST-MODIFIED:20230728T180326Z
UID:10000108-1685691000-1685703600@calendar.aiaaustin.org
SUMMARY:WiA and LGBTQIA+ Alliance Headshot Cafe
DESCRIPTION:Need a new headshot?  \nCome join us to kick off Pride Month and get your picture taken by some amazing professional photographers. Afterwards you can sip coffee and mimosas\, and have some light bites on us while you mingle with fellow Women In Architecture and LGBTQIA+ Alliance Committee members. \nHeadshots are optional – you can attend for free without getting your picture taken. Headshots are $40\, and you’ll select your time slot during registration.
URL:https://calendar.aiaaustin.org/event/wia-and-lgbtqia-alliance-headshot-cafe/
LOCATION:The Willa\, 1600 S 1st St\, texas\, 78704
CATEGORIES:LGBTQIA+ Alliance Committee
END:VEVENT
BEGIN:VEVENT
DTSTART;TZID=America/Chicago:20230602T120000
DTEND;TZID=America/Chicago:20230602T120000
DTSTAMP:20260419T142452
CREATED:20230527T144832Z
LAST-MODIFIED:20230613T232515Z
UID:10000114-1685707200-1685707200@calendar.aiaaustin.org
SUMMARY:Architecture: K-12 Meeting
DESCRIPTION:Location: Zoom meeting info will be sent to the email list. Sign up below. \nThe Architecture: K-12 committee invites the community to explore\, create and learn about the practice and value of architecture through consistent\, relevant youth and family program opportunities. If you are interested in teaching children about architecture\, we value your involvement at any level! Please join us during our regular monthly meetings\, typically on the first Friday of every month at noon. Connect with Architecture K-12: Join the our email list. (Click Committee News – Architecture K-12 to join.) \n2022 Committee Chair: Vachna Rao\, Assoc. AIA\n2022 Committee Chair-Elect: Stacey Forgas\, AIA\nAIA Austin Staff Liaison: Meredith Bossin
URL:https://calendar.aiaaustin.org/event/architecture-k-12-meeting-3-2/
CATEGORIES:Architecture: K-12 Committee
ATTACH;FMTTYPE=image/jpeg:https://calendar.aiaaustin.org/wp-content/uploads/2023/05/k-12-commmeeting.jpg
END:VEVENT
END:VCALENDAR