BEGIN:VCALENDAR
VERSION:2.0
PRODID:-//AIA Austin Calendar - ECPv6.7.0//NONSGML v1.0//EN
CALSCALE:GREGORIAN
METHOD:PUBLISH
X-ORIGINAL-URL:https://calendar.aiaaustin.org
X-WR-CALDESC:Events for AIA Austin Calendar
REFRESH-INTERVAL;VALUE=DURATION:PT1H
X-Robots-Tag:noindex
X-PUBLISHED-TTL:PT1H
BEGIN:VTIMEZONE
TZID:America/Chicago
BEGIN:DAYLIGHT
TZOFFSETFROM:-0600
TZOFFSETTO:-0500
TZNAME:CDT
DTSTART:20230312T080000
END:DAYLIGHT
BEGIN:STANDARD
TZOFFSETFROM:-0500
TZOFFSETTO:-0600
TZNAME:CST
DTSTART:20231105T070000
END:STANDARD
END:VTIMEZONE
BEGIN:VEVENT
DTSTART;TZID=America/Chicago:20230216T120000
DTEND;TZID=America/Chicago:20230216T130000
DTSTAMP:20260424T183106
CREATED:20230201T204805Z
LAST-MODIFIED:20230613T231804Z
UID:10000034-1676548800-1676552400@calendar.aiaaustin.org
SUMMARY:Small Firms Roundtable Meeting x AIA Austin Homes Tour
DESCRIPTION:Hey! Are you ready for The Tour?  \nAIA Austin will be accepting Homes Tour applications soon.  Do you think you have a chance?  Or do you just want to learn more about the process and how to create an effective submission?  Then join us February 16 for a Q&A with Emily Haydon\, AIA and Candace Wong\, AIA\, Chair and Chair-Elect of the AIA Austin Homes Tour Committee.  The goal of this meeting is to shed some light on the application process and how to best approach this amazing opportunity from the point of view of a small practice.   \nWe also have some great news to share at our meeting.  A new partnership between the AIA Austin Homes Tour and AIA Austin Women in Architecture Committee could help a lucky woman-owned practice with the AIA Austin Homes Tour application and potential things to come.
URL:https://calendar.aiaaustin.org/event/small-firms-roundtable-meeting-x-aia-austin-homes-tour-2/
CATEGORIES:Small Firms Roundtable Committee
ATTACH;FMTTYPE=image/jpeg:https://calendar.aiaaustin.org/wp-content/uploads/2023/02/ready-for-tour-feature.jpg
END:VEVENT
BEGIN:VEVENT
DTSTART;TZID=America/Chicago:20230216T173000
DTEND;TZID=America/Chicago:20230216T183000
DTSTAMP:20260424T183106
CREATED:20230206T174732Z
LAST-MODIFIED:20230206T205622Z
UID:10000008-1676568600-1676572200@calendar.aiaaustin.org
SUMMARY:COTE-Sustainability Champion Speed Dating
DESCRIPTION:Location\nIn an effort to move the local AEC industry forward in a cohesive way and create Better Buildings\, we’re holding a sustainability champion “speed dating” session open to those involved with AIA Austin Committee on the Environment (COTE)\, PHIUS Alliance Austin (PHAATX)\, Carbon Leadership Forum Austin (CLF)\, USGBC Central Texas\, International Interior Design Association Texas (IIDA)\, and BS+Beer. Come build your network of mentors and mentees and enjoy drinks and food provided by AIA Austin Committee on the Environment and PHIUS Alliance Austin.  Interested in making your projects more sustainable\, resilient\, and regenerative? Join us!   \nSpace is limited. Please register through COTE at the following link\, there is a $5 fee to reserve your spot.
URL:https://calendar.aiaaustin.org/event/cote-sustainability-champion-speed-dating/
END:VEVENT
BEGIN:VEVENT
DTSTART;TZID=America/Chicago:20230216T173000
DTEND;TZID=America/Chicago:20230216T183000
DTSTAMP:20260424T183106
CREATED:20230206T175006Z
LAST-MODIFIED:20230613T231834Z
UID:10000009-1676568600-1676572200@calendar.aiaaustin.org
SUMMARY:Latinos in Architecture Committee Meeting
DESCRIPTION:
URL:https://calendar.aiaaustin.org/event/latinos-in-architecture-committee-meeting/
CATEGORIES:Latinos in Architecture Committee
ATTACH;FMTTYPE=image/jpeg:https://calendar.aiaaustin.org/wp-content/uploads/2023/02/LiA-meet-e1771259459193.jpg
END:VEVENT
END:VCALENDAR