BEGIN:VCALENDAR
VERSION:2.0
PRODID:-//AIA Austin Calendar - ECPv6.7.0//NONSGML v1.0//EN
CALSCALE:GREGORIAN
METHOD:PUBLISH
X-ORIGINAL-URL:https://calendar.aiaaustin.org
X-WR-CALDESC:Events for AIA Austin Calendar
REFRESH-INTERVAL;VALUE=DURATION:PT1H
X-Robots-Tag:noindex
X-PUBLISHED-TTL:PT1H
BEGIN:VTIMEZONE
TZID:America/Chicago
BEGIN:DAYLIGHT
TZOFFSETFROM:-0600
TZOFFSETTO:-0500
TZNAME:CDT
DTSTART:20230312T080000
END:DAYLIGHT
BEGIN:STANDARD
TZOFFSETFROM:-0500
TZOFFSETTO:-0600
TZNAME:CST
DTSTART:20231105T070000
END:STANDARD
END:VTIMEZONE
BEGIN:VEVENT
DTSTART;TZID=America/Chicago:20230203T113000
DTEND;TZID=America/Chicago:20230203T113000
DTSTAMP:20260425T131242
CREATED:20230131T222706Z
LAST-MODIFIED:20230613T232438Z
UID:10000003-1675423800-1675423800@calendar.aiaaustin.org
SUMMARY:Air Barrier Educational Symposium w/ BEC:Austin x ABAA
DESCRIPTION:Air Barrier Educational Symposium \nHosted by BEC:Austin in collaboration with Air Barrier Association of America (ABAA)\nFebruary 3\, 12:00-5:15pm; Hybrid: in person at AIA Austin\, 801 West 12th St 78701 or on Zoom\, $75; 4.5 LU/HSW credits\, 2 GBCI credits \nChoose how you’d like to attend when you register! \nJoin us for a half-day symposium and start knocking out your HSW credits!  Doors at 11:30am with lunch/coffee/snacks provided for in-person attendees. \nCOURSES: \n\nTHROUGH WALL FLASHINGS COMPATIBILITY\, SUSTAINABILITY\, AND PERFORMANCE with Meagan Elfert\, Director of Sales\, York Flashings \nBUILDING SCIENCE with Laverne Dalgleish\, Executive Director\, Air Barrier Association of America \n“BY OTHERS” – THE ELUSIVE SUBCONTRACTOR RESPONSIBLE FOR TRANSITIONS  with Andrew Dunlap\, AIA\, CDT\, LEED AP\, NCARB\, Principal\, SmithGroup; Building Technology Studio Leader \nNEW TOOLS TO HELP DRIVE DECISIONS IN YOUR AIR BARRIER SPECIFICATIONS with Laverne Dalgleish\, Executive Director\, Air Barrier Association of America\n\nREGISTER HERE
URL:https://calendar.aiaaustin.org/event/air-barrier-educational-symposium-w-becaustin-x-abaa/
CATEGORIES:BEC: Austin Committee
END:VEVENT
BEGIN:VEVENT
DTSTART;TZID=America/Chicago:20230203T120000
DTEND;TZID=America/Chicago:20230203T120000
DTSTAMP:20260425T131242
CREATED:20230131T222913Z
LAST-MODIFIED:20230613T232516Z
UID:10000004-1675425600-1675425600@calendar.aiaaustin.org
SUMMARY:Architecture: K-12 Meeting
DESCRIPTION:Location\nZoom meeting info will be sent to the email list. Sign up below. \nArchitecture: K-12 invites the community to explore\, create and learn about the practice and value of architecture through consistent\, relevant youth and family program opportunities. If you are interested in teaching children about architecture\, we value your involvement at any level! Please join us during our regular monthly meetings\, typically on the first Friday of every month at noon. \nConnect with Architecture K-12: Join the our email list. (Click Committee News – Architecture K-12 to join.) \n2022 Committee Chair: Vachna Rao\, Assoc. AIA\n2022 Committee Chair-Elect: Stacey Forgas\, AIA\nAIA Austin Staff Liaison: Meredith Bossin
URL:https://calendar.aiaaustin.org/event/architecture-k-12-meeting/
CATEGORIES:Architecture: K-12 Committee
END:VEVENT
BEGIN:VEVENT
DTSTART;TZID=America/Chicago:20230203T120000
DTEND;TZID=America/Chicago:20230203T171500
DTSTAMP:20260425T131242
CREATED:20230119T153536Z
LAST-MODIFIED:20230219T154244Z
UID:10000047-1675425600-1675444500@calendar.aiaaustin.org
SUMMARY:Air Barrier Educational Symposium
DESCRIPTION:hosted by BEC:Austin in collaboration with ABAA \ndoors at 11:30am \nHybrid event – happening in person at AIA Austin\, 801 W 12th St\, and online via Zoom. Choose how you’d like to attend when you register!
URL:https://calendar.aiaaustin.org/event/air-barrier-educational-symposium/
ATTACH;FMTTYPE=image/jpeg:https://calendar.aiaaustin.org/wp-content/uploads/2023/01/feature-BEC-austin.jpg
END:VEVENT
END:VCALENDAR